Workbook

Sheet Kopsavilkums
A1: Gada darba laika uzskaite
A2: Vienreiz norādiet darbinieku, gadu un normālo stundu skaitu. Katru dienu reģistrējiet mēnešu lapās; stundas, virsstundu atlikums un atvaļinājuma dienas šeit apkopojas automātiski.
A4: Darbinieks | F4: Gads | H4: 2026
A5: Vadītājs | F5: Sākuma atlikums (h) | H5: 0
A6: Uzņēmums / objekts | F6: Atvaļinājuma dienas gadā
B8: 45292 | C8: 45293 | D8: 45294 | E8: 45295 | F8: 45296 | G8: 45297 | H8: 45298
A9: Normālās stundas dienā | B9: 8 | C9: 8 | D9: 8 | E9: 8 | F9: 8 | G9: 0 | H9: 0 | I9: =SUM(B9:H9)
A11: Mēnesis | B11: Nostrādātās stundas | C11: Normas stundas | D11: Mēneša atlikums | E11: Uzkrātais atlikums | F11: Atvaļinājums | G11: Slimība | H11: Cita prombūtne | I11: Nostrādātās dienas
A12: =DATE($H$4,1,1) | B12: ='Janv'!F43 | C12: ='Janv'!F47 | D12: =IF(COUNT('Janv'!I11:I41)=0,"",'Janv'!I43) | E12: ='Janv'!F51 | F12: ='Janv'!H45 | G12: ='Janv'!H46 | H12: ='Janv'!H48+'Janv'!H49 | I12: ='Janv'!F50
A13: =DATE($H$4,2,1) | B13: ='Febr'!F43 | C13: ='Febr'!F47 | D13: =IF(COUNT('Febr'!I11:I41)=0,"",'Febr'!I43) | E13: ='Febr'!F51 | F13: ='Febr'!H45 | G13: ='Febr'!H46 | H13: ='Febr'!H48+'Febr'!H49 | I13: ='Febr'!F50
A14: =DATE($H$4,3,1) | B14: ='Marts'!F43 | C14: ='Marts'!F47 | D14: =IF(COUNT('Marts'!I11:I41)=0,"",'Marts'!I43) | E14: ='Marts'!F51 | F14: ='Marts'!H45 | G14: ='Marts'!H46 | H14: ='Marts'!H48+'Marts'!H49 | I14: ='Marts'!F50
A15: =DATE($H$4,4,1) | B15: ='Apr'!F43 | C15: ='Apr'!F47 | D15: =IF(COUNT('Apr'!I11:I41)=0,"",'Apr'!I43) | E15: ='Apr'!F51 | F15: ='Apr'!H45 | G15: ='Apr'!H46 | H15: ='Apr'!H48+'Apr'!H49 | I15: ='Apr'!F50
A16: =DATE($H$4,5,1) | B16: ='Maijs'!F43 | C16: ='Maijs'!F47 | D16: =IF(COUNT('Maijs'!I11:I41)=0,"",'Maijs'!I43) | E16: ='Maijs'!F51 | F16: ='Maijs'!H45 | G16: ='Maijs'!H46 | H16: ='Maijs'!H48+'Maijs'!H49 | I16: ='Maijs'!F50
A17: =DATE($H$4,6,1) | B17: ='Jūn'!F43 | C17: ='Jūn'!F47 | D17: =IF(COUNT('Jūn'!I11:I41)=0,"",'Jūn'!I43) | E17: ='Jūn'!F51 | F17: ='Jūn'!H45 | G17: ='Jūn'!H46 | H17: ='Jūn'!H48+'Jūn'!H49 | I17: ='Jūn'!F50
A18: =DATE($H$4,7,1) | B18: ='Jūl'!F43 | C18: ='Jūl'!F47 | D18: =IF(COUNT('Jūl'!I11:I41)=0,"",'Jūl'!I43) | E18: ='Jūl'!F51 | F18: ='Jūl'!H45 | G18: ='Jūl'!H46 | H18: ='Jūl'!H48+'Jūl'!H49 | I18: ='Jūl'!F50
A19: =DATE($H$4,8,1) | B19: ='Aug'!F43 | C19: ='Aug'!F47 | D19: =IF(COUNT('Aug'!I11:I41)=0,"",'Aug'!I43) | E19: ='Aug'!F51 | F19: ='Aug'!H45 | G19: ='Aug'!H46 | H19: ='Aug'!H48+'Aug'!H49 | I19: ='Aug'!F50
A20: =DATE($H$4,9,1) | B20: ='Sept'!F43 | C20: ='Sept'!F47 | D20: =IF(COUNT('Sept'!I11:I41)=0,"",'Sept'!I43) | E20: ='Sept'!F51 | F20: ='Sept'!H45 | G20: ='Sept'!H46 | H20: ='Sept'!H48+'Sept'!H49 | I20: ='Sept'!F50
A21: =DATE($H$4,10,1) | B21: ='Okt'!F43 | C21: ='Okt'!F47 | D21: =IF(COUNT('Okt'!I11:I41)=0,"",'Okt'!I43) | E21: ='Okt'!F51 | F21: ='Okt'!H45 | G21: ='Okt'!H46 | H21: ='Okt'!H48+'Okt'!H49 | I21: ='Okt'!F50
A22: =DATE($H$4,11,1) | B22: ='Nov'!F43 | C22: ='Nov'!F47 | D22: =IF(COUNT('Nov'!I11:I41)=0,"",'Nov'!I43) | E22: ='Nov'!F51 | F22: ='Nov'!H45 | G22: ='Nov'!H46 | H22: ='Nov'!H48+'Nov'!H49 | I22: ='Nov'!F50
A23: =DATE($H$4,12,1) | B23: ='Dec'!F43 | C23: ='Dec'!F47 | D23: =IF(COUNT('Dec'!I11:I41)=0,"",'Dec'!I43) | E23: ='Dec'!F51 | F23: ='Dec'!H45 | G23: ='Dec'!H46 | H23: ='Dec'!H48+'Dec'!H49 | I23: ='Dec'!F50
A24: Gadā kopā | B24: =SUM(B12:B23) | C24: =SUM(C12:C23) | D24: =SUM(D12:D23) | E24: =E23 | F24: =SUM(F12:F23) | G24: =SUM(G12:G23) | H24: =SUM(H12:H23) | I24: =SUM(I12:I23)
A26: Atvaļinājuma atlikums
A27: Atvaļinājuma dienas gadā | D27: =N(H6)
A28: Izmantotais atvaļinājums | D28: =F24
A29: Atlikušais atvaļinājums | D29: =N(H6)-F24
A31: Bezmaksas veidne no EasyHours · easyhours.lv — reģistrējiet darba laiku telefonā vai kopīgā planšetē, nevis uz papīra.

Sheet Janv
A1: Mēneša darba laika tabele | H1: =IF(OR($H$4="",$L$13=""),"",DATE($H$4,$L$13,1)) | L1: Janvāris
L2: Februāris
L3: Marts
A4: Darbinieks | C4: =IF('Kopsavilkums'!$B$4="","",'Kopsavilkums'!$B$4) | G4: Gads | H4: ='Kopsavilkums'!$H$4 | I4: Mēnesis | J4: Janvāris | L4: Aprīlis
A5: Vadītājs | C5: =IF('Kopsavilkums'!$B$5="","",'Kopsavilkums'!$B$5) | G5: Pārnestais atlikums (h) | H5: ='Kopsavilkums'!$H$5 | L5: Maijs
A6: Uzņēmums / objekts | C6: =IF('Kopsavilkums'!$B$6="","",'Kopsavilkums'!$B$6) | L6: Jūnijs
C7: 45292 | D7: 45293 | E7: 45294 | F7: 45295 | G7: 45296 | H7: 45297 | I7: 45298 | L7: Jūlijs
A8: Normālās stundas dienā | C8: ='Kopsavilkums'!$B$9 | D8: ='Kopsavilkums'!$C$9 | E8: ='Kopsavilkums'!$D$9 | F8: ='Kopsavilkums'!$E$9 | G8: ='Kopsavilkums'!$F$9 | H8: ='Kopsavilkums'!$G$9 | I8: ='Kopsavilkums'!$H$9 | J8: =SUM(C8:I8) | L8: Augusts
L9: Septembris
A10: Datums | B10: Diena | C10: Sākums | D10: Beigas | E10: Pārtraukums (min) | F10: Nostrādāts | G10: Prombūtne | H10: Norma | I10: +/− | J10: Piezīmes | L10: Oktobris
A11: =IF(OR($H$4="",$L$13=""),"",IF(1>DAY(DATE($H$4,$L$13+1,0)),"",DATE($H$4,$L$13,1))) | B11: =IF(A11="","",A11) | F11: =IF(OR(C11="",D11=""),"",ROUND(MAX(0,MOD(D11-C11,1)*24-N(E11)/60),2)) | H11: =IF(A11="","",INDEX($C$8:$I$8,WEEKDAY(A11,2))) | I11: =IF(OR(A11="",AND(F11="",G11="")),"",N(F11)+IF(G11<>"",MAX(0,H11-N(F11)),0)-H11) | L11: Novembris
A12: =IF(OR($H$4="",$L$13=""),"",IF(2>DAY(DATE($H$4,$L$13+1,0)),"",DATE($H$4,$L$13,2))) | B12: =IF(A12="","",A12) | F12: =IF(OR(C12="",D12=""),"",ROUND(MAX(0,MOD(D12-C12,1)*24-N(E12)/60),2)) | H12: =IF(A12="","",INDEX($C$8:$I$8,WEEKDAY(A12,2))) | I12: =IF(OR(A12="",AND(F12="",G12="")),"",N(F12)+IF(G12<>"",MAX(0,H12-N(F12)),0)-H12) | L12: Decembris
A13: =IF(OR($H$4="",$L$13=""),"",IF(3>DAY(DATE($H$4,$L$13+1,0)),"",DATE($H$4,$L$13,3))) | B13: =IF(A13="","",A13) | F13: =IF(OR(C13="",D13=""),"",ROUND(MAX(0,MOD(D13-C13,1)*24-N(E13)/60),2)) | H13: =IF(A13="","",INDEX($C$8:$I$8,WEEKDAY(A13,2))) | I13: =IF(OR(A13="",AND(F13="",G13="")),"",N(F13)+IF(G13<>"",MAX(0,H13-N(F13)),0)-H13) | L13: =IF(ISNUMBER(J4),J4,IFERROR(MATCH(J4,$L$1:$L$12,0),""))
A14: =IF(OR($H$4="",$L$13=""),"",IF(4>DAY(DATE($H$4,$L$13+1,0)),"",DATE($H$4,$L$13,4))) | B14: =IF(A14="","",A14) | F14: =IF(OR(C14="",D14=""),"",ROUND(MAX(0,MOD(D14-C14,1)*24-N(E14)/60),2)) | H14: =IF(A14="","",INDEX($C$8:$I$8,WEEKDAY(A14,2))) | I14: =IF(OR(A14="",AND(F14="",G14="")),"",N(F14)+IF(G14<>"",MAX(0,H14-N(F14)),0)-H14)
A15: =IF(OR($H$4="",$L$13=""),"",IF(5>DAY(DATE($H$4,$L$13+1,0)),"",DATE($H$4,$L$13,5))) | B15: =IF(A15="","",A15) | F15: =IF(OR(C15="",D15=""),"",ROUND(MAX(0,MOD(D15-C15,1)*24-N(E15)/60),2)) | H15: =IF(A15="","",INDEX($C$8:$I$8,WEEKDAY(A15,2))) | I15: =IF(OR(A15="",AND(F15="",G15="")),"",N(F15)+IF(G15<>"",MAX(0,H15-N(F15)),0)-H15)
A16: =IF(OR($H$4="",$L$13=""),"",IF(6>DAY(DATE($H$4,$L$13+1,0)),"",DATE($H$4,$L$13,6))) | B16: =IF(A16="","",A16) | F16: =IF(OR(C16="",D16=""),"",ROUND(MAX(0,MOD(D16-C16,1)*24-N(E16)/60),2)) | H16: =IF(A16="","",INDEX($C$8:$I$8,WEEKDAY(A16,2))) | I16: =IF(OR(A16="",AND(F16="",G16="")),"",N(F16)+IF(G16<>"",MAX(0,H16-N(F16)),0)-H16)
A17: =IF(OR($H$4="",$L$13=""),"",IF(7>DAY(DATE($H$4,$L$13+1,0)),"",DATE($H$4,$L$13,7))) | B17: =IF(A17="","",A17) | F17: =IF(OR(C17="",D17=""),"",ROUND(MAX(0,MOD(D17-C17,1)*24-N(E17)/60),2)) | H17: =IF(A17="","",INDEX($C$8:$I$8,WEEKDAY(A17,2))) | I17: =IF(OR(A17="",AND(F17="",G17="")),"",N(F17)+IF(G17<>"",MAX(0,H17-N(F17)),0)-H17)
A18: =IF(OR($H$4="",$L$13=""),"",IF(8>DAY(DATE($H$4,$L$13+1,0)),"",DATE($H$4,$L$13,8))) | B18: =IF(A18="","",A18) | F18: =IF(OR(C18="",D18=""),"",ROUND(MAX(0,MOD(D18-C18,1)*24-N(E18)/60),2)) | H18: =IF(A18="","",INDEX($C$8:$I$8,WEEKDAY(A18,2))) | I18: =IF(OR(A18="",AND(F18="",G18="")),"",N(F18)+IF(G18<>"",MAX(0,H18-N(F18)),0)-H18)
A19: =IF(OR($H$4="",$L$13=""),"",IF(9>DAY(DATE($H$4,$L$13+1,0)),"",DATE($H$4,$L$13,9))) | B19: =IF(A19="","",A19) | F19: =IF(OR(C19="",D19=""),"",ROUND(MAX(0,MOD(D19-C19,1)*24-N(E19)/60),2)) | H19: =IF(A19="","",INDEX($C$8:$I$8,WEEKDAY(A19,2))) | I19: =IF(OR(A19="",AND(F19="",G19="")),"",N(F19)+IF(G19<>"",MAX(0,H19-N(F19)),0)-H19)
A20: =IF(OR($H$4="",$L$13=""),"",IF(10>DAY(DATE($H$4,$L$13+1,0)),"",DATE($H$4,$L$13,10))) | B20: =IF(A20="","",A20) | F20: =IF(OR(C20="",D20=""),"",ROUND(MAX(0,MOD(D20-C20,1)*24-N(E20)/60),2)) | H20: =IF(A20="","",INDEX($C$8:$I$8,WEEKDAY(A20,2))) | I20: =IF(OR(A20="",AND(F20="",G20="")),"",N(F20)+IF(G20<>"",MAX(0,H20-N(F20)),0)-H20)
A21: =IF(OR($H$4="",$L$13=""),"",IF(11>DAY(DATE($H$4,$L$13+1,0)),"",DATE($H$4,$L$13,11))) | B21: =IF(A21="","",A21) | F21: =IF(OR(C21="",D21=""),"",ROUND(MAX(0,MOD(D21-C21,1)*24-N(E21)/60),2)) | H21: =IF(A21="","",INDEX($C$8:$I$8,WEEKDAY(A21,2))) | I21: =IF(OR(A21="",AND(F21="",G21="")),"",N(F21)+IF(G21<>"",MAX(0,H21-N(F21)),0)-H21)
A22: =IF(OR($H$4="",$L$13=""),"",IF(12>DAY(DATE($H$4,$L$13+1,0)),"",DATE($H$4,$L$13,12))) | B22: =IF(A22="","",A22) | F22: =IF(OR(C22="",D22=""),"",ROUND(MAX(0,MOD(D22-C22,1)*24-N(E22)/60),2)) | H22: =IF(A22="","",INDEX($C$8:$I$8,WEEKDAY(A22,2))) | I22: =IF(OR(A22="",AND(F22="",G22="")),"",N(F22)+IF(G22<>"",MAX(0,H22-N(F22)),0)-H22)
A23: =IF(OR($H$4="",$L$13=""),"",IF(13>DAY(DATE($H$4,$L$13+1,0)),"",DATE($H$4,$L$13,13))) | B23: =IF(A23="","",A23) | F23: =IF(OR(C23="",D23=""),"",ROUND(MAX(0,MOD(D23-C23,1)*24-N(E23)/60),2)) | H23: =IF(A23="","",INDEX($C$8:$I$8,WEEKDAY(A23,2))) | I23: =IF(OR(A23="",AND(F23="",G23="")),"",N(F23)+IF(G23<>"",MAX(0,H23-N(F23)),0)-H23)
A24: =IF(OR($H$4="",$L$13=""),"",IF(14>DAY(DATE($H$4,$L$13+1,0)),"",DATE($H$4,$L$13,14))) | B24: =IF(A24="","",A24) | F24: =IF(OR(C24="",D24=""),"",ROUND(MAX(0,MOD(D24-C24,1)*24-N(E24)/60),2)) | H24: =IF(A24="","",INDEX($C$8:$I$8,WEEKDAY(A24,2))) | I24: =IF(OR(A24="",AND(F24="",G24="")),"",N(F24)+IF(G24<>"",MAX(0,H24-N(F24)),0)-H24)
A25: =IF(OR($H$4="",$L$13=""),"",IF(15>DAY(DATE($H$4,$L$13+1,0)),"",DATE($H$4,$L$13,15))) | B25: =IF(A25="","",A25) | F25: =IF(OR(C25="",D25=""),"",ROUND(MAX(0,MOD(D25-C25,1)*24-N(E25)/60),2)) | H25: =IF(A25="","",INDEX($C$8:$I$8,WEEKDAY(A25,2))) | I25: =IF(OR(A25="",AND(F25="",G25="")),"",N(F25)+IF(G25<>"",MAX(0,H25-N(F25)),0)-H25)
A26: =IF(OR($H$4="",$L$13=""),"",IF(16>DAY(DATE($H$4,$L$13+1,0)),"",DATE($H$4,$L$13,16))) | B26: =IF(A26="","",A26) | F26: =IF(OR(C26="",D26=""),"",ROUND(MAX(0,MOD(D26-C26,1)*24-N(E26)/60),2)) | H26: =IF(A26="","",INDEX($C$8:$I$8,WEEKDAY(A26,2))) | I26: =IF(OR(A26="",AND(F26="",G26="")),"",N(F26)+IF(G26<>"",MAX(0,H26-N(F26)),0)-H26)
A27: =IF(OR($H$4="",$L$13=""),"",IF(17>DAY(DATE($H$4,$L$13+1,0)),"",DATE($H$4,$L$13,17))) | B27: =IF(A27="","",A27) | F27: =IF(OR(C27="",D27=""),"",ROUND(MAX(0,MOD(D27-C27,1)*24-N(E27)/60),2)) | H27: =IF(A27="","",INDEX($C$8:$I$8,WEEKDAY(A27,2))) | I27: =IF(OR(A27="",AND(F27="",G27="")),"",N(F27)+IF(G27<>"",MAX(0,H27-N(F27)),0)-H27)
A28: =IF(OR($H$4="",$L$13=""),"",IF(18>DAY(DATE($H$4,$L$13+1,0)),"",DATE($H$4,$L$13,18))) | B28: =IF(A28="","",A28) | F28: =IF(OR(C28="",D28=""),"",ROUND(MAX(0,MOD(D28-C28,1)*24-N(E28)/60),2)) | H28: =IF(A28="","",INDEX($C$8:$I$8,WEEKDAY(A28,2))) | I28: =IF(OR(A28="",AND(F28="",G28="")),"",N(F28)+IF(G28<>"",MAX(0,H28-N(F28)),0)-H28)
A29: =IF(OR($H$4="",$L$13=""),"",IF(19>DAY(DATE($H$4,$L$13+1,0)),"",DATE($H$4,$L$13,19))) | B29: =IF(A29="","",A29) | F29: =IF(OR(C29="",D29=""),"",ROUND(MAX(0,MOD(D29-C29,1)*24-N(E29)/60),2)) | H29: =IF(A29="","",INDEX($C$8:$I$8,WEEKDAY(A29,2))) | I29: =IF(OR(A29="",AND(F29="",G29="")),"",N(F29)+IF(G29<>"",MAX(0,H29-N(F29)),0)-H29)
A30: =IF(OR($H$4="",$L$13=""),"",IF(20>DAY(DATE($H$4,$L$13+1,0)),"",DATE($H$4,$L$13,20))) | B30: =IF(A30="","",A30) | F30: =IF(OR(C30="",D30=""),"",ROUND(MAX(0,MOD(D30-C30,1)*24-N(E30)/60),2)) | H30: =IF(A30="","",INDEX($C$8:$I$8,WEEKDAY(A30,2))) | I30: =IF(OR(A30="",AND(F30="",G30="")),"",N(F30)+IF(G30<>"",MAX(0,H30-N(F30)),0)-H30)
A31: =IF(OR($H$4="",$L$13=""),"",IF(21>DAY(DATE($H$4,$L$13+1,0)),"",DATE($H$4,$L$13,21))) | B31: =IF(A31="","",A31) | F31: =IF(OR(C31="",D31=""),"",ROUND(MAX(0,MOD(D31-C31,1)*24-N(E31)/60),2)) | H31: =IF(A31="","",INDEX($C$8:$I$8,WEEKDAY(A31,2))) | I31: =IF(OR(A31="",AND(F31="",G31="")),"",N(F31)+IF(G31<>"",MAX(0,H31-N(F31)),0)-H31)
A32: =IF(OR($H$4="",$L$13=""),"",IF(22>DAY(DATE($H$4,$L$13+1,0)),"",DATE($H$4,$L$13,22))) | B32: =IF(A32="","",A32) | F32: =IF(OR(C32="",D32=""),"",ROUND(MAX(0,MOD(D32-C32,1)*24-N(E32)/60),2)) | H32: =IF(A32="","",INDEX($C$8:$I$8,WEEKDAY(A32,2))) | I32: =IF(OR(A32="",AND(F32="",G32="")),"",N(F32)+IF(G32<>"",MAX(0,H32-N(F32)),0)-H32)
A33: =IF(OR($H$4="",$L$13=""),"",IF(23>DAY(DATE($H$4,$L$13+1,0)),"",DATE($H$4,$L$13,23))) | B33: =IF(A33="","",A33) | F33: =IF(OR(C33="",D33=""),"",ROUND(MAX(0,MOD(D33-C33,1)*24-N(E33)/60),2)) | H33: =IF(A33="","",INDEX($C$8:$I$8,WEEKDAY(A33,2))) | I33: =IF(OR(A33="",AND(F33="",G33="")),"",N(F33)+IF(G33<>"",MAX(0,H33-N(F33)),0)-H33)
A34: =IF(OR($H$4="",$L$13=""),"",IF(24>DAY(DATE($H$4,$L$13+1,0)),"",DATE($H$4,$L$13,24))) | B34: =IF(A34="","",A34) | F34: =IF(OR(C34="",D34=""),"",ROUND(MAX(0,MOD(D34-C34,1)*24-N(E34)/60),2)) | H34: =IF(A34="","",INDEX($C$8:$I$8,WEEKDAY(A34,2))) | I34: =IF(OR(A34="",AND(F34="",G34="")),"",N(F34)+IF(G34<>"",MAX(0,H34-N(F34)),0)-H34)
A35: =IF(OR($H$4="",$L$13=""),"",IF(25>DAY(DATE($H$4,$L$13+1,0)),"",DATE($H$4,$L$13,25))) | B35: =IF(A35="","",A35) | F35: =IF(OR(C35="",D35=""),"",ROUND(MAX(0,MOD(D35-C35,1)*24-N(E35)/60),2)) | H35: =IF(A35="","",INDEX($C$8:$I$8,WEEKDAY(A35,2))) | I35: =IF(OR(A35="",AND(F35="",G35="")),"",N(F35)+IF(G35<>"",MAX(0,H35-N(F35)),0)-H35)
A36: =IF(OR($H$4="",$L$13=""),"",IF(26>DAY(DATE($H$4,$L$13+1,0)),"",DATE($H$4,$L$13,26))) | B36: =IF(A36="","",A36) | F36: =IF(OR(C36="",D36=""),"",ROUND(MAX(0,MOD(D36-C36,1)*24-N(E36)/60),2)) | H36: =IF(A36="","",INDEX($C$8:$I$8,WEEKDAY(A36,2))) | I36: =IF(OR(A36="",AND(F36="",G36="")),"",N(F36)+IF(G36<>"",MAX(0,H36-N(F36)),0)-H36)
A37: =IF(OR($H$4="",$L$13=""),"",IF(27>DAY(DATE($H$4,$L$13+1,0)),"",DATE($H$4,$L$13,27))) | B37: =IF(A37="","",A37) | F37: =IF(OR(C37="",D37=""),"",ROUND(MAX(0,MOD(D37-C37,1)*24-N(E37)/60),2)) | H37: =IF(A37="","",INDEX($C$8:$I$8,WEEKDAY(A37,2))) | I37: =IF(OR(A37="",AND(F37="",G37="")),"",N(F37)+IF(G37<>"",MAX(0,H37-N(F37)),0)-H37)
A38: =IF(OR($H$4="",$L$13=""),"",IF(28>DAY(DATE($H$4,$L$13+1,0)),"",DATE($H$4,$L$13,28))) | B38: =IF(A38="","",A38) | F38: =IF(OR(C38="",D38=""),"",ROUND(MAX(0,MOD(D38-C38,1)*24-N(E38)/60),2)) | H38: =IF(A38="","",INDEX($C$8:$I$8,WEEKDAY(A38,2))) | I38: =IF(OR(A38="",AND(F38="",G38="")),"",N(F38)+IF(G38<>"",MAX(0,H38-N(F38)),0)-H38)
A39: =IF(OR($H$4="",$L$13=""),"",IF(29>DAY(DATE($H$4,$L$13+1,0)),"",DATE($H$4,$L$13,29))) | B39: =IF(A39="","",A39) | F39: =IF(OR(C39="",D39=""),"",ROUND(MAX(0,MOD(D39-C39,1)*24-N(E39)/60),2)) | H39: =IF(A39="","",INDEX($C$8:$I$8,WEEKDAY(A39,2))) | I39: =IF(OR(A39="",AND(F39="",G39="")),"",N(F39)+IF(G39<>"",MAX(0,H39-N(F39)),0)-H39)
A40: =IF(OR($H$4="",$L$13=""),"",IF(30>DAY(DATE($H$4,$L$13+1,0)),"",DATE($H$4,$L$13,30))) | B40: =IF(A40="","",A40) | F40: =IF(OR(C40="",D40=""),"",ROUND(MAX(0,MOD(D40-C40,1)*24-N(E40)/60),2)) | H40: =IF(A40="","",INDEX($C$8:$I$8,WEEKDAY(A40,2))) | I40: =IF(OR(A40="",AND(F40="",G40="")),"",N(F40)+IF(G40<>"",MAX(0,H40-N(F40)),0)-H40)
A41: =IF(OR($H$4="",$L$13=""),"",IF(31>DAY(DATE($H$4,$L$13+1,0)),"",DATE($H$4,$L$13,31))) | B41: =IF(A41="","",A41) | F41: =IF(OR(C41="",D41=""),"",ROUND(MAX(0,MOD(D41-C41,1)*24-N(E41)/60),2)) | H41: =IF(A41="","",INDEX($C$8:$I$8,WEEKDAY(A41,2))) | I41: =IF(OR(A41="",AND(F41="",G41="")),"",N(F41)+IF(G41<>"",MAX(0,H41-N(F41)),0)-H41)
A43: Stundas kopā | F43: =SUM(F11:F41) | H43: =SUMPRODUCT(--ISNUMBER(I11:I41),H11:H41) | I43: =SUM(I11:I41)
A44: Mēneša kopsavilkums | G44: Prombūtnes dienas
A45: Nostrādātās stundas | F45: =F43 | G45: Atvaļinājums | H45: =COUNTIF($G$11:$G$41,G45)
A46: Ieskaitītās prombūtnes stundas | F46: =I43-F43+SUMPRODUCT(--ISNUMBER(I11:I41),H11:H41) | G46: Slimība | H46: =COUNTIF($G$11:$G$41,G46)
A47: Normas stundas | F47: =SUMPRODUCT(--ISNUMBER(I11:I41),H11:H41) | G47: Svētku diena | H47: =COUNTIF($G$11:$G$41,G47)
A48: Mēneša atlikums | F48: =I43 | G48: Cita apmaksāta prombūtne | H48: =COUNTIF($G$11:$G$41,G48)
A49: Pārnestais atlikums (h) | F49: =N(H5) | G49: Bezalgas atvaļinājums | H49: =COUNTIF($G$11:$G$41,G49)
A50: Nostrādātās dienas | F50: =COUNT(F11:F41)
A51: Pārnesamais atlikums | F51: =I43+N(H5)
A54: Darbinieka paraksts un datums | G54: Vadītāja paraksts un datums
A56: Bezmaksas veidne no EasyHours · easyhours.lv — reģistrējiet darba laiku telefonā vai kopīgā planšetē, nevis uz papīra.

Sheet Febr
A1: Mēneša darba laika tabele | H1: =IF(OR($H$4="",$L$13=""),"",DATE($H$4,$L$13,1)) | L1: Janvāris
L2: Februāris
L3: Marts
A4: Darbinieks | C4: =IF('Kopsavilkums'!$B$4="","",'Kopsavilkums'!$B$4) | G4: Gads | H4: ='Kopsavilkums'!$H$4 | I4: Mēnesis | J4: Februāris | L4: Aprīlis
A5: Vadītājs | C5: =IF('Kopsavilkums'!$B$5="","",'Kopsavilkums'!$B$5) | G5: Pārnestais atlikums (h) | H5: ='Janv'!$F$51 | L5: Maijs
A6: Uzņēmums / objekts | C6: =IF('Kopsavilkums'!$B$6="","",'Kopsavilkums'!$B$6) | L6: Jūnijs
C7: 45292 | D7: 45293 | E7: 45294 | F7: 45295 | G7: 45296 | H7: 45297 | I7: 45298 | L7: Jūlijs
A8: Normālās stundas dienā | C8: ='Kopsavilkums'!$B$9 | D8: ='Kopsavilkums'!$C$9 | E8: ='Kopsavilkums'!$D$9 | F8: ='Kopsavilkums'!$E$9 | G8: ='Kopsavilkums'!$F$9 | H8: ='Kopsavilkums'!$G$9 | I8: ='Kopsavilkums'!$H$9 | J8: =SUM(C8:I8) | L8: Augusts
L9: Septembris
A10: Datums | B10: Diena | C10: Sākums | D10: Beigas | E10: Pārtraukums (min) | F10: Nostrādāts | G10: Prombūtne | H10: Norma | I10: +/− | J10: Piezīmes | L10: Oktobris
A11: =IF(OR($H$4="",$L$13=""),"",IF(1>DAY(DATE($H$4,$L$13+1,0)),"",DATE($H$4,$L$13,1))) | B11: =IF(A11="","",A11) | F11: =IF(OR(C11="",D11=""),"",ROUND(MAX(0,MOD(D11-C11,1)*24-N(E11)/60),2)) | H11: =IF(A11="","",INDEX($C$8:$I$8,WEEKDAY(A11,2))) | I11: =IF(OR(A11="",AND(F11="",G11="")),"",N(F11)+IF(G11<>"",MAX(0,H11-N(F11)),0)-H11) | L11: Novembris
A12: =IF(OR($H$4="",$L$13=""),"",IF(2>DAY(DATE($H$4,$L$13+1,0)),"",DATE($H$4,$L$13,2))) | B12: =IF(A12="","",A12) | F12: =IF(OR(C12="",D12=""),"",ROUND(MAX(0,MOD(D12-C12,1)*24-N(E12)/60),2)) | H12: =IF(A12="","",INDEX($C$8:$I$8,WEEKDAY(A12,2))) | I12: =IF(OR(A12="",AND(F12="",G12="")),"",N(F12)+IF(G12<>"",MAX(0,H12-N(F12)),0)-H12) | L12: Decembris
A13: =IF(OR($H$4="",$L$13=""),"",IF(3>DAY(DATE($H$4,$L$13+1,0)),"",DATE($H$4,$L$13,3))) | B13: =IF(A13="","",A13) | F13: =IF(OR(C13="",D13=""),"",ROUND(MAX(0,MOD(D13-C13,1)*24-N(E13)/60),2)) | H13: =IF(A13="","",INDEX($C$8:$I$8,WEEKDAY(A13,2))) | I13: =IF(OR(A13="",AND(F13="",G13="")),"",N(F13)+IF(G13<>"",MAX(0,H13-N(F13)),0)-H13) | L13: =IF(ISNUMBER(J4),J4,IFERROR(MATCH(J4,$L$1:$L$12,0),""))
A14: =IF(OR($H$4="",$L$13=""),"",IF(4>DAY(DATE($H$4,$L$13+1,0)),"",DATE($H$4,$L$13,4))) | B14: =IF(A14="","",A14) | F14: =IF(OR(C14="",D14=""),"",ROUND(MAX(0,MOD(D14-C14,1)*24-N(E14)/60),2)) | H14: =IF(A14="","",INDEX($C$8:$I$8,WEEKDAY(A14,2))) | I14: =IF(OR(A14="",AND(F14="",G14="")),"",N(F14)+IF(G14<>"",MAX(0,H14-N(F14)),0)-H14)
A15: =IF(OR($H$4="",$L$13=""),"",IF(5>DAY(DATE($H$4,$L$13+1,0)),"",DATE($H$4,$L$13,5))) | B15: =IF(A15="","",A15) | F15: =IF(OR(C15="",D15=""),"",ROUND(MAX(0,MOD(D15-C15,1)*24-N(E15)/60),2)) | H15: =IF(A15="","",INDEX($C$8:$I$8,WEEKDAY(A15,2))) | I15: =IF(OR(A15="",AND(F15="",G15="")),"",N(F15)+IF(G15<>"",MAX(0,H15-N(F15)),0)-H15)
A16: =IF(OR($H$4="",$L$13=""),"",IF(6>DAY(DATE($H$4,$L$13+1,0)),"",DATE($H$4,$L$13,6))) | B16: =IF(A16="","",A16) | F16: =IF(OR(C16="",D16=""),"",ROUND(MAX(0,MOD(D16-C16,1)*24-N(E16)/60),2)) | H16: =IF(A16="","",INDEX($C$8:$I$8,WEEKDAY(A16,2))) | I16: =IF(OR(A16="",AND(F16="",G16="")),"",N(F16)+IF(G16<>"",MAX(0,H16-N(F16)),0)-H16)
A17: =IF(OR($H$4="",$L$13=""),"",IF(7>DAY(DATE($H$4,$L$13+1,0)),"",DATE($H$4,$L$13,7))) | B17: =IF(A17="","",A17) | F17: =IF(OR(C17="",D17=""),"",ROUND(MAX(0,MOD(D17-C17,1)*24-N(E17)/60),2)) | H17: =IF(A17="","",INDEX($C$8:$I$8,WEEKDAY(A17,2))) | I17: =IF(OR(A17="",AND(F17="",G17="")),"",N(F17)+IF(G17<>"",MAX(0,H17-N(F17)),0)-H17)
A18: =IF(OR($H$4="",$L$13=""),"",IF(8>DAY(DATE($H$4,$L$13+1,0)),"",DATE($H$4,$L$13,8))) | B18: =IF(A18="","",A18) | F18: =IF(OR(C18="",D18=""),"",ROUND(MAX(0,MOD(D18-C18,1)*24-N(E18)/60),2)) | H18: =IF(A18="","",INDEX($C$8:$I$8,WEEKDAY(A18,2))) | I18: =IF(OR(A18="",AND(F18="",G18="")),"",N(F18)+IF(G18<>"",MAX(0,H18-N(F18)),0)-H18)
A19: =IF(OR($H$4="",$L$13=""),"",IF(9>DAY(DATE($H$4,$L$13+1,0)),"",DATE($H$4,$L$13,9))) | B19: =IF(A19="","",A19) | F19: =IF(OR(C19="",D19=""),"",ROUND(MAX(0,MOD(D19-C19,1)*24-N(E19)/60),2)) | H19: =IF(A19="","",INDEX($C$8:$I$8,WEEKDAY(A19,2))) | I19: =IF(OR(A19="",AND(F19="",G19="")),"",N(F19)+IF(G19<>"",MAX(0,H19-N(F19)),0)-H19)
A20: =IF(OR($H$4="",$L$13=""),"",IF(10>DAY(DATE($H$4,$L$13+1,0)),"",DATE($H$4,$L$13,10))) | B20: =IF(A20="","",A20) | F20: =IF(OR(C20="",D20=""),"",ROUND(MAX(0,MOD(D20-C20,1)*24-N(E20)/60),2)) | H20: =IF(A20="","",INDEX($C$8:$I$8,WEEKDAY(A20,2))) | I20: =IF(OR(A20="",AND(F20="",G20="")),"",N(F20)+IF(G20<>"",MAX(0,H20-N(F20)),0)-H20)
A21: =IF(OR($H$4="",$L$13=""),"",IF(11>DAY(DATE($H$4,$L$13+1,0)),"",DATE($H$4,$L$13,11))) | B21: =IF(A21="","",A21) | F21: =IF(OR(C21="",D21=""),"",ROUND(MAX(0,MOD(D21-C21,1)*24-N(E21)/60),2)) | H21: =IF(A21="","",INDEX($C$8:$I$8,WEEKDAY(A21,2))) | I21: =IF(OR(A21="",AND(F21="",G21="")),"",N(F21)+IF(G21<>"",MAX(0,H21-N(F21)),0)-H21)
A22: =IF(OR($H$4="",$L$13=""),"",IF(12>DAY(DATE($H$4,$L$13+1,0)),"",DATE($H$4,$L$13,12))) | B22: =IF(A22="","",A22) | F22: =IF(OR(C22="",D22=""),"",ROUND(MAX(0,MOD(D22-C22,1)*24-N(E22)/60),2)) | H22: =IF(A22="","",INDEX($C$8:$I$8,WEEKDAY(A22,2))) | I22: =IF(OR(A22="",AND(F22="",G22="")),"",N(F22)+IF(G22<>"",MAX(0,H22-N(F22)),0)-H22)
A23: =IF(OR($H$4="",$L$13=""),"",IF(13>DAY(DATE($H$4,$L$13+1,0)),"",DATE($H$4,$L$13,13))) | B23: =IF(A23="","",A23) | F23: =IF(OR(C23="",D23=""),"",ROUND(MAX(0,MOD(D23-C23,1)*24-N(E23)/60),2)) | H23: =IF(A23="","",INDEX($C$8:$I$8,WEEKDAY(A23,2))) | I23: =IF(OR(A23="",AND(F23="",G23="")),"",N(F23)+IF(G23<>"",MAX(0,H23-N(F23)),0)-H23)
A24: =IF(OR($H$4="",$L$13=""),"",IF(14>DAY(DATE($H$4,$L$13+1,0)),"",DATE($H$4,$L$13,14))) | B24: =IF(A24="","",A24) | F24: =IF(OR(C24="",D24=""),"",ROUND(MAX(0,MOD(D24-C24,1)*24-N(E24)/60),2)) | H24: =IF(A24="","",INDEX($C$8:$I$8,WEEKDAY(A24,2))) | I24: =IF(OR(A24="",AND(F24="",G24="")),"",N(F24)+IF(G24<>"",MAX(0,H24-N(F24)),0)-H24)
A25: =IF(OR($H$4="",$L$13=""),"",IF(15>DAY(DATE($H$4,$L$13+1,0)),"",DATE($H$4,$L$13,15))) | B25: =IF(A25="","",A25) | F25: =IF(OR(C25="",D25=""),"",ROUND(MAX(0,MOD(D25-C25,1)*24-N(E25)/60),2)) | H25: =IF(A25="","",INDEX($C$8:$I$8,WEEKDAY(A25,2))) | I25: =IF(OR(A25="",AND(F25="",G25="")),"",N(F25)+IF(G25<>"",MAX(0,H25-N(F25)),0)-H25)
A26: =IF(OR($H$4="",$L$13=""),"",IF(16>DAY(DATE($H$4,$L$13+1,0)),"",DATE($H$4,$L$13,16))) | B26: =IF(A26="","",A26) | F26: =IF(OR(C26="",D26=""),"",ROUND(MAX(0,MOD(D26-C26,1)*24-N(E26)/60),2)) | H26: =IF(A26="","",INDEX($C$8:$I$8,WEEKDAY(A26,2))) | I26: =IF(OR(A26="",AND(F26="",G26="")),"",N(F26)+IF(G26<>"",MAX(0,H26-N(F26)),0)-H26)
A27: =IF(OR($H$4="",$L$13=""),"",IF(17>DAY(DATE($H$4,$L$13+1,0)),"",DATE($H$4,$L$13,17))) | B27: =IF(A27="","",A27) | F27: =IF(OR(C27="",D27=""),"",ROUND(MAX(0,MOD(D27-C27,1)*24-N(E27)/60),2)) | H27: =IF(A27="","",INDEX($C$8:$I$8,WEEKDAY(A27,2))) | I27: =IF(OR(A27="",AND(F27="",G27="")),"",N(F27)+IF(G27<>"",MAX(0,H27-N(F27)),0)-H27)
A28: =IF(OR($H$4="",$L$13=""),"",IF(18>DAY(DATE($H$4,$L$13+1,0)),"",DATE($H$4,$L$13,18))) | B28: =IF(A28="","",A28) | F28: =IF(OR(C28="",D28=""),"",ROUND(MAX(0,MOD(D28-C28,1)*24-N(E28)/60),2)) | H28: =IF(A28="","",INDEX($C$8:$I$8,WEEKDAY(A28,2))) | I28: =IF(OR(A28="",AND(F28="",G28="")),"",N(F28)+IF(G28<>"",MAX(0,H28-N(F28)),0)-H28)
A29: =IF(OR($H$4="",$L$13=""),"",IF(19>DAY(DATE($H$4,$L$13+1,0)),"",DATE($H$4,$L$13,19))) | B29: =IF(A29="","",A29) | F29: =IF(OR(C29="",D29=""),"",ROUND(MAX(0,MOD(D29-C29,1)*24-N(E29)/60),2)) | H29: =IF(A29="","",INDEX($C$8:$I$8,WEEKDAY(A29,2))) | I29: =IF(OR(A29="",AND(F29="",G29="")),"",N(F29)+IF(G29<>"",MAX(0,H29-N(F29)),0)-H29)
A30: =IF(OR($H$4="",$L$13=""),"",IF(20>DAY(DATE($H$4,$L$13+1,0)),"",DATE($H$4,$L$13,20))) | B30: =IF(A30="","",A30) | F30: =IF(OR(C30="",D30=""),"",ROUND(MAX(0,MOD(D30-C30,1)*24-N(E30)/60),2)) | H30: =IF(A30="","",INDEX($C$8:$I$8,WEEKDAY(A30,2))) | I30: =IF(OR(A30="",AND(F30="",G30="")),"",N(F30)+IF(G30<>"",MAX(0,H30-N(F30)),0)-H30)
A31: =IF(OR($H$4="",$L$13=""),"",IF(21>DAY(DATE($H$4,$L$13+1,0)),"",DATE($H$4,$L$13,21))) | B31: =IF(A31="","",A31) | F31: =IF(OR(C31="",D31=""),"",ROUND(MAX(0,MOD(D31-C31,1)*24-N(E31)/60),2)) | H31: =IF(A31="","",INDEX($C$8:$I$8,WEEKDAY(A31,2))) | I31: =IF(OR(A31="",AND(F31="",G31="")),"",N(F31)+IF(G31<>"",MAX(0,H31-N(F31)),0)-H31)
A32: =IF(OR($H$4="",$L$13=""),"",IF(22>DAY(DATE($H$4,$L$13+1,0)),"",DATE($H$4,$L$13,22))) | B32: =IF(A32="","",A32) | F32: =IF(OR(C32="",D32=""),"",ROUND(MAX(0,MOD(D32-C32,1)*24-N(E32)/60),2)) | H32: =IF(A32="","",INDEX($C$8:$I$8,WEEKDAY(A32,2))) | I32: =IF(OR(A32="",AND(F32="",G32="")),"",N(F32)+IF(G32<>"",MAX(0,H32-N(F32)),0)-H32)
A33: =IF(OR($H$4="",$L$13=""),"",IF(23>DAY(DATE($H$4,$L$13+1,0)),"",DATE($H$4,$L$13,23))) | B33: =IF(A33="","",A33) | F33: =IF(OR(C33="",D33=""),"",ROUND(MAX(0,MOD(D33-C33,1)*24-N(E33)/60),2)) | H33: =IF(A33="","",INDEX($C$8:$I$8,WEEKDAY(A33,2))) | I33: =IF(OR(A33="",AND(F33="",G33="")),"",N(F33)+IF(G33<>"",MAX(0,H33-N(F33)),0)-H33)
A34: =IF(OR($H$4="",$L$13=""),"",IF(24>DAY(DATE($H$4,$L$13+1,0)),"",DATE($H$4,$L$13,24))) | B34: =IF(A34="","",A34) | F34: =IF(OR(C34="",D34=""),"",ROUND(MAX(0,MOD(D34-C34,1)*24-N(E34)/60),2)) | H34: =IF(A34="","",INDEX($C$8:$I$8,WEEKDAY(A34,2))) | I34: =IF(OR(A34="",AND(F34="",G34="")),"",N(F34)+IF(G34<>"",MAX(0,H34-N(F34)),0)-H34)
A35: =IF(OR($H$4="",$L$13=""),"",IF(25>DAY(DATE($H$4,$L$13+1,0)),"",DATE($H$4,$L$13,25))) | B35: =IF(A35="","",A35) | F35: =IF(OR(C35="",D35=""),"",ROUND(MAX(0,MOD(D35-C35,1)*24-N(E35)/60),2)) | H35: =IF(A35="","",INDEX($C$8:$I$8,WEEKDAY(A35,2))) | I35: =IF(OR(A35="",AND(F35="",G35="")),"",N(F35)+IF(G35<>"",MAX(0,H35-N(F35)),0)-H35)
A36: =IF(OR($H$4="",$L$13=""),"",IF(26>DAY(DATE($H$4,$L$13+1,0)),"",DATE($H$4,$L$13,26))) | B36: =IF(A36="","",A36) | F36: =IF(OR(C36="",D36=""),"",ROUND(MAX(0,MOD(D36-C36,1)*24-N(E36)/60),2)) | H36: =IF(A36="","",INDEX($C$8:$I$8,WEEKDAY(A36,2))) | I36: =IF(OR(A36="",AND(F36="",G36="")),"",N(F36)+IF(G36<>"",MAX(0,H36-N(F36)),0)-H36)
A37: =IF(OR($H$4="",$L$13=""),"",IF(27>DAY(DATE($H$4,$L$13+1,0)),"",DATE($H$4,$L$13,27))) | B37: =IF(A37="","",A37) | F37: =IF(OR(C37="",D37=""),"",ROUND(MAX(0,MOD(D37-C37,1)*24-N(E37)/60),2)) | H37: =IF(A37="","",INDEX($C$8:$I$8,WEEKDAY(A37,2))) | I37: =IF(OR(A37="",AND(F37="",G37="")),"",N(F37)+IF(G37<>"",MAX(0,H37-N(F37)),0)-H37)
A38: =IF(OR($H$4="",$L$13=""),"",IF(28>DAY(DATE($H$4,$L$13+1,0)),"",DATE($H$4,$L$13,28))) | B38: =IF(A38="","",A38) | F38: =IF(OR(C38="",D38=""),"",ROUND(MAX(0,MOD(D38-C38,1)*24-N(E38)/60),2)) | H38: =IF(A38="","",INDEX($C$8:$I$8,WEEKDAY(A38,2))) | I38: =IF(OR(A38="",AND(F38="",G38="")),"",N(F38)+IF(G38<>"",MAX(0,H38-N(F38)),0)-H38)
A39: =IF(OR($H$4="",$L$13=""),"",IF(29>DAY(DATE($H$4,$L$13+1,0)),"",DATE($H$4,$L$13,29))) | B39: =IF(A39="","",A39) | F39: =IF(OR(C39="",D39=""),"",ROUND(MAX(0,MOD(D39-C39,1)*24-N(E39)/60),2)) | H39: =IF(A39="","",INDEX($C$8:$I$8,WEEKDAY(A39,2))) | I39: =IF(OR(A39="",AND(F39="",G39="")),"",N(F39)+IF(G39<>"",MAX(0,H39-N(F39)),0)-H39)
A40: =IF(OR($H$4="",$L$13=""),"",IF(30>DAY(DATE($H$4,$L$13+1,0)),"",DATE($H$4,$L$13,30))) | B40: =IF(A40="","",A40) | F40: =IF(OR(C40="",D40=""),"",ROUND(MAX(0,MOD(D40-C40,1)*24-N(E40)/60),2)) | H40: =IF(A40="","",INDEX($C$8:$I$8,WEEKDAY(A40,2))) | I40: =IF(OR(A40="",AND(F40="",G40="")),"",N(F40)+IF(G40<>"",MAX(0,H40-N(F40)),0)-H40)
A41: =IF(OR($H$4="",$L$13=""),"",IF(31>DAY(DATE($H$4,$L$13+1,0)),"",DATE($H$4,$L$13,31))) | B41: =IF(A41="","",A41) | F41: =IF(OR(C41="",D41=""),"",ROUND(MAX(0,MOD(D41-C41,1)*24-N(E41)/60),2)) | H41: =IF(A41="","",INDEX($C$8:$I$8,WEEKDAY(A41,2))) | I41: =IF(OR(A41="",AND(F41="",G41="")),"",N(F41)+IF(G41<>"",MAX(0,H41-N(F41)),0)-H41)
A43: Stundas kopā | F43: =SUM(F11:F41) | H43: =SUMPRODUCT(--ISNUMBER(I11:I41),H11:H41) | I43: =SUM(I11:I41)
A44: Mēneša kopsavilkums | G44: Prombūtnes dienas
A45: Nostrādātās stundas | F45: =F43 | G45: Atvaļinājums | H45: =COUNTIF($G$11:$G$41,G45)
A46: Ieskaitītās prombūtnes stundas | F46: =I43-F43+SUMPRODUCT(--ISNUMBER(I11:I41),H11:H41) | G46: Slimība | H46: =COUNTIF($G$11:$G$41,G46)
A47: Normas stundas | F47: =SUMPRODUCT(--ISNUMBER(I11:I41),H11:H41) | G47: Svētku diena | H47: =COUNTIF($G$11:$G$41,G47)
A48: Mēneša atlikums | F48: =I43 | G48: Cita apmaksāta prombūtne | H48: =COUNTIF($G$11:$G$41,G48)
A49: Pārnestais atlikums (h) | F49: =N(H5) | G49: Bezalgas atvaļinājums | H49: =COUNTIF($G$11:$G$41,G49)
A50: Nostrādātās dienas | F50: =COUNT(F11:F41)
A51: Pārnesamais atlikums | F51: =I43+N(H5)
A54: Darbinieka paraksts un datums | G54: Vadītāja paraksts un datums
A56: Bezmaksas veidne no EasyHours · easyhours.lv — reģistrējiet darba laiku telefonā vai kopīgā planšetē, nevis uz papīra.

Sheet Marts
A1: Mēneša darba laika tabele | H1: =IF(OR($H$4="",$L$13=""),"",DATE($H$4,$L$13,1)) | L1: Janvāris
L2: Februāris
L3: Marts
A4: Darbinieks | C4: =IF('Kopsavilkums'!$B$4="","",'Kopsavilkums'!$B$4) | G4: Gads | H4: ='Kopsavilkums'!$H$4 | I4: Mēnesis | J4: Marts | L4: Aprīlis
A5: Vadītājs | C5: =IF('Kopsavilkums'!$B$5="","",'Kopsavilkums'!$B$5) | G5: Pārnestais atlikums (h) | H5: ='Febr'!$F$51 | L5: Maijs
A6: Uzņēmums / objekts | C6: =IF('Kopsavilkums'!$B$6="","",'Kopsavilkums'!$B$6) | L6: Jūnijs
C7: 45292 | D7: 45293 | E7: 45294 | F7: 45295 | G7: 45296 | H7: 45297 | I7: 45298 | L7: Jūlijs
A8: Normālās stundas dienā | C8: ='Kopsavilkums'!$B$9 | D8: ='Kopsavilkums'!$C$9 | E8: ='Kopsavilkums'!$D$9 | F8: ='Kopsavilkums'!$E$9 | G8: ='Kopsavilkums'!$F$9 | H8: ='Kopsavilkums'!$G$9 | I8: ='Kopsavilkums'!$H$9 | J8: =SUM(C8:I8) | L8: Augusts
L9: Septembris
A10: Datums | B10: Diena | C10: Sākums | D10: Beigas | E10: Pārtraukums (min) | F10: Nostrādāts | G10: Prombūtne | H10: Norma | I10: +/− | J10: Piezīmes | L10: Oktobris
A11: =IF(OR($H$4="",$L$13=""),"",IF(1>DAY(DATE($H$4,$L$13+1,0)),"",DATE($H$4,$L$13,1))) | B11: =IF(A11="","",A11) | F11: =IF(OR(C11="",D11=""),"",ROUND(MAX(0,MOD(D11-C11,1)*24-N(E11)/60),2)) | H11: =IF(A11="","",INDEX($C$8:$I$8,WEEKDAY(A11,2))) | I11: =IF(OR(A11="",AND(F11="",G11="")),"",N(F11)+IF(G11<>"",MAX(0,H11-N(F11)),0)-H11) | L11: Novembris
A12: =IF(OR($H$4="",$L$13=""),"",IF(2>DAY(DATE($H$4,$L$13+1,0)),"",DATE($H$4,$L$13,2))) | B12: =IF(A12="","",A12) | F12: =IF(OR(C12="",D12=""),"",ROUND(MAX(0,MOD(D12-C12,1)*24-N(E12)/60),2)) | H12: =IF(A12="","",INDEX($C$8:$I$8,WEEKDAY(A12,2))) | I12: =IF(OR(A12="",AND(F12="",G12="")),"",N(F12)+IF(G12<>"",MAX(0,H12-N(F12)),0)-H12) | L12: Decembris
A13: =IF(OR($H$4="",$L$13=""),"",IF(3>DAY(DATE($H$4,$L$13+1,0)),"",DATE($H$4,$L$13,3))) | B13: =IF(A13="","",A13) | F13: =IF(OR(C13="",D13=""),"",ROUND(MAX(0,MOD(D13-C13,1)*24-N(E13)/60),2)) | H13: =IF(A13="","",INDEX($C$8:$I$8,WEEKDAY(A13,2))) | I13: =IF(OR(A13="",AND(F13="",G13="")),"",N(F13)+IF(G13<>"",MAX(0,H13-N(F13)),0)-H13) | L13: =IF(ISNUMBER(J4),J4,IFERROR(MATCH(J4,$L$1:$L$12,0),""))
A14: =IF(OR($H$4="",$L$13=""),"",IF(4>DAY(DATE($H$4,$L$13+1,0)),"",DATE($H$4,$L$13,4))) | B14: =IF(A14="","",A14) | F14: =IF(OR(C14="",D14=""),"",ROUND(MAX(0,MOD(D14-C14,1)*24-N(E14)/60),2)) | H14: =IF(A14="","",INDEX($C$8:$I$8,WEEKDAY(A14,2))) | I14: =IF(OR(A14="",AND(F14="",G14="")),"",N(F14)+IF(G14<>"",MAX(0,H14-N(F14)),0)-H14)
A15: =IF(OR($H$4="",$L$13=""),"",IF(5>DAY(DATE($H$4,$L$13+1,0)),"",DATE($H$4,$L$13,5))) | B15: =IF(A15="","",A15) | F15: =IF(OR(C15="",D15=""),"",ROUND(MAX(0,MOD(D15-C15,1)*24-N(E15)/60),2)) | H15: =IF(A15="","",INDEX($C$8:$I$8,WEEKDAY(A15,2))) | I15: =IF(OR(A15="",AND(F15="",G15="")),"",N(F15)+IF(G15<>"",MAX(0,H15-N(F15)),0)-H15)
A16: =IF(OR($H$4="",$L$13=""),"",IF(6>DAY(DATE($H$4,$L$13+1,0)),"",DATE($H$4,$L$13,6))) | B16: =IF(A16="","",A16) | F16: =IF(OR(C16="",D16=""),"",ROUND(MAX(0,MOD(D16-C16,1)*24-N(E16)/60),2)) | H16: =IF(A16="","",INDEX($C$8:$I$8,WEEKDAY(A16,2))) | I16: =IF(OR(A16="",AND(F16="",G16="")),"",N(F16)+IF(G16<>"",MAX(0,H16-N(F16)),0)-H16)
A17: =IF(OR($H$4="",$L$13=""),"",IF(7>DAY(DATE($H$4,$L$13+1,0)),"",DATE($H$4,$L$13,7))) | B17: =IF(A17="","",A17) | F17: =IF(OR(C17="",D17=""),"",ROUND(MAX(0,MOD(D17-C17,1)*24-N(E17)/60),2)) | H17: =IF(A17="","",INDEX($C$8:$I$8,WEEKDAY(A17,2))) | I17: =IF(OR(A17="",AND(F17="",G17="")),"",N(F17)+IF(G17<>"",MAX(0,H17-N(F17)),0)-H17)
A18: =IF(OR($H$4="",$L$13=""),"",IF(8>DAY(DATE($H$4,$L$13+1,0)),"",DATE($H$4,$L$13,8))) | B18: =IF(A18="","",A18) | F18: =IF(OR(C18="",D18=""),"",ROUND(MAX(0,MOD(D18-C18,1)*24-N(E18)/60),2)) | H18: =IF(A18="","",INDEX($C$8:$I$8,WEEKDAY(A18,2))) | I18: =IF(OR(A18="",AND(F18="",G18="")),"",N(F18)+IF(G18<>"",MAX(0,H18-N(F18)),0)-H18)
A19: =IF(OR($H$4="",$L$13=""),"",IF(9>DAY(DATE($H$4,$L$13+1,0)),"",DATE($H$4,$L$13,9))) | B19: =IF(A19="","",A19) | F19: =IF(OR(C19="",D19=""),"",ROUND(MAX(0,MOD(D19-C19,1)*24-N(E19)/60),2)) | H19: =IF(A19="","",INDEX($C$8:$I$8,WEEKDAY(A19,2))) | I19: =IF(OR(A19="",AND(F19="",G19="")),"",N(F19)+IF(G19<>"",MAX(0,H19-N(F19)),0)-H19)
A20: =IF(OR($H$4="",$L$13=""),"",IF(10>DAY(DATE($H$4,$L$13+1,0)),"",DATE($H$4,$L$13,10))) | B20: =IF(A20="","",A20) | F20: =IF(OR(C20="",D20=""),"",ROUND(MAX(0,MOD(D20-C20,1)*24-N(E20)/60),2)) | H20: =IF(A20="","",INDEX($C$8:$I$8,WEEKDAY(A20,2))) | I20: =IF(OR(A20="",AND(F20="",G20="")),"",N(F20)+IF(G20<>"",MAX(0,H20-N(F20)),0)-H20)
A21: =IF(OR($H$4="",$L$13=""),"",IF(11>DAY(DATE($H$4,$L$13+1,0)),"",DATE($H$4,$L$13,11))) | B21: =IF(A21="","",A21) | F21: =IF(OR(C21="",D21=""),"",ROUND(MAX(0,MOD(D21-C21,1)*24-N(E21)/60),2)) | H21: =IF(A21="","",INDEX($C$8:$I$8,WEEKDAY(A21,2))) | I21: =IF(OR(A21="",AND(F21="",G21="")),"",N(F21)+IF(G21<>"",MAX(0,H21-N(F21)),0)-H21)
A22: =IF(OR($H$4="",$L$13=""),"",IF(12>DAY(DATE($H$4,$L$13+1,0)),"",DATE($H$4,$L$13,12))) | B22: =IF(A22="","",A22) | F22: =IF(OR(C22="",D22=""),"",ROUND(MAX(0,MOD(D22-C22,1)*24-N(E22)/60),2)) | H22: =IF(A22="","",INDEX($C$8:$I$8,WEEKDAY(A22,2))) | I22: =IF(OR(A22="",AND(F22="",G22="")),"",N(F22)+IF(G22<>"",MAX(0,H22-N(F22)),0)-H22)
A23: =IF(OR($H$4="",$L$13=""),"",IF(13>DAY(DATE($H$4,$L$13+1,0)),"",DATE($H$4,$L$13,13))) | B23: =IF(A23="","",A23) | F23: =IF(OR(C23="",D23=""),"",ROUND(MAX(0,MOD(D23-C23,1)*24-N(E23)/60),2)) | H23: =IF(A23="","",INDEX($C$8:$I$8,WEEKDAY(A23,2))) | I23: =IF(OR(A23="",AND(F23="",G23="")),"",N(F23)+IF(G23<>"",MAX(0,H23-N(F23)),0)-H23)
A24: =IF(OR($H$4="",$L$13=""),"",IF(14>DAY(DATE($H$4,$L$13+1,0)),"",DATE($H$4,$L$13,14))) | B24: =IF(A24="","",A24) | F24: =IF(OR(C24="",D24=""),"",ROUND(MAX(0,MOD(D24-C24,1)*24-N(E24)/60),2)) | H24: =IF(A24="","",INDEX($C$8:$I$8,WEEKDAY(A24,2))) | I24: =IF(OR(A24="",AND(F24="",G24="")),"",N(F24)+IF(G24<>"",MAX(0,H24-N(F24)),0)-H24)
A25: =IF(OR($H$4="",$L$13=""),"",IF(15>DAY(DATE($H$4,$L$13+1,0)),"",DATE($H$4,$L$13,15))) | B25: =IF(A25="","",A25) | F25: =IF(OR(C25="",D25=""),"",ROUND(MAX(0,MOD(D25-C25,1)*24-N(E25)/60),2)) | H25: =IF(A25="","",INDEX($C$8:$I$8,WEEKDAY(A25,2))) | I25: =IF(OR(A25="",AND(F25="",G25="")),"",N(F25)+IF(G25<>"",MAX(0,H25-N(F25)),0)-H25)
A26: =IF(OR($H$4="",$L$13=""),"",IF(16>DAY(DATE($H$4,$L$13+1,0)),"",DATE($H$4,$L$13,16))) | B26: =IF(A26="","",A26) | F26: =IF(OR(C26="",D26=""),"",ROUND(MAX(0,MOD(D26-C26,1)*24-N(E26)/60),2)) | H26: =IF(A26="","",INDEX($C$8:$I$8,WEEKDAY(A26,2))) | I26: =IF(OR(A26="",AND(F26="",G26="")),"",N(F26)+IF(G26<>"",MAX(0,H26-N(F26)),0)-H26)
A27: =IF(OR($H$4="",$L$13=""),"",IF(17>DAY(DATE($H$4,$L$13+1,0)),"",DATE($H$4,$L$13,17))) | B27: =IF(A27="","",A27) | F27: =IF(OR(C27="",D27=""),"",ROUND(MAX(0,MOD(D27-C27,1)*24-N(E27)/60),2)) | H27: =IF(A27="","",INDEX($C$8:$I$8,WEEKDAY(A27,2))) | I27: =IF(OR(A27="",AND(F27="",G27="")),"",N(F27)+IF(G27<>"",MAX(0,H27-N(F27)),0)-H27)
A28: =IF(OR($H$4="",$L$13=""),"",IF(18>DAY(DATE($H$4,$L$13+1,0)),"",DATE($H$4,$L$13,18))) | B28: =IF(A28="","",A28) | F28: =IF(OR(C28="",D28=""),"",ROUND(MAX(0,MOD(D28-C28,1)*24-N(E28)/60),2)) | H28: =IF(A28="","",INDEX($C$8:$I$8,WEEKDAY(A28,2))) | I28: =IF(OR(A28="",AND(F28="",G28="")),"",N(F28)+IF(G28<>"",MAX(0,H28-N(F28)),0)-H28)
A29: =IF(OR($H$4="",$L$13=""),"",IF(19>DAY(DATE($H$4,$L$13+1,0)),"",DATE($H$4,$L$13,19))) | B29: =IF(A29="","",A29) | F29: =IF(OR(C29="",D29=""),"",ROUND(MAX(0,MOD(D29-C29,1)*24-N(E29)/60),2)) | H29: =IF(A29="","",INDEX($C$8:$I$8,WEEKDAY(A29,2))) | I29: =IF(OR(A29="",AND(F29="",G29="")),"",N(F29)+IF(G29<>"",MAX(0,H29-N(F29)),0)-H29)
A30: =IF(OR($H$4="",$L$13=""),"",IF(20>DAY(DATE($H$4,$L$13+1,0)),"",DATE($H$4,$L$13,20))) | B30: =IF(A30="","",A30) | F30: =IF(OR(C30="",D30=""),"",ROUND(MAX(0,MOD(D30-C30,1)*24-N(E30)/60),2)) | H30: =IF(A30="","",INDEX($C$8:$I$8,WEEKDAY(A30,2))) | I30: =IF(OR(A30="",AND(F30="",G30="")),"",N(F30)+IF(G30<>"",MAX(0,H30-N(F30)),0)-H30)
A31: =IF(OR($H$4="",$L$13=""),"",IF(21>DAY(DATE($H$4,$L$13+1,0)),"",DATE($H$4,$L$13,21))) | B31: =IF(A31="","",A31) | F31: =IF(OR(C31="",D31=""),"",ROUND(MAX(0,MOD(D31-C31,1)*24-N(E31)/60),2)) | H31: =IF(A31="","",INDEX($C$8:$I$8,WEEKDAY(A31,2))) | I31: =IF(OR(A31="",AND(F31="",G31="")),"",N(F31)+IF(G31<>"",MAX(0,H31-N(F31)),0)-H31)
A32: =IF(OR($H$4="",$L$13=""),"",IF(22>DAY(DATE($H$4,$L$13+1,0)),"",DATE($H$4,$L$13,22))) | B32: =IF(A32="","",A32) | F32: =IF(OR(C32="",D32=""),"",ROUND(MAX(0,MOD(D32-C32,1)*24-N(E32)/60),2)) | H32: =IF(A32="","",INDEX($C$8:$I$8,WEEKDAY(A32,2))) | I32: =IF(OR(A32="",AND(F32="",G32="")),"",N(F32)+IF(G32<>"",MAX(0,H32-N(F32)),0)-H32)
A33: =IF(OR($H$4="",$L$13=""),"",IF(23>DAY(DATE($H$4,$L$13+1,0)),"",DATE($H$4,$L$13,23))) | B33: =IF(A33="","",A33) | F33: =IF(OR(C33="",D33=""),"",ROUND(MAX(0,MOD(D33-C33,1)*24-N(E33)/60),2)) | H33: =IF(A33="","",INDEX($C$8:$I$8,WEEKDAY(A33,2))) | I33: =IF(OR(A33="",AND(F33="",G33="")),"",N(F33)+IF(G33<>"",MAX(0,H33-N(F33)),0)-H33)
A34: =IF(OR($H$4="",$L$13=""),"",IF(24>DAY(DATE($H$4,$L$13+1,0)),"",DATE($H$4,$L$13,24))) | B34: =IF(A34="","",A34) | F34: =IF(OR(C34="",D34=""),"",ROUND(MAX(0,MOD(D34-C34,1)*24-N(E34)/60),2)) | H34: =IF(A34="","",INDEX($C$8:$I$8,WEEKDAY(A34,2))) | I34: =IF(OR(A34="",AND(F34="",G34="")),"",N(F34)+IF(G34<>"",MAX(0,H34-N(F34)),0)-H34)
A35: =IF(OR($H$4="",$L$13=""),"",IF(25>DAY(DATE($H$4,$L$13+1,0)),"",DATE($H$4,$L$13,25))) | B35: =IF(A35="","",A35) | F35: =IF(OR(C35="",D35=""),"",ROUND(MAX(0,MOD(D35-C35,1)*24-N(E35)/60),2)) | H35: =IF(A35="","",INDEX($C$8:$I$8,WEEKDAY(A35,2))) | I35: =IF(OR(A35="",AND(F35="",G35="")),"",N(F35)+IF(G35<>"",MAX(0,H35-N(F35)),0)-H35)
A36: =IF(OR($H$4="",$L$13=""),"",IF(26>DAY(DATE($H$4,$L$13+1,0)),"",DATE($H$4,$L$13,26))) | B36: =IF(A36="","",A36) | F36: =IF(OR(C36="",D36=""),"",ROUND(MAX(0,MOD(D36-C36,1)*24-N(E36)/60),2)) | H36: =IF(A36="","",INDEX($C$8:$I$8,WEEKDAY(A36,2))) | I36: =IF(OR(A36="",AND(F36="",G36="")),"",N(F36)+IF(G36<>"",MAX(0,H36-N(F36)),0)-H36)
A37: =IF(OR($H$4="",$L$13=""),"",IF(27>DAY(DATE($H$4,$L$13+1,0)),"",DATE($H$4,$L$13,27))) | B37: =IF(A37="","",A37) | F37: =IF(OR(C37="",D37=""),"",ROUND(MAX(0,MOD(D37-C37,1)*24-N(E37)/60),2)) | H37: =IF(A37="","",INDEX($C$8:$I$8,WEEKDAY(A37,2))) | I37: =IF(OR(A37="",AND(F37="",G37="")),"",N(F37)+IF(G37<>"",MAX(0,H37-N(F37)),0)-H37)
A38: =IF(OR($H$4="",$L$13=""),"",IF(28>DAY(DATE($H$4,$L$13+1,0)),"",DATE($H$4,$L$13,28))) | B38: =IF(A38="","",A38) | F38: =IF(OR(C38="",D38=""),"",ROUND(MAX(0,MOD(D38-C38,1)*24-N(E38)/60),2)) | H38: =IF(A38="","",INDEX($C$8:$I$8,WEEKDAY(A38,2))) | I38: =IF(OR(A38="",AND(F38="",G38="")),"",N(F38)+IF(G38<>"",MAX(0,H38-N(F38)),0)-H38)
A39: =IF(OR($H$4="",$L$13=""),"",IF(29>DAY(DATE($H$4,$L$13+1,0)),"",DATE($H$4,$L$13,29))) | B39: =IF(A39="","",A39) | F39: =IF(OR(C39="",D39=""),"",ROUND(MAX(0,MOD(D39-C39,1)*24-N(E39)/60),2)) | H39: =IF(A39="","",INDEX($C$8:$I$8,WEEKDAY(A39,2))) | I39: =IF(OR(A39="",AND(F39="",G39="")),"",N(F39)+IF(G39<>"",MAX(0,H39-N(F39)),0)-H39)
A40: =IF(OR($H$4="",$L$13=""),"",IF(30>DAY(DATE($H$4,$L$13+1,0)),"",DATE($H$4,$L$13,30))) | B40: =IF(A40="","",A40) | F40: =IF(OR(C40="",D40=""),"",ROUND(MAX(0,MOD(D40-C40,1)*24-N(E40)/60),2)) | H40: =IF(A40="","",INDEX($C$8:$I$8,WEEKDAY(A40,2))) | I40: =IF(OR(A40="",AND(F40="",G40="")),"",N(F40)+IF(G40<>"",MAX(0,H40-N(F40)),0)-H40)
A41: =IF(OR($H$4="",$L$13=""),"",IF(31>DAY(DATE($H$4,$L$13+1,0)),"",DATE($H$4,$L$13,31))) | B41: =IF(A41="","",A41) | F41: =IF(OR(C41="",D41=""),"",ROUND(MAX(0,MOD(D41-C41,1)*24-N(E41)/60),2)) | H41: =IF(A41="","",INDEX($C$8:$I$8,WEEKDAY(A41,2))) | I41: =IF(OR(A41="",AND(F41="",G41="")),"",N(F41)+IF(G41<>"",MAX(0,H41-N(F41)),0)-H41)
A43: Stundas kopā | F43: =SUM(F11:F41) | H43: =SUMPRODUCT(--ISNUMBER(I11:I41),H11:H41) | I43: =SUM(I11:I41)
A44: Mēneša kopsavilkums | G44: Prombūtnes dienas
A45: Nostrādātās stundas | F45: =F43 | G45: Atvaļinājums | H45: =COUNTIF($G$11:$G$41,G45)
A46: Ieskaitītās prombūtnes stundas | F46: =I43-F43+SUMPRODUCT(--ISNUMBER(I11:I41),H11:H41) | G46: Slimība | H46: =COUNTIF($G$11:$G$41,G46)
A47: Normas stundas | F47: =SUMPRODUCT(--ISNUMBER(I11:I41),H11:H41) | G47: Svētku diena | H47: =COUNTIF($G$11:$G$41,G47)
A48: Mēneša atlikums | F48: =I43 | G48: Cita apmaksāta prombūtne | H48: =COUNTIF($G$11:$G$41,G48)
A49: Pārnestais atlikums (h) | F49: =N(H5) | G49: Bezalgas atvaļinājums | H49: =COUNTIF($G$11:$G$41,G49)
A50: Nostrādātās dienas | F50: =COUNT(F11:F41)
A51: Pārnesamais atlikums | F51: =I43+N(H5)
A54: Darbinieka paraksts un datums | G54: Vadītāja paraksts un datums
A56: Bezmaksas veidne no EasyHours · easyhours.lv — reģistrējiet darba laiku telefonā vai kopīgā planšetē, nevis uz papīra.

Sheet Apr
A1: Mēneša darba laika tabele | H1: =IF(OR($H$4="",$L$13=""),"",DATE($H$4,$L$13,1)) | L1: Janvāris
L2: Februāris
L3: Marts
A4: Darbinieks | C4: =IF('Kopsavilkums'!$B$4="","",'Kopsavilkums'!$B$4) | G4: Gads | H4: ='Kopsavilkums'!$H$4 | I4: Mēnesis | J4: Aprīlis | L4: Aprīlis
A5: Vadītājs | C5: =IF('Kopsavilkums'!$B$5="","",'Kopsavilkums'!$B$5) | G5: Pārnestais atlikums (h) | H5: ='Marts'!$F$51 | L5: Maijs
A6: Uzņēmums / objekts | C6: =IF('Kopsavilkums'!$B$6="","",'Kopsavilkums'!$B$6) | L6: Jūnijs
C7: 45292 | D7: 45293 | E7: 45294 | F7: 45295 | G7: 45296 | H7: 45297 | I7: 45298 | L7: Jūlijs
A8: Normālās stundas dienā | C8: ='Kopsavilkums'!$B$9 | D8: ='Kopsavilkums'!$C$9 | E8: ='Kopsavilkums'!$D$9 | F8: ='Kopsavilkums'!$E$9 | G8: ='Kopsavilkums'!$F$9 | H8: ='Kopsavilkums'!$G$9 | I8: ='Kopsavilkums'!$H$9 | J8: =SUM(C8:I8) | L8: Augusts
L9: Septembris
A10: Datums | B10: Diena | C10: Sākums | D10: Beigas | E10: Pārtraukums (min) | F10: Nostrādāts | G10: Prombūtne | H10: Norma | I10: +/− | J10: Piezīmes | L10: Oktobris
A11: =IF(OR($H$4="",$L$13=""),"",IF(1>DAY(DATE($H$4,$L$13+1,0)),"",DATE($H$4,$L$13,1))) | B11: =IF(A11="","",A11) | F11: =IF(OR(C11="",D11=""),"",ROUND(MAX(0,MOD(D11-C11,1)*24-N(E11)/60),2)) | H11: =IF(A11="","",INDEX($C$8:$I$8,WEEKDAY(A11,2))) | I11: =IF(OR(A11="",AND(F11="",G11="")),"",N(F11)+IF(G11<>"",MAX(0,H11-N(F11)),0)-H11) | L11: Novembris
A12: =IF(OR($H$4="",$L$13=""),"",IF(2>DAY(DATE($H$4,$L$13+1,0)),"",DATE($H$4,$L$13,2))) | B12: =IF(A12="","",A12) | F12: =IF(OR(C12="",D12=""),"",ROUND(MAX(0,MOD(D12-C12,1)*24-N(E12)/60),2)) | H12: =IF(A12="","",INDEX($C$8:$I$8,WEEKDAY(A12,2))) | I12: =IF(OR(A12="",AND(F12="",G12="")),"",N(F12)+IF(G12<>"",MAX(0,H12-N(F12)),0)-H12) | L12: Decembris
A13: =IF(OR($H$4="",$L$13=""),"",IF(3>DAY(DATE($H$4,$L$13+1,0)),"",DATE($H$4,$L$13,3))) | B13: =IF(A13="","",A13) | F13: =IF(OR(C13="",D13=""),"",ROUND(MAX(0,MOD(D13-C13,1)*24-N(E13)/60),2)) | H13: =IF(A13="","",INDEX($C$8:$I$8,WEEKDAY(A13,2))) | I13: =IF(OR(A13="",AND(F13="",G13="")),"",N(F13)+IF(G13<>"",MAX(0,H13-N(F13)),0)-H13) | L13: =IF(ISNUMBER(J4),J4,IFERROR(MATCH(J4,$L$1:$L$12,0),""))
A14: =IF(OR($H$4="",$L$13=""),"",IF(4>DAY(DATE($H$4,$L$13+1,0)),"",DATE($H$4,$L$13,4))) | B14: =IF(A14="","",A14) | F14: =IF(OR(C14="",D14=""),"",ROUND(MAX(0,MOD(D14-C14,1)*24-N(E14)/60),2)) | H14: =IF(A14="","",INDEX($C$8:$I$8,WEEKDAY(A14,2))) | I14: =IF(OR(A14="",AND(F14="",G14="")),"",N(F14)+IF(G14<>"",MAX(0,H14-N(F14)),0)-H14)
A15: =IF(OR($H$4="",$L$13=""),"",IF(5>DAY(DATE($H$4,$L$13+1,0)),"",DATE($H$4,$L$13,5))) | B15: =IF(A15="","",A15) | F15: =IF(OR(C15="",D15=""),"",ROUND(MAX(0,MOD(D15-C15,1)*24-N(E15)/60),2)) | H15: =IF(A15="","",INDEX($C$8:$I$8,WEEKDAY(A15,2))) | I15: =IF(OR(A15="",AND(F15="",G15="")),"",N(F15)+IF(G15<>"",MAX(0,H15-N(F15)),0)-H15)
A16: =IF(OR($H$4="",$L$13=""),"",IF(6>DAY(DATE($H$4,$L$13+1,0)),"",DATE($H$4,$L$13,6))) | B16: =IF(A16="","",A16) | F16: =IF(OR(C16="",D16=""),"",ROUND(MAX(0,MOD(D16-C16,1)*24-N(E16)/60),2)) | H16: =IF(A16="","",INDEX($C$8:$I$8,WEEKDAY(A16,2))) | I16: =IF(OR(A16="",AND(F16="",G16="")),"",N(F16)+IF(G16<>"",MAX(0,H16-N(F16)),0)-H16)
A17: =IF(OR($H$4="",$L$13=""),"",IF(7>DAY(DATE($H$4,$L$13+1,0)),"",DATE($H$4,$L$13,7))) | B17: =IF(A17="","",A17) | F17: =IF(OR(C17="",D17=""),"",ROUND(MAX(0,MOD(D17-C17,1)*24-N(E17)/60),2)) | H17: =IF(A17="","",INDEX($C$8:$I$8,WEEKDAY(A17,2))) | I17: =IF(OR(A17="",AND(F17="",G17="")),"",N(F17)+IF(G17<>"",MAX(0,H17-N(F17)),0)-H17)
A18: =IF(OR($H$4="",$L$13=""),"",IF(8>DAY(DATE($H$4,$L$13+1,0)),"",DATE($H$4,$L$13,8))) | B18: =IF(A18="","",A18) | F18: =IF(OR(C18="",D18=""),"",ROUND(MAX(0,MOD(D18-C18,1)*24-N(E18)/60),2)) | H18: =IF(A18="","",INDEX($C$8:$I$8,WEEKDAY(A18,2))) | I18: =IF(OR(A18="",AND(F18="",G18="")),"",N(F18)+IF(G18<>"",MAX(0,H18-N(F18)),0)-H18)
A19: =IF(OR($H$4="",$L$13=""),"",IF(9>DAY(DATE($H$4,$L$13+1,0)),"",DATE($H$4,$L$13,9))) | B19: =IF(A19="","",A19) | F19: =IF(OR(C19="",D19=""),"",ROUND(MAX(0,MOD(D19-C19,1)*24-N(E19)/60),2)) | H19: =IF(A19="","",INDEX($C$8:$I$8,WEEKDAY(A19,2))) | I19: =IF(OR(A19="",AND(F19="",G19="")),"",N(F19)+IF(G19<>"",MAX(0,H19-N(F19)),0)-H19)
A20: =IF(OR($H$4="",$L$13=""),"",IF(10>DAY(DATE($H$4,$L$13+1,0)),"",DATE($H$4,$L$13,10))) | B20: =IF(A20="","",A20) | F20: =IF(OR(C20="",D20=""),"",ROUND(MAX(0,MOD(D20-C20,1)*24-N(E20)/60),2)) | H20: =IF(A20="","",INDEX($C$8:$I$8,WEEKDAY(A20,2))) | I20: =IF(OR(A20="",AND(F20="",G20="")),"",N(F20)+IF(G20<>"",MAX(0,H20-N(F20)),0)-H20)
A21: =IF(OR($H$4="",$L$13=""),"",IF(11>DAY(DATE($H$4,$L$13+1,0)),"",DATE($H$4,$L$13,11))) | B21: =IF(A21="","",A21) | F21: =IF(OR(C21="",D21=""),"",ROUND(MAX(0,MOD(D21-C21,1)*24-N(E21)/60),2)) | H21: =IF(A21="","",INDEX($C$8:$I$8,WEEKDAY(A21,2))) | I21: =IF(OR(A21="",AND(F21="",G21="")),"",N(F21)+IF(G21<>"",MAX(0,H21-N(F21)),0)-H21)
A22: =IF(OR($H$4="",$L$13=""),"",IF(12>DAY(DATE($H$4,$L$13+1,0)),"",DATE($H$4,$L$13,12))) | B22: =IF(A22="","",A22) | F22: =IF(OR(C22="",D22=""),"",ROUND(MAX(0,MOD(D22-C22,1)*24-N(E22)/60),2)) | H22: =IF(A22="","",INDEX($C$8:$I$8,WEEKDAY(A22,2))) | I22: =IF(OR(A22="",AND(F22="",G22="")),"",N(F22)+IF(G22<>"",MAX(0,H22-N(F22)),0)-H22)
A23: =IF(OR($H$4="",$L$13=""),"",IF(13>DAY(DATE($H$4,$L$13+1,0)),"",DATE($H$4,$L$13,13))) | B23: =IF(A23="","",A23) | F23: =IF(OR(C23="",D23=""),"",ROUND(MAX(0,MOD(D23-C23,1)*24-N(E23)/60),2)) | H23: =IF(A23="","",INDEX($C$8:$I$8,WEEKDAY(A23,2))) | I23: =IF(OR(A23="",AND(F23="",G23="")),"",N(F23)+IF(G23<>"",MAX(0,H23-N(F23)),0)-H23)
A24: =IF(OR($H$4="",$L$13=""),"",IF(14>DAY(DATE($H$4,$L$13+1,0)),"",DATE($H$4,$L$13,14))) | B24: =IF(A24="","",A24) | F24: =IF(OR(C24="",D24=""),"",ROUND(MAX(0,MOD(D24-C24,1)*24-N(E24)/60),2)) | H24: =IF(A24="","",INDEX($C$8:$I$8,WEEKDAY(A24,2))) | I24: =IF(OR(A24="",AND(F24="",G24="")),"",N(F24)+IF(G24<>"",MAX(0,H24-N(F24)),0)-H24)
A25: =IF(OR($H$4="",$L$13=""),"",IF(15>DAY(DATE($H$4,$L$13+1,0)),"",DATE($H$4,$L$13,15))) | B25: =IF(A25="","",A25) | F25: =IF(OR(C25="",D25=""),"",ROUND(MAX(0,MOD(D25-C25,1)*24-N(E25)/60),2)) | H25: =IF(A25="","",INDEX($C$8:$I$8,WEEKDAY(A25,2))) | I25: =IF(OR(A25="",AND(F25="",G25="")),"",N(F25)+IF(G25<>"",MAX(0,H25-N(F25)),0)-H25)
A26: =IF(OR($H$4="",$L$13=""),"",IF(16>DAY(DATE($H$4,$L$13+1,0)),"",DATE($H$4,$L$13,16))) | B26: =IF(A26="","",A26) | F26: =IF(OR(C26="",D26=""),"",ROUND(MAX(0,MOD(D26-C26,1)*24-N(E26)/60),2)) | H26: =IF(A26="","",INDEX($C$8:$I$8,WEEKDAY(A26,2))) | I26: =IF(OR(A26="",AND(F26="",G26="")),"",N(F26)+IF(G26<>"",MAX(0,H26-N(F26)),0)-H26)
A27: =IF(OR($H$4="",$L$13=""),"",IF(17>DAY(DATE($H$4,$L$13+1,0)),"",DATE($H$4,$L$13,17))) | B27: =IF(A27="","",A27) | F27: =IF(OR(C27="",D27=""),"",ROUND(MAX(0,MOD(D27-C27,1)*24-N(E27)/60),2)) | H27: =IF(A27="","",INDEX($C$8:$I$8,WEEKDAY(A27,2))) | I27: =IF(OR(A27="",AND(F27="",G27="")),"",N(F27)+IF(G27<>"",MAX(0,H27-N(F27)),0)-H27)
A28: =IF(OR($H$4="",$L$13=""),"",IF(18>DAY(DATE($H$4,$L$13+1,0)),"",DATE($H$4,$L$13,18))) | B28: =IF(A28="","",A28) | F28: =IF(OR(C28="",D28=""),"",ROUND(MAX(0,MOD(D28-C28,1)*24-N(E28)/60),2)) | H28: =IF(A28="","",INDEX($C$8:$I$8,WEEKDAY(A28,2))) | I28: =IF(OR(A28="",AND(F28="",G28="")),"",N(F28)+IF(G28<>"",MAX(0,H28-N(F28)),0)-H28)
A29: =IF(OR($H$4="",$L$13=""),"",IF(19>DAY(DATE($H$4,$L$13+1,0)),"",DATE($H$4,$L$13,19))) | B29: =IF(A29="","",A29) | F29: =IF(OR(C29="",D29=""),"",ROUND(MAX(0,MOD(D29-C29,1)*24-N(E29)/60),2)) | H29: =IF(A29="","",INDEX($C$8:$I$8,WEEKDAY(A29,2))) | I29: =IF(OR(A29="",AND(F29="",G29="")),"",N(F29)+IF(G29<>"",MAX(0,H29-N(F29)),0)-H29)
A30: =IF(OR($H$4="",$L$13=""),"",IF(20>DAY(DATE($H$4,$L$13+1,0)),"",DATE($H$4,$L$13,20))) | B30: =IF(A30="","",A30) | F30: =IF(OR(C30="",D30=""),"",ROUND(MAX(0,MOD(D30-C30,1)*24-N(E30)/60),2)) | H30: =IF(A30="","",INDEX($C$8:$I$8,WEEKDAY(A30,2))) | I30: =IF(OR(A30="",AND(F30="",G30="")),"",N(F30)+IF(G30<>"",MAX(0,H30-N(F30)),0)-H30)
A31: =IF(OR($H$4="",$L$13=""),"",IF(21>DAY(DATE($H$4,$L$13+1,0)),"",DATE($H$4,$L$13,21))) | B31: =IF(A31="","",A31) | F31: =IF(OR(C31="",D31=""),"",ROUND(MAX(0,MOD(D31-C31,1)*24-N(E31)/60),2)) | H31: =IF(A31="","",INDEX($C$8:$I$8,WEEKDAY(A31,2))) | I31: =IF(OR(A31="",AND(F31="",G31="")),"",N(F31)+IF(G31<>"",MAX(0,H31-N(F31)),0)-H31)
A32: =IF(OR($H$4="",$L$13=""),"",IF(22>DAY(DATE($H$4,$L$13+1,0)),"",DATE($H$4,$L$13,22))) | B32: =IF(A32="","",A32) | F32: =IF(OR(C32="",D32=""),"",ROUND(MAX(0,MOD(D32-C32,1)*24-N(E32)/60),2)) | H32: =IF(A32="","",INDEX($C$8:$I$8,WEEKDAY(A32,2))) | I32: =IF(OR(A32="",AND(F32="",G32="")),"",N(F32)+IF(G32<>"",MAX(0,H32-N(F32)),0)-H32)
A33: =IF(OR($H$4="",$L$13=""),"",IF(23>DAY(DATE($H$4,$L$13+1,0)),"",DATE($H$4,$L$13,23))) | B33: =IF(A33="","",A33) | F33: =IF(OR(C33="",D33=""),"",ROUND(MAX(0,MOD(D33-C33,1)*24-N(E33)/60),2)) | H33: =IF(A33="","",INDEX($C$8:$I$8,WEEKDAY(A33,2))) | I33: =IF(OR(A33="",AND(F33="",G33="")),"",N(F33)+IF(G33<>"",MAX(0,H33-N(F33)),0)-H33)
A34: =IF(OR($H$4="",$L$13=""),"",IF(24>DAY(DATE($H$4,$L$13+1,0)),"",DATE($H$4,$L$13,24))) | B34: =IF(A34="","",A34) | F34: =IF(OR(C34="",D34=""),"",ROUND(MAX(0,MOD(D34-C34,1)*24-N(E34)/60),2)) | H34: =IF(A34="","",INDEX($C$8:$I$8,WEEKDAY(A34,2))) | I34: =IF(OR(A34="",AND(F34="",G34="")),"",N(F34)+IF(G34<>"",MAX(0,H34-N(F34)),0)-H34)
A35: =IF(OR($H$4="",$L$13=""),"",IF(25>DAY(DATE($H$4,$L$13+1,0)),"",DATE($H$4,$L$13,25))) | B35: =IF(A35="","",A35) | F35: =IF(OR(C35="",D35=""),"",ROUND(MAX(0,MOD(D35-C35,1)*24-N(E35)/60),2)) | H35: =IF(A35="","",INDEX($C$8:$I$8,WEEKDAY(A35,2))) | I35: =IF(OR(A35="",AND(F35="",G35="")),"",N(F35)+IF(G35<>"",MAX(0,H35-N(F35)),0)-H35)
A36: =IF(OR($H$4="",$L$13=""),"",IF(26>DAY(DATE($H$4,$L$13+1,0)),"",DATE($H$4,$L$13,26))) | B36: =IF(A36="","",A36) | F36: =IF(OR(C36="",D36=""),"",ROUND(MAX(0,MOD(D36-C36,1)*24-N(E36)/60),2)) | H36: =IF(A36="","",INDEX($C$8:$I$8,WEEKDAY(A36,2))) | I36: =IF(OR(A36="",AND(F36="",G36="")),"",N(F36)+IF(G36<>"",MAX(0,H36-N(F36)),0)-H36)
A37: =IF(OR($H$4="",$L$13=""),"",IF(27>DAY(DATE($H$4,$L$13+1,0)),"",DATE($H$4,$L$13,27))) | B37: =IF(A37="","",A37) | F37: =IF(OR(C37="",D37=""),"",ROUND(MAX(0,MOD(D37-C37,1)*24-N(E37)/60),2)) | H37: =IF(A37="","",INDEX($C$8:$I$8,WEEKDAY(A37,2))) | I37: =IF(OR(A37="",AND(F37="",G37="")),"",N(F37)+IF(G37<>"",MAX(0,H37-N(F37)),0)-H37)
A38: =IF(OR($H$4="",$L$13=""),"",IF(28>DAY(DATE($H$4,$L$13+1,0)),"",DATE($H$4,$L$13,28))) | B38: =IF(A38="","",A38) | F38: =IF(OR(C38="",D38=""),"",ROUND(MAX(0,MOD(D38-C38,1)*24-N(E38)/60),2)) | H38: =IF(A38="","",INDEX($C$8:$I$8,WEEKDAY(A38,2))) | I38: =IF(OR(A38="",AND(F38="",G38="")),"",N(F38)+IF(G38<>"",MAX(0,H38-N(F38)),0)-H38)
A39: =IF(OR($H$4="",$L$13=""),"",IF(29>DAY(DATE($H$4,$L$13+1,0)),"",DATE($H$4,$L$13,29))) | B39: =IF(A39="","",A39) | F39: =IF(OR(C39="",D39=""),"",ROUND(MAX(0,MOD(D39-C39,1)*24-N(E39)/60),2)) | H39: =IF(A39="","",INDEX($C$8:$I$8,WEEKDAY(A39,2))) | I39: =IF(OR(A39="",AND(F39="",G39="")),"",N(F39)+IF(G39<>"",MAX(0,H39-N(F39)),0)-H39)
A40: =IF(OR($H$4="",$L$13=""),"",IF(30>DAY(DATE($H$4,$L$13+1,0)),"",DATE($H$4,$L$13,30))) | B40: =IF(A40="","",A40) | F40: =IF(OR(C40="",D40=""),"",ROUND(MAX(0,MOD(D40-C40,1)*24-N(E40)/60),2)) | H40: =IF(A40="","",INDEX($C$8:$I$8,WEEKDAY(A40,2))) | I40: =IF(OR(A40="",AND(F40="",G40="")),"",N(F40)+IF(G40<>"",MAX(0,H40-N(F40)),0)-H40)
A41: =IF(OR($H$4="",$L$13=""),"",IF(31>DAY(DATE($H$4,$L$13+1,0)),"",DATE($H$4,$L$13,31))) | B41: =IF(A41="","",A41) | F41: =IF(OR(C41="",D41=""),"",ROUND(MAX(0,MOD(D41-C41,1)*24-N(E41)/60),2)) | H41: =IF(A41="","",INDEX($C$8:$I$8,WEEKDAY(A41,2))) | I41: =IF(OR(A41="",AND(F41="",G41="")),"",N(F41)+IF(G41<>"",MAX(0,H41-N(F41)),0)-H41)
A43: Stundas kopā | F43: =SUM(F11:F41) | H43: =SUMPRODUCT(--ISNUMBER(I11:I41),H11:H41) | I43: =SUM(I11:I41)
A44: Mēneša kopsavilkums | G44: Prombūtnes dienas
A45: Nostrādātās stundas | F45: =F43 | G45: Atvaļinājums | H45: =COUNTIF($G$11:$G$41,G45)
A46: Ieskaitītās prombūtnes stundas | F46: =I43-F43+SUMPRODUCT(--ISNUMBER(I11:I41),H11:H41) | G46: Slimība | H46: =COUNTIF($G$11:$G$41,G46)
A47: Normas stundas | F47: =SUMPRODUCT(--ISNUMBER(I11:I41),H11:H41) | G47: Svētku diena | H47: =COUNTIF($G$11:$G$41,G47)
A48: Mēneša atlikums | F48: =I43 | G48: Cita apmaksāta prombūtne | H48: =COUNTIF($G$11:$G$41,G48)
A49: Pārnestais atlikums (h) | F49: =N(H5) | G49: Bezalgas atvaļinājums | H49: =COUNTIF($G$11:$G$41,G49)
A50: Nostrādātās dienas | F50: =COUNT(F11:F41)
A51: Pārnesamais atlikums | F51: =I43+N(H5)
A54: Darbinieka paraksts un datums | G54: Vadītāja paraksts un datums
A56: Bezmaksas veidne no EasyHours · easyhours.lv — reģistrējiet darba laiku telefonā vai kopīgā planšetē, nevis uz papīra.

Sheet Maijs
A1: Mēneša darba laika tabele | H1: =IF(OR($H$4="",$L$13=""),"",DATE($H$4,$L$13,1)) | L1: Janvāris
L2: Februāris
L3: Marts
A4: Darbinieks | C4: =IF('Kopsavilkums'!$B$4="","",'Kopsavilkums'!$B$4) | G4: Gads | H4: ='Kopsavilkums'!$H$4 | I4: Mēnesis | J4: Maijs | L4: Aprīlis
A5: Vadītājs | C5: =IF('Kopsavilkums'!$B$5="","",'Kopsavilkums'!$B$5) | G5: Pārnestais atlikums (h) | H5: ='Apr'!$F$51 | L5: Maijs
A6: Uzņēmums / objekts | C6: =IF('Kopsavilkums'!$B$6="","",'Kopsavilkums'!$B$6) | L6: Jūnijs
C7: 45292 | D7: 45293 | E7: 45294 | F7: 45295 | G7: 45296 | H7: 45297 | I7: 45298 | L7: Jūlijs
A8: Normālās stundas dienā | C8: ='Kopsavilkums'!$B$9 | D8: ='Kopsavilkums'!$C$9 | E8: ='Kopsavilkums'!$D$9 | F8: ='Kopsavilkums'!$E$9 | G8: ='Kopsavilkums'!$F$9 | H8: ='Kopsavilkums'!$G$9 | I8: ='Kopsavilkums'!$H$9 | J8: =SUM(C8:I8) | L8: Augusts
L9: Septembris
A10: Datums | B10: Diena | C10: Sākums | D10: Beigas | E10: Pārtraukums (min) | F10: Nostrādāts | G10: Prombūtne | H10: Norma | I10: +/− | J10: Piezīmes | L10: Oktobris
A11: =IF(OR($H$4="",$L$13=""),"",IF(1>DAY(DATE($H$4,$L$13+1,0)),"",DATE($H$4,$L$13,1))) | B11: =IF(A11="","",A11) | F11: =IF(OR(C11="",D11=""),"",ROUND(MAX(0,MOD(D11-C11,1)*24-N(E11)/60),2)) | H11: =IF(A11="","",INDEX($C$8:$I$8,WEEKDAY(A11,2))) | I11: =IF(OR(A11="",AND(F11="",G11="")),"",N(F11)+IF(G11<>"",MAX(0,H11-N(F11)),0)-H11) | L11: Novembris
A12: =IF(OR($H$4="",$L$13=""),"",IF(2>DAY(DATE($H$4,$L$13+1,0)),"",DATE($H$4,$L$13,2))) | B12: =IF(A12="","",A12) | F12: =IF(OR(C12="",D12=""),"",ROUND(MAX(0,MOD(D12-C12,1)*24-N(E12)/60),2)) | H12: =IF(A12="","",INDEX($C$8:$I$8,WEEKDAY(A12,2))) | I12: =IF(OR(A12="",AND(F12="",G12="")),"",N(F12)+IF(G12<>"",MAX(0,H12-N(F12)),0)-H12) | L12: Decembris
A13: =IF(OR($H$4="",$L$13=""),"",IF(3>DAY(DATE($H$4,$L$13+1,0)),"",DATE($H$4,$L$13,3))) | B13: =IF(A13="","",A13) | F13: =IF(OR(C13="",D13=""),"",ROUND(MAX(0,MOD(D13-C13,1)*24-N(E13)/60),2)) | H13: =IF(A13="","",INDEX($C$8:$I$8,WEEKDAY(A13,2))) | I13: =IF(OR(A13="",AND(F13="",G13="")),"",N(F13)+IF(G13<>"",MAX(0,H13-N(F13)),0)-H13) | L13: =IF(ISNUMBER(J4),J4,IFERROR(MATCH(J4,$L$1:$L$12,0),""))
A14: =IF(OR($H$4="",$L$13=""),"",IF(4>DAY(DATE($H$4,$L$13+1,0)),"",DATE($H$4,$L$13,4))) | B14: =IF(A14="","",A14) | F14: =IF(OR(C14="",D14=""),"",ROUND(MAX(0,MOD(D14-C14,1)*24-N(E14)/60),2)) | H14: =IF(A14="","",INDEX($C$8:$I$8,WEEKDAY(A14,2))) | I14: =IF(OR(A14="",AND(F14="",G14="")),"",N(F14)+IF(G14<>"",MAX(0,H14-N(F14)),0)-H14)
A15: =IF(OR($H$4="",$L$13=""),"",IF(5>DAY(DATE($H$4,$L$13+1,0)),"",DATE($H$4,$L$13,5))) | B15: =IF(A15="","",A15) | F15: =IF(OR(C15="",D15=""),"",ROUND(MAX(0,MOD(D15-C15,1)*24-N(E15)/60),2)) | H15: =IF(A15="","",INDEX($C$8:$I$8,WEEKDAY(A15,2))) | I15: =IF(OR(A15="",AND(F15="",G15="")),"",N(F15)+IF(G15<>"",MAX(0,H15-N(F15)),0)-H15)
A16: =IF(OR($H$4="",$L$13=""),"",IF(6>DAY(DATE($H$4,$L$13+1,0)),"",DATE($H$4,$L$13,6))) | B16: =IF(A16="","",A16) | F16: =IF(OR(C16="",D16=""),"",ROUND(MAX(0,MOD(D16-C16,1)*24-N(E16)/60),2)) | H16: =IF(A16="","",INDEX($C$8:$I$8,WEEKDAY(A16,2))) | I16: =IF(OR(A16="",AND(F16="",G16="")),"",N(F16)+IF(G16<>"",MAX(0,H16-N(F16)),0)-H16)
A17: =IF(OR($H$4="",$L$13=""),"",IF(7>DAY(DATE($H$4,$L$13+1,0)),"",DATE($H$4,$L$13,7))) | B17: =IF(A17="","",A17) | F17: =IF(OR(C17="",D17=""),"",ROUND(MAX(0,MOD(D17-C17,1)*24-N(E17)/60),2)) | H17: =IF(A17="","",INDEX($C$8:$I$8,WEEKDAY(A17,2))) | I17: =IF(OR(A17="",AND(F17="",G17="")),"",N(F17)+IF(G17<>"",MAX(0,H17-N(F17)),0)-H17)
A18: =IF(OR($H$4="",$L$13=""),"",IF(8>DAY(DATE($H$4,$L$13+1,0)),"",DATE($H$4,$L$13,8))) | B18: =IF(A18="","",A18) | F18: =IF(OR(C18="",D18=""),"",ROUND(MAX(0,MOD(D18-C18,1)*24-N(E18)/60),2)) | H18: =IF(A18="","",INDEX($C$8:$I$8,WEEKDAY(A18,2))) | I18: =IF(OR(A18="",AND(F18="",G18="")),"",N(F18)+IF(G18<>"",MAX(0,H18-N(F18)),0)-H18)
A19: =IF(OR($H$4="",$L$13=""),"",IF(9>DAY(DATE($H$4,$L$13+1,0)),"",DATE($H$4,$L$13,9))) | B19: =IF(A19="","",A19) | F19: =IF(OR(C19="",D19=""),"",ROUND(MAX(0,MOD(D19-C19,1)*24-N(E19)/60),2)) | H19: =IF(A19="","",INDEX($C$8:$I$8,WEEKDAY(A19,2))) | I19: =IF(OR(A19="",AND(F19="",G19="")),"",N(F19)+IF(G19<>"",MAX(0,H19-N(F19)),0)-H19)
A20: =IF(OR($H$4="",$L$13=""),"",IF(10>DAY(DATE($H$4,$L$13+1,0)),"",DATE($H$4,$L$13,10))) | B20: =IF(A20="","",A20) | F20: =IF(OR(C20="",D20=""),"",ROUND(MAX(0,MOD(D20-C20,1)*24-N(E20)/60),2)) | H20: =IF(A20="","",INDEX($C$8:$I$8,WEEKDAY(A20,2))) | I20: =IF(OR(A20="",AND(F20="",G20="")),"",N(F20)+IF(G20<>"",MAX(0,H20-N(F20)),0)-H20)
A21: =IF(OR($H$4="",$L$13=""),"",IF(11>DAY(DATE($H$4,$L$13+1,0)),"",DATE($H$4,$L$13,11))) | B21: =IF(A21="","",A21) | F21: =IF(OR(C21="",D21=""),"",ROUND(MAX(0,MOD(D21-C21,1)*24-N(E21)/60),2)) | H21: =IF(A21="","",INDEX($C$8:$I$8,WEEKDAY(A21,2))) | I21: =IF(OR(A21="",AND(F21="",G21="")),"",N(F21)+IF(G21<>"",MAX(0,H21-N(F21)),0)-H21)
A22: =IF(OR($H$4="",$L$13=""),"",IF(12>DAY(DATE($H$4,$L$13+1,0)),"",DATE($H$4,$L$13,12))) | B22: =IF(A22="","",A22) | F22: =IF(OR(C22="",D22=""),"",ROUND(MAX(0,MOD(D22-C22,1)*24-N(E22)/60),2)) | H22: =IF(A22="","",INDEX($C$8:$I$8,WEEKDAY(A22,2))) | I22: =IF(OR(A22="",AND(F22="",G22="")),"",N(F22)+IF(G22<>"",MAX(0,H22-N(F22)),0)-H22)
A23: =IF(OR($H$4="",$L$13=""),"",IF(13>DAY(DATE($H$4,$L$13+1,0)),"",DATE($H$4,$L$13,13))) | B23: =IF(A23="","",A23) | F23: =IF(OR(C23="",D23=""),"",ROUND(MAX(0,MOD(D23-C23,1)*24-N(E23)/60),2)) | H23: =IF(A23="","",INDEX($C$8:$I$8,WEEKDAY(A23,2))) | I23: =IF(OR(A23="",AND(F23="",G23="")),"",N(F23)+IF(G23<>"",MAX(0,H23-N(F23)),0)-H23)
A24: =IF(OR($H$4="",$L$13=""),"",IF(14>DAY(DATE($H$4,$L$13+1,0)),"",DATE($H$4,$L$13,14))) | B24: =IF(A24="","",A24) | F24: =IF(OR(C24="",D24=""),"",ROUND(MAX(0,MOD(D24-C24,1)*24-N(E24)/60),2)) | H24: =IF(A24="","",INDEX($C$8:$I$8,WEEKDAY(A24,2))) | I24: =IF(OR(A24="",AND(F24="",G24="")),"",N(F24)+IF(G24<>"",MAX(0,H24-N(F24)),0)-H24)
A25: =IF(OR($H$4="",$L$13=""),"",IF(15>DAY(DATE($H$4,$L$13+1,0)),"",DATE($H$4,$L$13,15))) | B25: =IF(A25="","",A25) | F25: =IF(OR(C25="",D25=""),"",ROUND(MAX(0,MOD(D25-C25,1)*24-N(E25)/60),2)) | H25: =IF(A25="","",INDEX($C$8:$I$8,WEEKDAY(A25,2))) | I25: =IF(OR(A25="",AND(F25="",G25="")),"",N(F25)+IF(G25<>"",MAX(0,H25-N(F25)),0)-H25)
A26: =IF(OR($H$4="",$L$13=""),"",IF(16>DAY(DATE($H$4,$L$13+1,0)),"",DATE($H$4,$L$13,16))) | B26: =IF(A26="","",A26) | F26: =IF(OR(C26="",D26=""),"",ROUND(MAX(0,MOD(D26-C26,1)*24-N(E26)/60),2)) | H26: =IF(A26="","",INDEX($C$8:$I$8,WEEKDAY(A26,2))) | I26: =IF(OR(A26="",AND(F26="",G26="")),"",N(F26)+IF(G26<>"",MAX(0,H26-N(F26)),0)-H26)
A27: =IF(OR($H$4="",$L$13=""),"",IF(17>DAY(DATE($H$4,$L$13+1,0)),"",DATE($H$4,$L$13,17))) | B27: =IF(A27="","",A27) | F27: =IF(OR(C27="",D27=""),"",ROUND(MAX(0,MOD(D27-C27,1)*24-N(E27)/60),2)) | H27: =IF(A27="","",INDEX($C$8:$I$8,WEEKDAY(A27,2))) | I27: =IF(OR(A27="",AND(F27="",G27="")),"",N(F27)+IF(G27<>"",MAX(0,H27-N(F27)),0)-H27)
A28: =IF(OR($H$4="",$L$13=""),"",IF(18>DAY(DATE($H$4,$L$13+1,0)),"",DATE($H$4,$L$13,18))) | B28: =IF(A28="","",A28) | F28: =IF(OR(C28="",D28=""),"",ROUND(MAX(0,MOD(D28-C28,1)*24-N(E28)/60),2)) | H28: =IF(A28="","",INDEX($C$8:$I$8,WEEKDAY(A28,2))) | I28: =IF(OR(A28="",AND(F28="",G28="")),"",N(F28)+IF(G28<>"",MAX(0,H28-N(F28)),0)-H28)
A29: =IF(OR($H$4="",$L$13=""),"",IF(19>DAY(DATE($H$4,$L$13+1,0)),"",DATE($H$4,$L$13,19))) | B29: =IF(A29="","",A29) | F29: =IF(OR(C29="",D29=""),"",ROUND(MAX(0,MOD(D29-C29,1)*24-N(E29)/60),2)) | H29: =IF(A29="","",INDEX($C$8:$I$8,WEEKDAY(A29,2))) | I29: =IF(OR(A29="",AND(F29="",G29="")),"",N(F29)+IF(G29<>"",MAX(0,H29-N(F29)),0)-H29)
A30: =IF(OR($H$4="",$L$13=""),"",IF(20>DAY(DATE($H$4,$L$13+1,0)),"",DATE($H$4,$L$13,20))) | B30: =IF(A30="","",A30) | F30: =IF(OR(C30="",D30=""),"",ROUND(MAX(0,MOD(D30-C30,1)*24-N(E30)/60),2)) | H30: =IF(A30="","",INDEX($C$8:$I$8,WEEKDAY(A30,2))) | I30: =IF(OR(A30="",AND(F30="",G30="")),"",N(F30)+IF(G30<>"",MAX(0,H30-N(F30)),0)-H30)
A31: =IF(OR($H$4="",$L$13=""),"",IF(21>DAY(DATE($H$4,$L$13+1,0)),"",DATE($H$4,$L$13,21))) | B31: =IF(A31="","",A31) | F31: =IF(OR(C31="",D31=""),"",ROUND(MAX(0,MOD(D31-C31,1)*24-N(E31)/60),2)) | H31: =IF(A31="","",INDEX($C$8:$I$8,WEEKDAY(A31,2))) | I31: =IF(OR(A31="",AND(F31="",G31="")),"",N(F31)+IF(G31<>"",MAX(0,H31-N(F31)),0)-H31)
A32: =IF(OR($H$4="",$L$13=""),"",IF(22>DAY(DATE($H$4,$L$13+1,0)),"",DATE($H$4,$L$13,22))) | B32: =IF(A32="","",A32) | F32: =IF(OR(C32="",D32=""),"",ROUND(MAX(0,MOD(D32-C32,1)*24-N(E32)/60),2)) | H32: =IF(A32="","",INDEX($C$8:$I$8,WEEKDAY(A32,2))) | I32: =IF(OR(A32="",AND(F32="",G32="")),"",N(F32)+IF(G32<>"",MAX(0,H32-N(F32)),0)-H32)
A33: =IF(OR($H$4="",$L$13=""),"",IF(23>DAY(DATE($H$4,$L$13+1,0)),"",DATE($H$4,$L$13,23))) | B33: =IF(A33="","",A33) | F33: =IF(OR(C33="",D33=""),"",ROUND(MAX(0,MOD(D33-C33,1)*24-N(E33)/60),2)) | H33: =IF(A33="","",INDEX($C$8:$I$8,WEEKDAY(A33,2))) | I33: =IF(OR(A33="",AND(F33="",G33="")),"",N(F33)+IF(G33<>"",MAX(0,H33-N(F33)),0)-H33)
A34: =IF(OR($H$4="",$L$13=""),"",IF(24>DAY(DATE($H$4,$L$13+1,0)),"",DATE($H$4,$L$13,24))) | B34: =IF(A34="","",A34) | F34: =IF(OR(C34="",D34=""),"",ROUND(MAX(0,MOD(D34-C34,1)*24-N(E34)/60),2)) | H34: =IF(A34="","",INDEX($C$8:$I$8,WEEKDAY(A34,2))) | I34: =IF(OR(A34="",AND(F34="",G34="")),"",N(F34)+IF(G34<>"",MAX(0,H34-N(F34)),0)-H34)
A35: =IF(OR($H$4="",$L$13=""),"",IF(25>DAY(DATE($H$4,$L$13+1,0)),"",DATE($H$4,$L$13,25))) | B35: =IF(A35="","",A35) | F35: =IF(OR(C35="",D35=""),"",ROUND(MAX(0,MOD(D35-C35,1)*24-N(E35)/60),2)) | H35: =IF(A35="","",INDEX($C$8:$I$8,WEEKDAY(A35,2))) | I35: =IF(OR(A35="",AND(F35="",G35="")),"",N(F35)+IF(G35<>"",MAX(0,H35-N(F35)),0)-H35)
A36: =IF(OR($H$4="",$L$13=""),"",IF(26>DAY(DATE($H$4,$L$13+1,0)),"",DATE($H$4,$L$13,26))) | B36: =IF(A36="","",A36) | F36: =IF(OR(C36="",D36=""),"",ROUND(MAX(0,MOD(D36-C36,1)*24-N(E36)/60),2)) | H36: =IF(A36="","",INDEX($C$8:$I$8,WEEKDAY(A36,2))) | I36: =IF(OR(A36="",AND(F36="",G36="")),"",N(F36)+IF(G36<>"",MAX(0,H36-N(F36)),0)-H36)
A37: =IF(OR($H$4="",$L$13=""),"",IF(27>DAY(DATE($H$4,$L$13+1,0)),"",DATE($H$4,$L$13,27))) | B37: =IF(A37="","",A37) | F37: =IF(OR(C37="",D37=""),"",ROUND(MAX(0,MOD(D37-C37,1)*24-N(E37)/60),2)) | H37: =IF(A37="","",INDEX($C$8:$I$8,WEEKDAY(A37,2))) | I37: =IF(OR(A37="",AND(F37="",G37="")),"",N(F37)+IF(G37<>"",MAX(0,H37-N(F37)),0)-H37)
A38: =IF(OR($H$4="",$L$13=""),"",IF(28>DAY(DATE($H$4,$L$13+1,0)),"",DATE($H$4,$L$13,28))) | B38: =IF(A38="","",A38) | F38: =IF(OR(C38="",D38=""),"",ROUND(MAX(0,MOD(D38-C38,1)*24-N(E38)/60),2)) | H38: =IF(A38="","",INDEX($C$8:$I$8,WEEKDAY(A38,2))) | I38: =IF(OR(A38="",AND(F38="",G38="")),"",N(F38)+IF(G38<>"",MAX(0,H38-N(F38)),0)-H38)
A39: =IF(OR($H$4="",$L$13=""),"",IF(29>DAY(DATE($H$4,$L$13+1,0)),"",DATE($H$4,$L$13,29))) | B39: =IF(A39="","",A39) | F39: =IF(OR(C39="",D39=""),"",ROUND(MAX(0,MOD(D39-C39,1)*24-N(E39)/60),2)) | H39: =IF(A39="","",INDEX($C$8:$I$8,WEEKDAY(A39,2))) | I39: =IF(OR(A39="",AND(F39="",G39="")),"",N(F39)+IF(G39<>"",MAX(0,H39-N(F39)),0)-H39)
A40: =IF(OR($H$4="",$L$13=""),"",IF(30>DAY(DATE($H$4,$L$13+1,0)),"",DATE($H$4,$L$13,30))) | B40: =IF(A40="","",A40) | F40: =IF(OR(C40="",D40=""),"",ROUND(MAX(0,MOD(D40-C40,1)*24-N(E40)/60),2)) | H40: =IF(A40="","",INDEX($C$8:$I$8,WEEKDAY(A40,2))) | I40: =IF(OR(A40="",AND(F40="",G40="")),"",N(F40)+IF(G40<>"",MAX(0,H40-N(F40)),0)-H40)
A41: =IF(OR($H$4="",$L$13=""),"",IF(31>DAY(DATE($H$4,$L$13+1,0)),"",DATE($H$4,$L$13,31))) | B41: =IF(A41="","",A41) | F41: =IF(OR(C41="",D41=""),"",ROUND(MAX(0,MOD(D41-C41,1)*24-N(E41)/60),2)) | H41: =IF(A41="","",INDEX($C$8:$I$8,WEEKDAY(A41,2))) | I41: =IF(OR(A41="",AND(F41="",G41="")),"",N(F41)+IF(G41<>"",MAX(0,H41-N(F41)),0)-H41)
A43: Stundas kopā | F43: =SUM(F11:F41) | H43: =SUMPRODUCT(--ISNUMBER(I11:I41),H11:H41) | I43: =SUM(I11:I41)
A44: Mēneša kopsavilkums | G44: Prombūtnes dienas
A45: Nostrādātās stundas | F45: =F43 | G45: Atvaļinājums | H45: =COUNTIF($G$11:$G$41,G45)
A46: Ieskaitītās prombūtnes stundas | F46: =I43-F43+SUMPRODUCT(--ISNUMBER(I11:I41),H11:H41) | G46: Slimība | H46: =COUNTIF($G$11:$G$41,G46)
A47: Normas stundas | F47: =SUMPRODUCT(--ISNUMBER(I11:I41),H11:H41) | G47: Svētku diena | H47: =COUNTIF($G$11:$G$41,G47)
A48: Mēneša atlikums | F48: =I43 | G48: Cita apmaksāta prombūtne | H48: =COUNTIF($G$11:$G$41,G48)
A49: Pārnestais atlikums (h) | F49: =N(H5) | G49: Bezalgas atvaļinājums | H49: =COUNTIF($G$11:$G$41,G49)
A50: Nostrādātās dienas | F50: =COUNT(F11:F41)
A51: Pārnesamais atlikums | F51: =I43+N(H5)
A54: Darbinieka paraksts un datums | G54: Vadītāja paraksts un datums
A56: Bezmaksas veidne no EasyHours · easyhours.lv — reģistrējiet darba laiku telefonā vai kopīgā planšetē, nevis uz papīra.

Sheet Jūn
A1: Mēneša darba laika tabele | H1: =IF(OR($H$4="",$L$13=""),"",DATE($H$4,$L$13,1)) | L1: Janvāris
L2: Februāris
L3: Marts
A4: Darbinieks | C4: =IF('Kopsavilkums'!$B$4="","",'Kopsavilkums'!$B$4) | G4: Gads | H4: ='Kopsavilkums'!$H$4 | I4: Mēnesis | J4: Jūnijs | L4: Aprīlis
A5: Vadītājs | C5: =IF('Kopsavilkums'!$B$5="","",'Kopsavilkums'!$B$5) | G5: Pārnestais atlikums (h) | H5: ='Maijs'!$F$51 | L5: Maijs
A6: Uzņēmums / objekts | C6: =IF('Kopsavilkums'!$B$6="","",'Kopsavilkums'!$B$6) | L6: Jūnijs
C7: 45292 | D7: 45293 | E7: 45294 | F7: 45295 | G7: 45296 | H7: 45297 | I7: 45298 | L7: Jūlijs
A8: Normālās stundas dienā | C8: ='Kopsavilkums'!$B$9 | D8: ='Kopsavilkums'!$C$9 | E8: ='Kopsavilkums'!$D$9 | F8: ='Kopsavilkums'!$E$9 | G8: ='Kopsavilkums'!$F$9 | H8: ='Kopsavilkums'!$G$9 | I8: ='Kopsavilkums'!$H$9 | J8: =SUM(C8:I8) | L8: Augusts
L9: Septembris
A10: Datums | B10: Diena | C10: Sākums | D10: Beigas | E10: Pārtraukums (min) | F10: Nostrādāts | G10: Prombūtne | H10: Norma | I10: +/− | J10: Piezīmes | L10: Oktobris
A11: =IF(OR($H$4="",$L$13=""),"",IF(1>DAY(DATE($H$4,$L$13+1,0)),"",DATE($H$4,$L$13,1))) | B11: =IF(A11="","",A11) | F11: =IF(OR(C11="",D11=""),"",ROUND(MAX(0,MOD(D11-C11,1)*24-N(E11)/60),2)) | H11: =IF(A11="","",INDEX($C$8:$I$8,WEEKDAY(A11,2))) | I11: =IF(OR(A11="",AND(F11="",G11="")),"",N(F11)+IF(G11<>"",MAX(0,H11-N(F11)),0)-H11) | L11: Novembris
A12: =IF(OR($H$4="",$L$13=""),"",IF(2>DAY(DATE($H$4,$L$13+1,0)),"",DATE($H$4,$L$13,2))) | B12: =IF(A12="","",A12) | F12: =IF(OR(C12="",D12=""),"",ROUND(MAX(0,MOD(D12-C12,1)*24-N(E12)/60),2)) | H12: =IF(A12="","",INDEX($C$8:$I$8,WEEKDAY(A12,2))) | I12: =IF(OR(A12="",AND(F12="",G12="")),"",N(F12)+IF(G12<>"",MAX(0,H12-N(F12)),0)-H12) | L12: Decembris
A13: =IF(OR($H$4="",$L$13=""),"",IF(3>DAY(DATE($H$4,$L$13+1,0)),"",DATE($H$4,$L$13,3))) | B13: =IF(A13="","",A13) | F13: =IF(OR(C13="",D13=""),"",ROUND(MAX(0,MOD(D13-C13,1)*24-N(E13)/60),2)) | H13: =IF(A13="","",INDEX($C$8:$I$8,WEEKDAY(A13,2))) | I13: =IF(OR(A13="",AND(F13="",G13="")),"",N(F13)+IF(G13<>"",MAX(0,H13-N(F13)),0)-H13) | L13: =IF(ISNUMBER(J4),J4,IFERROR(MATCH(J4,$L$1:$L$12,0),""))
A14: =IF(OR($H$4="",$L$13=""),"",IF(4>DAY(DATE($H$4,$L$13+1,0)),"",DATE($H$4,$L$13,4))) | B14: =IF(A14="","",A14) | F14: =IF(OR(C14="",D14=""),"",ROUND(MAX(0,MOD(D14-C14,1)*24-N(E14)/60),2)) | H14: =IF(A14="","",INDEX($C$8:$I$8,WEEKDAY(A14,2))) | I14: =IF(OR(A14="",AND(F14="",G14="")),"",N(F14)+IF(G14<>"",MAX(0,H14-N(F14)),0)-H14)
A15: =IF(OR($H$4="",$L$13=""),"",IF(5>DAY(DATE($H$4,$L$13+1,0)),"",DATE($H$4,$L$13,5))) | B15: =IF(A15="","",A15) | F15: =IF(OR(C15="",D15=""),"",ROUND(MAX(0,MOD(D15-C15,1)*24-N(E15)/60),2)) | H15: =IF(A15="","",INDEX($C$8:$I$8,WEEKDAY(A15,2))) | I15: =IF(OR(A15="",AND(F15="",G15="")),"",N(F15)+IF(G15<>"",MAX(0,H15-N(F15)),0)-H15)
A16: =IF(OR($H$4="",$L$13=""),"",IF(6>DAY(DATE($H$4,$L$13+1,0)),"",DATE($H$4,$L$13,6))) | B16: =IF(A16="","",A16) | F16: =IF(OR(C16="",D16=""),"",ROUND(MAX(0,MOD(D16-C16,1)*24-N(E16)/60),2)) | H16: =IF(A16="","",INDEX($C$8:$I$8,WEEKDAY(A16,2))) | I16: =IF(OR(A16="",AND(F16="",G16="")),"",N(F16)+IF(G16<>"",MAX(0,H16-N(F16)),0)-H16)
A17: =IF(OR($H$4="",$L$13=""),"",IF(7>DAY(DATE($H$4,$L$13+1,0)),"",DATE($H$4,$L$13,7))) | B17: =IF(A17="","",A17) | F17: =IF(OR(C17="",D17=""),"",ROUND(MAX(0,MOD(D17-C17,1)*24-N(E17)/60),2)) | H17: =IF(A17="","",INDEX($C$8:$I$8,WEEKDAY(A17,2))) | I17: =IF(OR(A17="",AND(F17="",G17="")),"",N(F17)+IF(G17<>"",MAX(0,H17-N(F17)),0)-H17)
A18: =IF(OR($H$4="",$L$13=""),"",IF(8>DAY(DATE($H$4,$L$13+1,0)),"",DATE($H$4,$L$13,8))) | B18: =IF(A18="","",A18) | F18: =IF(OR(C18="",D18=""),"",ROUND(MAX(0,MOD(D18-C18,1)*24-N(E18)/60),2)) | H18: =IF(A18="","",INDEX($C$8:$I$8,WEEKDAY(A18,2))) | I18: =IF(OR(A18="",AND(F18="",G18="")),"",N(F18)+IF(G18<>"",MAX(0,H18-N(F18)),0)-H18)
A19: =IF(OR($H$4="",$L$13=""),"",IF(9>DAY(DATE($H$4,$L$13+1,0)),"",DATE($H$4,$L$13,9))) | B19: =IF(A19="","",A19) | F19: =IF(OR(C19="",D19=""),"",ROUND(MAX(0,MOD(D19-C19,1)*24-N(E19)/60),2)) | H19: =IF(A19="","",INDEX($C$8:$I$8,WEEKDAY(A19,2))) | I19: =IF(OR(A19="",AND(F19="",G19="")),"",N(F19)+IF(G19<>"",MAX(0,H19-N(F19)),0)-H19)
A20: =IF(OR($H$4="",$L$13=""),"",IF(10>DAY(DATE($H$4,$L$13+1,0)),"",DATE($H$4,$L$13,10))) | B20: =IF(A20="","",A20) | F20: =IF(OR(C20="",D20=""),"",ROUND(MAX(0,MOD(D20-C20,1)*24-N(E20)/60),2)) | H20: =IF(A20="","",INDEX($C$8:$I$8,WEEKDAY(A20,2))) | I20: =IF(OR(A20="",AND(F20="",G20="")),"",N(F20)+IF(G20<>"",MAX(0,H20-N(F20)),0)-H20)
A21: =IF(OR($H$4="",$L$13=""),"",IF(11>DAY(DATE($H$4,$L$13+1,0)),"",DATE($H$4,$L$13,11))) | B21: =IF(A21="","",A21) | F21: =IF(OR(C21="",D21=""),"",ROUND(MAX(0,MOD(D21-C21,1)*24-N(E21)/60),2)) | H21: =IF(A21="","",INDEX($C$8:$I$8,WEEKDAY(A21,2))) | I21: =IF(OR(A21="",AND(F21="",G21="")),"",N(F21)+IF(G21<>"",MAX(0,H21-N(F21)),0)-H21)
A22: =IF(OR($H$4="",$L$13=""),"",IF(12>DAY(DATE($H$4,$L$13+1,0)),"",DATE($H$4,$L$13,12))) | B22: =IF(A22="","",A22) | F22: =IF(OR(C22="",D22=""),"",ROUND(MAX(0,MOD(D22-C22,1)*24-N(E22)/60),2)) | H22: =IF(A22="","",INDEX($C$8:$I$8,WEEKDAY(A22,2))) | I22: =IF(OR(A22="",AND(F22="",G22="")),"",N(F22)+IF(G22<>"",MAX(0,H22-N(F22)),0)-H22)
A23: =IF(OR($H$4="",$L$13=""),"",IF(13>DAY(DATE($H$4,$L$13+1,0)),"",DATE($H$4,$L$13,13))) | B23: =IF(A23="","",A23) | F23: =IF(OR(C23="",D23=""),"",ROUND(MAX(0,MOD(D23-C23,1)*24-N(E23)/60),2)) | H23: =IF(A23="","",INDEX($C$8:$I$8,WEEKDAY(A23,2))) | I23: =IF(OR(A23="",AND(F23="",G23="")),"",N(F23)+IF(G23<>"",MAX(0,H23-N(F23)),0)-H23)
A24: =IF(OR($H$4="",$L$13=""),"",IF(14>DAY(DATE($H$4,$L$13+1,0)),"",DATE($H$4,$L$13,14))) | B24: =IF(A24="","",A24) | F24: =IF(OR(C24="",D24=""),"",ROUND(MAX(0,MOD(D24-C24,1)*24-N(E24)/60),2)) | H24: =IF(A24="","",INDEX($C$8:$I$8,WEEKDAY(A24,2))) | I24: =IF(OR(A24="",AND(F24="",G24="")),"",N(F24)+IF(G24<>"",MAX(0,H24-N(F24)),0)-H24)
A25: =IF(OR($H$4="",$L$13=""),"",IF(15>DAY(DATE($H$4,$L$13+1,0)),"",DATE($H$4,$L$13,15))) | B25: =IF(A25="","",A25) | F25: =IF(OR(C25="",D25=""),"",ROUND(MAX(0,MOD(D25-C25,1)*24-N(E25)/60),2)) | H25: =IF(A25="","",INDEX($C$8:$I$8,WEEKDAY(A25,2))) | I25: =IF(OR(A25="",AND(F25="",G25="")),"",N(F25)+IF(G25<>"",MAX(0,H25-N(F25)),0)-H25)
A26: =IF(OR($H$4="",$L$13=""),"",IF(16>DAY(DATE($H$4,$L$13+1,0)),"",DATE($H$4,$L$13,16))) | B26: =IF(A26="","",A26) | F26: =IF(OR(C26="",D26=""),"",ROUND(MAX(0,MOD(D26-C26,1)*24-N(E26)/60),2)) | H26: =IF(A26="","",INDEX($C$8:$I$8,WEEKDAY(A26,2))) | I26: =IF(OR(A26="",AND(F26="",G26="")),"",N(F26)+IF(G26<>"",MAX(0,H26-N(F26)),0)-H26)
A27: =IF(OR($H$4="",$L$13=""),"",IF(17>DAY(DATE($H$4,$L$13+1,0)),"",DATE($H$4,$L$13,17))) | B27: =IF(A27="","",A27) | F27: =IF(OR(C27="",D27=""),"",ROUND(MAX(0,MOD(D27-C27,1)*24-N(E27)/60),2)) | H27: =IF(A27="","",INDEX($C$8:$I$8,WEEKDAY(A27,2))) | I27: =IF(OR(A27="",AND(F27="",G27="")),"",N(F27)+IF(G27<>"",MAX(0,H27-N(F27)),0)-H27)
A28: =IF(OR($H$4="",$L$13=""),"",IF(18>DAY(DATE($H$4,$L$13+1,0)),"",DATE($H$4,$L$13,18))) | B28: =IF(A28="","",A28) | F28: =IF(OR(C28="",D28=""),"",ROUND(MAX(0,MOD(D28-C28,1)*24-N(E28)/60),2)) | H28: =IF(A28="","",INDEX($C$8:$I$8,WEEKDAY(A28,2))) | I28: =IF(OR(A28="",AND(F28="",G28="")),"",N(F28)+IF(G28<>"",MAX(0,H28-N(F28)),0)-H28)
A29: =IF(OR($H$4="",$L$13=""),"",IF(19>DAY(DATE($H$4,$L$13+1,0)),"",DATE($H$4,$L$13,19))) | B29: =IF(A29="","",A29) | F29: =IF(OR(C29="",D29=""),"",ROUND(MAX(0,MOD(D29-C29,1)*24-N(E29)/60),2)) | H29: =IF(A29="","",INDEX($C$8:$I$8,WEEKDAY(A29,2))) | I29: =IF(OR(A29="",AND(F29="",G29="")),"",N(F29)+IF(G29<>"",MAX(0,H29-N(F29)),0)-H29)
A30: =IF(OR($H$4="",$L$13=""),"",IF(20>DAY(DATE($H$4,$L$13+1,0)),"",DATE($H$4,$L$13,20))) | B30: =IF(A30="","",A30) | F30: =IF(OR(C30="",D30=""),"",ROUND(MAX(0,MOD(D30-C30,1)*24-N(E30)/60),2)) | H30: =IF(A30="","",INDEX($C$8:$I$8,WEEKDAY(A30,2))) | I30: =IF(OR(A30="",AND(F30="",G30="")),"",N(F30)+IF(G30<>"",MAX(0,H30-N(F30)),0)-H30)
A31: =IF(OR($H$4="",$L$13=""),"",IF(21>DAY(DATE($H$4,$L$13+1,0)),"",DATE($H$4,$L$13,21))) | B31: =IF(A31="","",A31) | F31: =IF(OR(C31="",D31=""),"",ROUND(MAX(0,MOD(D31-C31,1)*24-N(E31)/60),2)) | H31: =IF(A31="","",INDEX($C$8:$I$8,WEEKDAY(A31,2))) | I31: =IF(OR(A31="",AND(F31="",G31="")),"",N(F31)+IF(G31<>"",MAX(0,H31-N(F31)),0)-H31)
A32: =IF(OR($H$4="",$L$13=""),"",IF(22>DAY(DATE($H$4,$L$13+1,0)),"",DATE($H$4,$L$13,22))) | B32: =IF(A32="","",A32) | F32: =IF(OR(C32="",D32=""),"",ROUND(MAX(0,MOD(D32-C32,1)*24-N(E32)/60),2)) | H32: =IF(A32="","",INDEX($C$8:$I$8,WEEKDAY(A32,2))) | I32: =IF(OR(A32="",AND(F32="",G32="")),"",N(F32)+IF(G32<>"",MAX(0,H32-N(F32)),0)-H32)
A33: =IF(OR($H$4="",$L$13=""),"",IF(23>DAY(DATE($H$4,$L$13+1,0)),"",DATE($H$4,$L$13,23))) | B33: =IF(A33="","",A33) | F33: =IF(OR(C33="",D33=""),"",ROUND(MAX(0,MOD(D33-C33,1)*24-N(E33)/60),2)) | H33: =IF(A33="","",INDEX($C$8:$I$8,WEEKDAY(A33,2))) | I33: =IF(OR(A33="",AND(F33="",G33="")),"",N(F33)+IF(G33<>"",MAX(0,H33-N(F33)),0)-H33)
A34: =IF(OR($H$4="",$L$13=""),"",IF(24>DAY(DATE($H$4,$L$13+1,0)),"",DATE($H$4,$L$13,24))) | B34: =IF(A34="","",A34) | F34: =IF(OR(C34="",D34=""),"",ROUND(MAX(0,MOD(D34-C34,1)*24-N(E34)/60),2)) | H34: =IF(A34="","",INDEX($C$8:$I$8,WEEKDAY(A34,2))) | I34: =IF(OR(A34="",AND(F34="",G34="")),"",N(F34)+IF(G34<>"",MAX(0,H34-N(F34)),0)-H34)
A35: =IF(OR($H$4="",$L$13=""),"",IF(25>DAY(DATE($H$4,$L$13+1,0)),"",DATE($H$4,$L$13,25))) | B35: =IF(A35="","",A35) | F35: =IF(OR(C35="",D35=""),"",ROUND(MAX(0,MOD(D35-C35,1)*24-N(E35)/60),2)) | H35: =IF(A35="","",INDEX($C$8:$I$8,WEEKDAY(A35,2))) | I35: =IF(OR(A35="",AND(F35="",G35="")),"",N(F35)+IF(G35<>"",MAX(0,H35-N(F35)),0)-H35)
A36: =IF(OR($H$4="",$L$13=""),"",IF(26>DAY(DATE($H$4,$L$13+1,0)),"",DATE($H$4,$L$13,26))) | B36: =IF(A36="","",A36) | F36: =IF(OR(C36="",D36=""),"",ROUND(MAX(0,MOD(D36-C36,1)*24-N(E36)/60),2)) | H36: =IF(A36="","",INDEX($C$8:$I$8,WEEKDAY(A36,2))) | I36: =IF(OR(A36="",AND(F36="",G36="")),"",N(F36)+IF(G36<>"",MAX(0,H36-N(F36)),0)-H36)
A37: =IF(OR($H$4="",$L$13=""),"",IF(27>DAY(DATE($H$4,$L$13+1,0)),"",DATE($H$4,$L$13,27))) | B37: =IF(A37="","",A37) | F37: =IF(OR(C37="",D37=""),"",ROUND(MAX(0,MOD(D37-C37,1)*24-N(E37)/60),2)) | H37: =IF(A37="","",INDEX($C$8:$I$8,WEEKDAY(A37,2))) | I37: =IF(OR(A37="",AND(F37="",G37="")),"",N(F37)+IF(G37<>"",MAX(0,H37-N(F37)),0)-H37)
A38: =IF(OR($H$4="",$L$13=""),"",IF(28>DAY(DATE($H$4,$L$13+1,0)),"",DATE($H$4,$L$13,28))) | B38: =IF(A38="","",A38) | F38: =IF(OR(C38="",D38=""),"",ROUND(MAX(0,MOD(D38-C38,1)*24-N(E38)/60),2)) | H38: =IF(A38="","",INDEX($C$8:$I$8,WEEKDAY(A38,2))) | I38: =IF(OR(A38="",AND(F38="",G38="")),"",N(F38)+IF(G38<>"",MAX(0,H38-N(F38)),0)-H38)
A39: =IF(OR($H$4="",$L$13=""),"",IF(29>DAY(DATE($H$4,$L$13+1,0)),"",DATE($H$4,$L$13,29))) | B39: =IF(A39="","",A39) | F39: =IF(OR(C39="",D39=""),"",ROUND(MAX(0,MOD(D39-C39,1)*24-N(E39)/60),2)) | H39: =IF(A39="","",INDEX($C$8:$I$8,WEEKDAY(A39,2))) | I39: =IF(OR(A39="",AND(F39="",G39="")),"",N(F39)+IF(G39<>"",MAX(0,H39-N(F39)),0)-H39)
A40: =IF(OR($H$4="",$L$13=""),"",IF(30>DAY(DATE($H$4,$L$13+1,0)),"",DATE($H$4,$L$13,30))) | B40: =IF(A40="","",A40) | F40: =IF(OR(C40="",D40=""),"",ROUND(MAX(0,MOD(D40-C40,1)*24-N(E40)/60),2)) | H40: =IF(A40="","",INDEX($C$8:$I$8,WEEKDAY(A40,2))) | I40: =IF(OR(A40="",AND(F40="",G40="")),"",N(F40)+IF(G40<>"",MAX(0,H40-N(F40)),0)-H40)
A41: =IF(OR($H$4="",$L$13=""),"",IF(31>DAY(DATE($H$4,$L$13+1,0)),"",DATE($H$4,$L$13,31))) | B41: =IF(A41="","",A41) | F41: =IF(OR(C41="",D41=""),"",ROUND(MAX(0,MOD(D41-C41,1)*24-N(E41)/60),2)) | H41: =IF(A41="","",INDEX($C$8:$I$8,WEEKDAY(A41,2))) | I41: =IF(OR(A41="",AND(F41="",G41="")),"",N(F41)+IF(G41<>"",MAX(0,H41-N(F41)),0)-H41)
A43: Stundas kopā | F43: =SUM(F11:F41) | H43: =SUMPRODUCT(--ISNUMBER(I11:I41),H11:H41) | I43: =SUM(I11:I41)
A44: Mēneša kopsavilkums | G44: Prombūtnes dienas
A45: Nostrādātās stundas | F45: =F43 | G45: Atvaļinājums | H45: =COUNTIF($G$11:$G$41,G45)
A46: Ieskaitītās prombūtnes stundas | F46: =I43-F43+SUMPRODUCT(--ISNUMBER(I11:I41),H11:H41) | G46: Slimība | H46: =COUNTIF($G$11:$G$41,G46)
A47: Normas stundas | F47: =SUMPRODUCT(--ISNUMBER(I11:I41),H11:H41) | G47: Svētku diena | H47: =COUNTIF($G$11:$G$41,G47)
A48: Mēneša atlikums | F48: =I43 | G48: Cita apmaksāta prombūtne | H48: =COUNTIF($G$11:$G$41,G48)
A49: Pārnestais atlikums (h) | F49: =N(H5) | G49: Bezalgas atvaļinājums | H49: =COUNTIF($G$11:$G$41,G49)
A50: Nostrādātās dienas | F50: =COUNT(F11:F41)
A51: Pārnesamais atlikums | F51: =I43+N(H5)
A54: Darbinieka paraksts un datums | G54: Vadītāja paraksts un datums
A56: Bezmaksas veidne no EasyHours · easyhours.lv — reģistrējiet darba laiku telefonā vai kopīgā planšetē, nevis uz papīra.

Sheet Jūl
A1: Mēneša darba laika tabele | H1: =IF(OR($H$4="",$L$13=""),"",DATE($H$4,$L$13,1)) | L1: Janvāris
L2: Februāris
L3: Marts
A4: Darbinieks | C4: =IF('Kopsavilkums'!$B$4="","",'Kopsavilkums'!$B$4) | G4: Gads | H4: ='Kopsavilkums'!$H$4 | I4: Mēnesis | J4: Jūlijs | L4: Aprīlis
A5: Vadītājs | C5: =IF('Kopsavilkums'!$B$5="","",'Kopsavilkums'!$B$5) | G5: Pārnestais atlikums (h) | H5: ='Jūn'!$F$51 | L5: Maijs
A6: Uzņēmums / objekts | C6: =IF('Kopsavilkums'!$B$6="","",'Kopsavilkums'!$B$6) | L6: Jūnijs
C7: 45292 | D7: 45293 | E7: 45294 | F7: 45295 | G7: 45296 | H7: 45297 | I7: 45298 | L7: Jūlijs
A8: Normālās stundas dienā | C8: ='Kopsavilkums'!$B$9 | D8: ='Kopsavilkums'!$C$9 | E8: ='Kopsavilkums'!$D$9 | F8: ='Kopsavilkums'!$E$9 | G8: ='Kopsavilkums'!$F$9 | H8: ='Kopsavilkums'!$G$9 | I8: ='Kopsavilkums'!$H$9 | J8: =SUM(C8:I8) | L8: Augusts
L9: Septembris
A10: Datums | B10: Diena | C10: Sākums | D10: Beigas | E10: Pārtraukums (min) | F10: Nostrādāts | G10: Prombūtne | H10: Norma | I10: +/− | J10: Piezīmes | L10: Oktobris
A11: =IF(OR($H$4="",$L$13=""),"",IF(1>DAY(DATE($H$4,$L$13+1,0)),"",DATE($H$4,$L$13,1))) | B11: =IF(A11="","",A11) | F11: =IF(OR(C11="",D11=""),"",ROUND(MAX(0,MOD(D11-C11,1)*24-N(E11)/60),2)) | H11: =IF(A11="","",INDEX($C$8:$I$8,WEEKDAY(A11,2))) | I11: =IF(OR(A11="",AND(F11="",G11="")),"",N(F11)+IF(G11<>"",MAX(0,H11-N(F11)),0)-H11) | L11: Novembris
A12: =IF(OR($H$4="",$L$13=""),"",IF(2>DAY(DATE($H$4,$L$13+1,0)),"",DATE($H$4,$L$13,2))) | B12: =IF(A12="","",A12) | F12: =IF(OR(C12="",D12=""),"",ROUND(MAX(0,MOD(D12-C12,1)*24-N(E12)/60),2)) | H12: =IF(A12="","",INDEX($C$8:$I$8,WEEKDAY(A12,2))) | I12: =IF(OR(A12="",AND(F12="",G12="")),"",N(F12)+IF(G12<>"",MAX(0,H12-N(F12)),0)-H12) | L12: Decembris
A13: =IF(OR($H$4="",$L$13=""),"",IF(3>DAY(DATE($H$4,$L$13+1,0)),"",DATE($H$4,$L$13,3))) | B13: =IF(A13="","",A13) | F13: =IF(OR(C13="",D13=""),"",ROUND(MAX(0,MOD(D13-C13,1)*24-N(E13)/60),2)) | H13: =IF(A13="","",INDEX($C$8:$I$8,WEEKDAY(A13,2))) | I13: =IF(OR(A13="",AND(F13="",G13="")),"",N(F13)+IF(G13<>"",MAX(0,H13-N(F13)),0)-H13) | L13: =IF(ISNUMBER(J4),J4,IFERROR(MATCH(J4,$L$1:$L$12,0),""))
A14: =IF(OR($H$4="",$L$13=""),"",IF(4>DAY(DATE($H$4,$L$13+1,0)),"",DATE($H$4,$L$13,4))) | B14: =IF(A14="","",A14) | F14: =IF(OR(C14="",D14=""),"",ROUND(MAX(0,MOD(D14-C14,1)*24-N(E14)/60),2)) | H14: =IF(A14="","",INDEX($C$8:$I$8,WEEKDAY(A14,2))) | I14: =IF(OR(A14="",AND(F14="",G14="")),"",N(F14)+IF(G14<>"",MAX(0,H14-N(F14)),0)-H14)
A15: =IF(OR($H$4="",$L$13=""),"",IF(5>DAY(DATE($H$4,$L$13+1,0)),"",DATE($H$4,$L$13,5))) | B15: =IF(A15="","",A15) | F15: =IF(OR(C15="",D15=""),"",ROUND(MAX(0,MOD(D15-C15,1)*24-N(E15)/60),2)) | H15: =IF(A15="","",INDEX($C$8:$I$8,WEEKDAY(A15,2))) | I15: =IF(OR(A15="",AND(F15="",G15="")),"",N(F15)+IF(G15<>"",MAX(0,H15-N(F15)),0)-H15)
A16: =IF(OR($H$4="",$L$13=""),"",IF(6>DAY(DATE($H$4,$L$13+1,0)),"",DATE($H$4,$L$13,6))) | B16: =IF(A16="","",A16) | F16: =IF(OR(C16="",D16=""),"",ROUND(MAX(0,MOD(D16-C16,1)*24-N(E16)/60),2)) | H16: =IF(A16="","",INDEX($C$8:$I$8,WEEKDAY(A16,2))) | I16: =IF(OR(A16="",AND(F16="",G16="")),"",N(F16)+IF(G16<>"",MAX(0,H16-N(F16)),0)-H16)
A17: =IF(OR($H$4="",$L$13=""),"",IF(7>DAY(DATE($H$4,$L$13+1,0)),"",DATE($H$4,$L$13,7))) | B17: =IF(A17="","",A17) | F17: =IF(OR(C17="",D17=""),"",ROUND(MAX(0,MOD(D17-C17,1)*24-N(E17)/60),2)) | H17: =IF(A17="","",INDEX($C$8:$I$8,WEEKDAY(A17,2))) | I17: =IF(OR(A17="",AND(F17="",G17="")),"",N(F17)+IF(G17<>"",MAX(0,H17-N(F17)),0)-H17)
A18: =IF(OR($H$4="",$L$13=""),"",IF(8>DAY(DATE($H$4,$L$13+1,0)),"",DATE($H$4,$L$13,8))) | B18: =IF(A18="","",A18) | F18: =IF(OR(C18="",D18=""),"",ROUND(MAX(0,MOD(D18-C18,1)*24-N(E18)/60),2)) | H18: =IF(A18="","",INDEX($C$8:$I$8,WEEKDAY(A18,2))) | I18: =IF(OR(A18="",AND(F18="",G18="")),"",N(F18)+IF(G18<>"",MAX(0,H18-N(F18)),0)-H18)
A19: =IF(OR($H$4="",$L$13=""),"",IF(9>DAY(DATE($H$4,$L$13+1,0)),"",DATE($H$4,$L$13,9))) | B19: =IF(A19="","",A19) | F19: =IF(OR(C19="",D19=""),"",ROUND(MAX(0,MOD(D19-C19,1)*24-N(E19)/60),2)) | H19: =IF(A19="","",INDEX($C$8:$I$8,WEEKDAY(A19,2))) | I19: =IF(OR(A19="",AND(F19="",G19="")),"",N(F19)+IF(G19<>"",MAX(0,H19-N(F19)),0)-H19)
A20: =IF(OR($H$4="",$L$13=""),"",IF(10>DAY(DATE($H$4,$L$13+1,0)),"",DATE($H$4,$L$13,10))) | B20: =IF(A20="","",A20) | F20: =IF(OR(C20="",D20=""),"",ROUND(MAX(0,MOD(D20-C20,1)*24-N(E20)/60),2)) | H20: =IF(A20="","",INDEX($C$8:$I$8,WEEKDAY(A20,2))) | I20: =IF(OR(A20="",AND(F20="",G20="")),"",N(F20)+IF(G20<>"",MAX(0,H20-N(F20)),0)-H20)
A21: =IF(OR($H$4="",$L$13=""),"",IF(11>DAY(DATE($H$4,$L$13+1,0)),"",DATE($H$4,$L$13,11))) | B21: =IF(A21="","",A21) | F21: =IF(OR(C21="",D21=""),"",ROUND(MAX(0,MOD(D21-C21,1)*24-N(E21)/60),2)) | H21: =IF(A21="","",INDEX($C$8:$I$8,WEEKDAY(A21,2))) | I21: =IF(OR(A21="",AND(F21="",G21="")),"",N(F21)+IF(G21<>"",MAX(0,H21-N(F21)),0)-H21)
A22: =IF(OR($H$4="",$L$13=""),"",IF(12>DAY(DATE($H$4,$L$13+1,0)),"",DATE($H$4,$L$13,12))) | B22: =IF(A22="","",A22) | F22: =IF(OR(C22="",D22=""),"",ROUND(MAX(0,MOD(D22-C22,1)*24-N(E22)/60),2)) | H22: =IF(A22="","",INDEX($C$8:$I$8,WEEKDAY(A22,2))) | I22: =IF(OR(A22="",AND(F22="",G22="")),"",N(F22)+IF(G22<>"",MAX(0,H22-N(F22)),0)-H22)
A23: =IF(OR($H$4="",$L$13=""),"",IF(13>DAY(DATE($H$4,$L$13+1,0)),"",DATE($H$4,$L$13,13))) | B23: =IF(A23="","",A23) | F23: =IF(OR(C23="",D23=""),"",ROUND(MAX(0,MOD(D23-C23,1)*24-N(E23)/60),2)) | H23: =IF(A23="","",INDEX($C$8:$I$8,WEEKDAY(A23,2))) | I23: =IF(OR(A23="",AND(F23="",G23="")),"",N(F23)+IF(G23<>"",MAX(0,H23-N(F23)),0)-H23)
A24: =IF(OR($H$4="",$L$13=""),"",IF(14>DAY(DATE($H$4,$L$13+1,0)),"",DATE($H$4,$L$13,14))) | B24: =IF(A24="","",A24) | F24: =IF(OR(C24="",D24=""),"",ROUND(MAX(0,MOD(D24-C24,1)*24-N(E24)/60),2)) | H24: =IF(A24="","",INDEX($C$8:$I$8,WEEKDAY(A24,2))) | I24: =IF(OR(A24="",AND(F24="",G24="")),"",N(F24)+IF(G24<>"",MAX(0,H24-N(F24)),0)-H24)
A25: =IF(OR($H$4="",$L$13=""),"",IF(15>DAY(DATE($H$4,$L$13+1,0)),"",DATE($H$4,$L$13,15))) | B25: =IF(A25="","",A25) | F25: =IF(OR(C25="",D25=""),"",ROUND(MAX(0,MOD(D25-C25,1)*24-N(E25)/60),2)) | H25: =IF(A25="","",INDEX($C$8:$I$8,WEEKDAY(A25,2))) | I25: =IF(OR(A25="",AND(F25="",G25="")),"",N(F25)+IF(G25<>"",MAX(0,H25-N(F25)),0)-H25)
A26: =IF(OR($H$4="",$L$13=""),"",IF(16>DAY(DATE($H$4,$L$13+1,0)),"",DATE($H$4,$L$13,16))) | B26: =IF(A26="","",A26) | F26: =IF(OR(C26="",D26=""),"",ROUND(MAX(0,MOD(D26-C26,1)*24-N(E26)/60),2)) | H26: =IF(A26="","",INDEX($C$8:$I$8,WEEKDAY(A26,2))) | I26: =IF(OR(A26="",AND(F26="",G26="")),"",N(F26)+IF(G26<>"",MAX(0,H26-N(F26)),0)-H26)
A27: =IF(OR($H$4="",$L$13=""),"",IF(17>DAY(DATE($H$4,$L$13+1,0)),"",DATE($H$4,$L$13,17))) | B27: =IF(A27="","",A27) | F27: =IF(OR(C27="",D27=""),"",ROUND(MAX(0,MOD(D27-C27,1)*24-N(E27)/60),2)) | H27: =IF(A27="","",INDEX($C$8:$I$8,WEEKDAY(A27,2))) | I27: =IF(OR(A27="",AND(F27="",G27="")),"",N(F27)+IF(G27<>"",MAX(0,H27-N(F27)),0)-H27)
A28: =IF(OR($H$4="",$L$13=""),"",IF(18>DAY(DATE($H$4,$L$13+1,0)),"",DATE($H$4,$L$13,18))) | B28: =IF(A28="","",A28) | F28: =IF(OR(C28="",D28=""),"",ROUND(MAX(0,MOD(D28-C28,1)*24-N(E28)/60),2)) | H28: =IF(A28="","",INDEX($C$8:$I$8,WEEKDAY(A28,2))) | I28: =IF(OR(A28="",AND(F28="",G28="")),"",N(F28)+IF(G28<>"",MAX(0,H28-N(F28)),0)-H28)
A29: =IF(OR($H$4="",$L$13=""),"",IF(19>DAY(DATE($H$4,$L$13+1,0)),"",DATE($H$4,$L$13,19))) | B29: =IF(A29="","",A29) | F29: =IF(OR(C29="",D29=""),"",ROUND(MAX(0,MOD(D29-C29,1)*24-N(E29)/60),2)) | H29: =IF(A29="","",INDEX($C$8:$I$8,WEEKDAY(A29,2))) | I29: =IF(OR(A29="",AND(F29="",G29="")),"",N(F29)+IF(G29<>"",MAX(0,H29-N(F29)),0)-H29)
A30: =IF(OR($H$4="",$L$13=""),"",IF(20>DAY(DATE($H$4,$L$13+1,0)),"",DATE($H$4,$L$13,20))) | B30: =IF(A30="","",A30) | F30: =IF(OR(C30="",D30=""),"",ROUND(MAX(0,MOD(D30-C30,1)*24-N(E30)/60),2)) | H30: =IF(A30="","",INDEX($C$8:$I$8,WEEKDAY(A30,2))) | I30: =IF(OR(A30="",AND(F30="",G30="")),"",N(F30)+IF(G30<>"",MAX(0,H30-N(F30)),0)-H30)
A31: =IF(OR($H$4="",$L$13=""),"",IF(21>DAY(DATE($H$4,$L$13+1,0)),"",DATE($H$4,$L$13,21))) | B31: =IF(A31="","",A31) | F31: =IF(OR(C31="",D31=""),"",ROUND(MAX(0,MOD(D31-C31,1)*24-N(E31)/60),2)) | H31: =IF(A31="","",INDEX($C$8:$I$8,WEEKDAY(A31,2))) | I31: =IF(OR(A31="",AND(F31="",G31="")),"",N(F31)+IF(G31<>"",MAX(0,H31-N(F31)),0)-H31)
A32: =IF(OR($H$4="",$L$13=""),"",IF(22>DAY(DATE($H$4,$L$13+1,0)),"",DATE($H$4,$L$13,22))) | B32: =IF(A32="","",A32) | F32: =IF(OR(C32="",D32=""),"",ROUND(MAX(0,MOD(D32-C32,1)*24-N(E32)/60),2)) | H32: =IF(A32="","",INDEX($C$8:$I$8,WEEKDAY(A32,2))) | I32: =IF(OR(A32="",AND(F32="",G32="")),"",N(F32)+IF(G32<>"",MAX(0,H32-N(F32)),0)-H32)
A33: =IF(OR($H$4="",$L$13=""),"",IF(23>DAY(DATE($H$4,$L$13+1,0)),"",DATE($H$4,$L$13,23))) | B33: =IF(A33="","",A33) | F33: =IF(OR(C33="",D33=""),"",ROUND(MAX(0,MOD(D33-C33,1)*24-N(E33)/60),2)) | H33: =IF(A33="","",INDEX($C$8:$I$8,WEEKDAY(A33,2))) | I33: =IF(OR(A33="",AND(F33="",G33="")),"",N(F33)+IF(G33<>"",MAX(0,H33-N(F33)),0)-H33)
A34: =IF(OR($H$4="",$L$13=""),"",IF(24>DAY(DATE($H$4,$L$13+1,0)),"",DATE($H$4,$L$13,24))) | B34: =IF(A34="","",A34) | F34: =IF(OR(C34="",D34=""),"",ROUND(MAX(0,MOD(D34-C34,1)*24-N(E34)/60),2)) | H34: =IF(A34="","",INDEX($C$8:$I$8,WEEKDAY(A34,2))) | I34: =IF(OR(A34="",AND(F34="",G34="")),"",N(F34)+IF(G34<>"",MAX(0,H34-N(F34)),0)-H34)
A35: =IF(OR($H$4="",$L$13=""),"",IF(25>DAY(DATE($H$4,$L$13+1,0)),"",DATE($H$4,$L$13,25))) | B35: =IF(A35="","",A35) | F35: =IF(OR(C35="",D35=""),"",ROUND(MAX(0,MOD(D35-C35,1)*24-N(E35)/60),2)) | H35: =IF(A35="","",INDEX($C$8:$I$8,WEEKDAY(A35,2))) | I35: =IF(OR(A35="",AND(F35="",G35="")),"",N(F35)+IF(G35<>"",MAX(0,H35-N(F35)),0)-H35)
A36: =IF(OR($H$4="",$L$13=""),"",IF(26>DAY(DATE($H$4,$L$13+1,0)),"",DATE($H$4,$L$13,26))) | B36: =IF(A36="","",A36) | F36: =IF(OR(C36="",D36=""),"",ROUND(MAX(0,MOD(D36-C36,1)*24-N(E36)/60),2)) | H36: =IF(A36="","",INDEX($C$8:$I$8,WEEKDAY(A36,2))) | I36: =IF(OR(A36="",AND(F36="",G36="")),"",N(F36)+IF(G36<>"",MAX(0,H36-N(F36)),0)-H36)
A37: =IF(OR($H$4="",$L$13=""),"",IF(27>DAY(DATE($H$4,$L$13+1,0)),"",DATE($H$4,$L$13,27))) | B37: =IF(A37="","",A37) | F37: =IF(OR(C37="",D37=""),"",ROUND(MAX(0,MOD(D37-C37,1)*24-N(E37)/60),2)) | H37: =IF(A37="","",INDEX($C$8:$I$8,WEEKDAY(A37,2))) | I37: =IF(OR(A37="",AND(F37="",G37="")),"",N(F37)+IF(G37<>"",MAX(0,H37-N(F37)),0)-H37)
A38: =IF(OR($H$4="",$L$13=""),"",IF(28>DAY(DATE($H$4,$L$13+1,0)),"",DATE($H$4,$L$13,28))) | B38: =IF(A38="","",A38) | F38: =IF(OR(C38="",D38=""),"",ROUND(MAX(0,MOD(D38-C38,1)*24-N(E38)/60),2)) | H38: =IF(A38="","",INDEX($C$8:$I$8,WEEKDAY(A38,2))) | I38: =IF(OR(A38="",AND(F38="",G38="")),"",N(F38)+IF(G38<>"",MAX(0,H38-N(F38)),0)-H38)
A39: =IF(OR($H$4="",$L$13=""),"",IF(29>DAY(DATE($H$4,$L$13+1,0)),"",DATE($H$4,$L$13,29))) | B39: =IF(A39="","",A39) | F39: =IF(OR(C39="",D39=""),"",ROUND(MAX(0,MOD(D39-C39,1)*24-N(E39)/60),2)) | H39: =IF(A39="","",INDEX($C$8:$I$8,WEEKDAY(A39,2))) | I39: =IF(OR(A39="",AND(F39="",G39="")),"",N(F39)+IF(G39<>"",MAX(0,H39-N(F39)),0)-H39)
A40: =IF(OR($H$4="",$L$13=""),"",IF(30>DAY(DATE($H$4,$L$13+1,0)),"",DATE($H$4,$L$13,30))) | B40: =IF(A40="","",A40) | F40: =IF(OR(C40="",D40=""),"",ROUND(MAX(0,MOD(D40-C40,1)*24-N(E40)/60),2)) | H40: =IF(A40="","",INDEX($C$8:$I$8,WEEKDAY(A40,2))) | I40: =IF(OR(A40="",AND(F40="",G40="")),"",N(F40)+IF(G40<>"",MAX(0,H40-N(F40)),0)-H40)
A41: =IF(OR($H$4="",$L$13=""),"",IF(31>DAY(DATE($H$4,$L$13+1,0)),"",DATE($H$4,$L$13,31))) | B41: =IF(A41="","",A41) | F41: =IF(OR(C41="",D41=""),"",ROUND(MAX(0,MOD(D41-C41,1)*24-N(E41)/60),2)) | H41: =IF(A41="","",INDEX($C$8:$I$8,WEEKDAY(A41,2))) | I41: =IF(OR(A41="",AND(F41="",G41="")),"",N(F41)+IF(G41<>"",MAX(0,H41-N(F41)),0)-H41)
A43: Stundas kopā | F43: =SUM(F11:F41) | H43: =SUMPRODUCT(--ISNUMBER(I11:I41),H11:H41) | I43: =SUM(I11:I41)
A44: Mēneša kopsavilkums | G44: Prombūtnes dienas
A45: Nostrādātās stundas | F45: =F43 | G45: Atvaļinājums | H45: =COUNTIF($G$11:$G$41,G45)
A46: Ieskaitītās prombūtnes stundas | F46: =I43-F43+SUMPRODUCT(--ISNUMBER(I11:I41),H11:H41) | G46: Slimība | H46: =COUNTIF($G$11:$G$41,G46)
A47: Normas stundas | F47: =SUMPRODUCT(--ISNUMBER(I11:I41),H11:H41) | G47: Svētku diena | H47: =COUNTIF($G$11:$G$41,G47)
A48: Mēneša atlikums | F48: =I43 | G48: Cita apmaksāta prombūtne | H48: =COUNTIF($G$11:$G$41,G48)
A49: Pārnestais atlikums (h) | F49: =N(H5) | G49: Bezalgas atvaļinājums | H49: =COUNTIF($G$11:$G$41,G49)
A50: Nostrādātās dienas | F50: =COUNT(F11:F41)
A51: Pārnesamais atlikums | F51: =I43+N(H5)
A54: Darbinieka paraksts un datums | G54: Vadītāja paraksts un datums
A56: Bezmaksas veidne no EasyHours · easyhours.lv — reģistrējiet darba laiku telefonā vai kopīgā planšetē, nevis uz papīra.

Sheet Aug
A1: Mēneša darba laika tabele | H1: =IF(OR($H$4="",$L$13=""),"",DATE($H$4,$L$13,1)) | L1: Janvāris
L2: Februāris
L3: Marts
A4: Darbinieks | C4: =IF('Kopsavilkums'!$B$4="","",'Kopsavilkums'!$B$4) | G4: Gads | H4: ='Kopsavilkums'!$H$4 | I4: Mēnesis | J4: Augusts | L4: Aprīlis
A5: Vadītājs | C5: =IF('Kopsavilkums'!$B$5="","",'Kopsavilkums'!$B$5) | G5: Pārnestais atlikums (h) | H5: ='Jūl'!$F$51 | L5: Maijs
A6: Uzņēmums / objekts | C6: =IF('Kopsavilkums'!$B$6="","",'Kopsavilkums'!$B$6) | L6: Jūnijs
C7: 45292 | D7: 45293 | E7: 45294 | F7: 45295 | G7: 45296 | H7: 45297 | I7: 45298 | L7: Jūlijs
A8: Normālās stundas dienā | C8: ='Kopsavilkums'!$B$9 | D8: ='Kopsavilkums'!$C$9 | E8: ='Kopsavilkums'!$D$9 | F8: ='Kopsavilkums'!$E$9 | G8: ='Kopsavilkums'!$F$9 | H8: ='Kopsavilkums'!$G$9 | I8: ='Kopsavilkums'!$H$9 | J8: =SUM(C8:I8) | L8: Augusts
L9: Septembris
A10: Datums | B10: Diena | C10: Sākums | D10: Beigas | E10: Pārtraukums (min) | F10: Nostrādāts | G10: Prombūtne | H10: Norma | I10: +/− | J10: Piezīmes | L10: Oktobris
A11: =IF(OR($H$4="",$L$13=""),"",IF(1>DAY(DATE($H$4,$L$13+1,0)),"",DATE($H$4,$L$13,1))) | B11: =IF(A11="","",A11) | F11: =IF(OR(C11="",D11=""),"",ROUND(MAX(0,MOD(D11-C11,1)*24-N(E11)/60),2)) | H11: =IF(A11="","",INDEX($C$8:$I$8,WEEKDAY(A11,2))) | I11: =IF(OR(A11="",AND(F11="",G11="")),"",N(F11)+IF(G11<>"",MAX(0,H11-N(F11)),0)-H11) | L11: Novembris
A12: =IF(OR($H$4="",$L$13=""),"",IF(2>DAY(DATE($H$4,$L$13+1,0)),"",DATE($H$4,$L$13,2))) | B12: =IF(A12="","",A12) | F12: =IF(OR(C12="",D12=""),"",ROUND(MAX(0,MOD(D12-C12,1)*24-N(E12)/60),2)) | H12: =IF(A12="","",INDEX($C$8:$I$8,WEEKDAY(A12,2))) | I12: =IF(OR(A12="",AND(F12="",G12="")),"",N(F12)+IF(G12<>"",MAX(0,H12-N(F12)),0)-H12) | L12: Decembris
A13: =IF(OR($H$4="",$L$13=""),"",IF(3>DAY(DATE($H$4,$L$13+1,0)),"",DATE($H$4,$L$13,3))) | B13: =IF(A13="","",A13) | F13: =IF(OR(C13="",D13=""),"",ROUND(MAX(0,MOD(D13-C13,1)*24-N(E13)/60),2)) | H13: =IF(A13="","",INDEX($C$8:$I$8,WEEKDAY(A13,2))) | I13: =IF(OR(A13="",AND(F13="",G13="")),"",N(F13)+IF(G13<>"",MAX(0,H13-N(F13)),0)-H13) | L13: =IF(ISNUMBER(J4),J4,IFERROR(MATCH(J4,$L$1:$L$12,0),""))
A14: =IF(OR($H$4="",$L$13=""),"",IF(4>DAY(DATE($H$4,$L$13+1,0)),"",DATE($H$4,$L$13,4))) | B14: =IF(A14="","",A14) | F14: =IF(OR(C14="",D14=""),"",ROUND(MAX(0,MOD(D14-C14,1)*24-N(E14)/60),2)) | H14: =IF(A14="","",INDEX($C$8:$I$8,WEEKDAY(A14,2))) | I14: =IF(OR(A14="",AND(F14="",G14="")),"",N(F14)+IF(G14<>"",MAX(0,H14-N(F14)),0)-H14)
A15: =IF(OR($H$4="",$L$13=""),"",IF(5>DAY(DATE($H$4,$L$13+1,0)),"",DATE($H$4,$L$13,5))) | B15: =IF(A15="","",A15) | F15: =IF(OR(C15="",D15=""),"",ROUND(MAX(0,MOD(D15-C15,1)*24-N(E15)/60),2)) | H15: =IF(A15="","",INDEX($C$8:$I$8,WEEKDAY(A15,2))) | I15: =IF(OR(A15="",AND(F15="",G15="")),"",N(F15)+IF(G15<>"",MAX(0,H15-N(F15)),0)-H15)
A16: =IF(OR($H$4="",$L$13=""),"",IF(6>DAY(DATE($H$4,$L$13+1,0)),"",DATE($H$4,$L$13,6))) | B16: =IF(A16="","",A16) | F16: =IF(OR(C16="",D16=""),"",ROUND(MAX(0,MOD(D16-C16,1)*24-N(E16)/60),2)) | H16: =IF(A16="","",INDEX($C$8:$I$8,WEEKDAY(A16,2))) | I16: =IF(OR(A16="",AND(F16="",G16="")),"",N(F16)+IF(G16<>"",MAX(0,H16-N(F16)),0)-H16)
A17: =IF(OR($H$4="",$L$13=""),"",IF(7>DAY(DATE($H$4,$L$13+1,0)),"",DATE($H$4,$L$13,7))) | B17: =IF(A17="","",A17) | F17: =IF(OR(C17="",D17=""),"",ROUND(MAX(0,MOD(D17-C17,1)*24-N(E17)/60),2)) | H17: =IF(A17="","",INDEX($C$8:$I$8,WEEKDAY(A17,2))) | I17: =IF(OR(A17="",AND(F17="",G17="")),"",N(F17)+IF(G17<>"",MAX(0,H17-N(F17)),0)-H17)
A18: =IF(OR($H$4="",$L$13=""),"",IF(8>DAY(DATE($H$4,$L$13+1,0)),"",DATE($H$4,$L$13,8))) | B18: =IF(A18="","",A18) | F18: =IF(OR(C18="",D18=""),"",ROUND(MAX(0,MOD(D18-C18,1)*24-N(E18)/60),2)) | H18: =IF(A18="","",INDEX($C$8:$I$8,WEEKDAY(A18,2))) | I18: =IF(OR(A18="",AND(F18="",G18="")),"",N(F18)+IF(G18<>"",MAX(0,H18-N(F18)),0)-H18)
A19: =IF(OR($H$4="",$L$13=""),"",IF(9>DAY(DATE($H$4,$L$13+1,0)),"",DATE($H$4,$L$13,9))) | B19: =IF(A19="","",A19) | F19: =IF(OR(C19="",D19=""),"",ROUND(MAX(0,MOD(D19-C19,1)*24-N(E19)/60),2)) | H19: =IF(A19="","",INDEX($C$8:$I$8,WEEKDAY(A19,2))) | I19: =IF(OR(A19="",AND(F19="",G19="")),"",N(F19)+IF(G19<>"",MAX(0,H19-N(F19)),0)-H19)
A20: =IF(OR($H$4="",$L$13=""),"",IF(10>DAY(DATE($H$4,$L$13+1,0)),"",DATE($H$4,$L$13,10))) | B20: =IF(A20="","",A20) | F20: =IF(OR(C20="",D20=""),"",ROUND(MAX(0,MOD(D20-C20,1)*24-N(E20)/60),2)) | H20: =IF(A20="","",INDEX($C$8:$I$8,WEEKDAY(A20,2))) | I20: =IF(OR(A20="",AND(F20="",G20="")),"",N(F20)+IF(G20<>"",MAX(0,H20-N(F20)),0)-H20)
A21: =IF(OR($H$4="",$L$13=""),"",IF(11>DAY(DATE($H$4,$L$13+1,0)),"",DATE($H$4,$L$13,11))) | B21: =IF(A21="","",A21) | F21: =IF(OR(C21="",D21=""),"",ROUND(MAX(0,MOD(D21-C21,1)*24-N(E21)/60),2)) | H21: =IF(A21="","",INDEX($C$8:$I$8,WEEKDAY(A21,2))) | I21: =IF(OR(A21="",AND(F21="",G21="")),"",N(F21)+IF(G21<>"",MAX(0,H21-N(F21)),0)-H21)
A22: =IF(OR($H$4="",$L$13=""),"",IF(12>DAY(DATE($H$4,$L$13+1,0)),"",DATE($H$4,$L$13,12))) | B22: =IF(A22="","",A22) | F22: =IF(OR(C22="",D22=""),"",ROUND(MAX(0,MOD(D22-C22,1)*24-N(E22)/60),2)) | H22: =IF(A22="","",INDEX($C$8:$I$8,WEEKDAY(A22,2))) | I22: =IF(OR(A22="",AND(F22="",G22="")),"",N(F22)+IF(G22<>"",MAX(0,H22-N(F22)),0)-H22)
A23: =IF(OR($H$4="",$L$13=""),"",IF(13>DAY(DATE($H$4,$L$13+1,0)),"",DATE($H$4,$L$13,13))) | B23: =IF(A23="","",A23) | F23: =IF(OR(C23="",D23=""),"",ROUND(MAX(0,MOD(D23-C23,1)*24-N(E23)/60),2)) | H23: =IF(A23="","",INDEX($C$8:$I$8,WEEKDAY(A23,2))) | I23: =IF(OR(A23="",AND(F23="",G23="")),"",N(F23)+IF(G23<>"",MAX(0,H23-N(F23)),0)-H23)
A24: =IF(OR($H$4="",$L$13=""),"",IF(14>DAY(DATE($H$4,$L$13+1,0)),"",DATE($H$4,$L$13,14))) | B24: =IF(A24="","",A24) | F24: =IF(OR(C24="",D24=""),"",ROUND(MAX(0,MOD(D24-C24,1)*24-N(E24)/60),2)) | H24: =IF(A24="","",INDEX($C$8:$I$8,WEEKDAY(A24,2))) | I24: =IF(OR(A24="",AND(F24="",G24="")),"",N(F24)+IF(G24<>"",MAX(0,H24-N(F24)),0)-H24)
A25: =IF(OR($H$4="",$L$13=""),"",IF(15>DAY(DATE($H$4,$L$13+1,0)),"",DATE($H$4,$L$13,15))) | B25: =IF(A25="","",A25) | F25: =IF(OR(C25="",D25=""),"",ROUND(MAX(0,MOD(D25-C25,1)*24-N(E25)/60),2)) | H25: =IF(A25="","",INDEX($C$8:$I$8,WEEKDAY(A25,2))) | I25: =IF(OR(A25="",AND(F25="",G25="")),"",N(F25)+IF(G25<>"",MAX(0,H25-N(F25)),0)-H25)
A26: =IF(OR($H$4="",$L$13=""),"",IF(16>DAY(DATE($H$4,$L$13+1,0)),"",DATE($H$4,$L$13,16))) | B26: =IF(A26="","",A26) | F26: =IF(OR(C26="",D26=""),"",ROUND(MAX(0,MOD(D26-C26,1)*24-N(E26)/60),2)) | H26: =IF(A26="","",INDEX($C$8:$I$8,WEEKDAY(A26,2))) | I26: =IF(OR(A26="",AND(F26="",G26="")),"",N(F26)+IF(G26<>"",MAX(0,H26-N(F26)),0)-H26)
A27: =IF(OR($H$4="",$L$13=""),"",IF(17>DAY(DATE($H$4,$L$13+1,0)),"",DATE($H$4,$L$13,17))) | B27: =IF(A27="","",A27) | F27: =IF(OR(C27="",D27=""),"",ROUND(MAX(0,MOD(D27-C27,1)*24-N(E27)/60),2)) | H27: =IF(A27="","",INDEX($C$8:$I$8,WEEKDAY(A27,2))) | I27: =IF(OR(A27="",AND(F27="",G27="")),"",N(F27)+IF(G27<>"",MAX(0,H27-N(F27)),0)-H27)
A28: =IF(OR($H$4="",$L$13=""),"",IF(18>DAY(DATE($H$4,$L$13+1,0)),"",DATE($H$4,$L$13,18))) | B28: =IF(A28="","",A28) | F28: =IF(OR(C28="",D28=""),"",ROUND(MAX(0,MOD(D28-C28,1)*24-N(E28)/60),2)) | H28: =IF(A28="","",INDEX($C$8:$I$8,WEEKDAY(A28,2))) | I28: =IF(OR(A28="",AND(F28="",G28="")),"",N(F28)+IF(G28<>"",MAX(0,H28-N(F28)),0)-H28)
A29: =IF(OR($H$4="",$L$13=""),"",IF(19>DAY(DATE($H$4,$L$13+1,0)),"",DATE($H$4,$L$13,19))) | B29: =IF(A29="","",A29) | F29: =IF(OR(C29="",D29=""),"",ROUND(MAX(0,MOD(D29-C29,1)*24-N(E29)/60),2)) | H29: =IF(A29="","",INDEX($C$8:$I$8,WEEKDAY(A29,2))) | I29: =IF(OR(A29="",AND(F29="",G29="")),"",N(F29)+IF(G29<>"",MAX(0,H29-N(F29)),0)-H29)
A30: =IF(OR($H$4="",$L$13=""),"",IF(20>DAY(DATE($H$4,$L$13+1,0)),"",DATE($H$4,$L$13,20))) | B30: =IF(A30="","",A30) | F30: =IF(OR(C30="",D30=""),"",ROUND(MAX(0,MOD(D30-C30,1)*24-N(E30)/60),2)) | H30: =IF(A30="","",INDEX($C$8:$I$8,WEEKDAY(A30,2))) | I30: =IF(OR(A30="",AND(F30="",G30="")),"",N(F30)+IF(G30<>"",MAX(0,H30-N(F30)),0)-H30)
A31: =IF(OR($H$4="",$L$13=""),"",IF(21>DAY(DATE($H$4,$L$13+1,0)),"",DATE($H$4,$L$13,21))) | B31: =IF(A31="","",A31) | F31: =IF(OR(C31="",D31=""),"",ROUND(MAX(0,MOD(D31-C31,1)*24-N(E31)/60),2)) | H31: =IF(A31="","",INDEX($C$8:$I$8,WEEKDAY(A31,2))) | I31: =IF(OR(A31="",AND(F31="",G31="")),"",N(F31)+IF(G31<>"",MAX(0,H31-N(F31)),0)-H31)
A32: =IF(OR($H$4="",$L$13=""),"",IF(22>DAY(DATE($H$4,$L$13+1,0)),"",DATE($H$4,$L$13,22))) | B32: =IF(A32="","",A32) | F32: =IF(OR(C32="",D32=""),"",ROUND(MAX(0,MOD(D32-C32,1)*24-N(E32)/60),2)) | H32: =IF(A32="","",INDEX($C$8:$I$8,WEEKDAY(A32,2))) | I32: =IF(OR(A32="",AND(F32="",G32="")),"",N(F32)+IF(G32<>"",MAX(0,H32-N(F32)),0)-H32)
A33: =IF(OR($H$4="",$L$13=""),"",IF(23>DAY(DATE($H$4,$L$13+1,0)),"",DATE($H$4,$L$13,23))) | B33: =IF(A33="","",A33) | F33: =IF(OR(C33="",D33=""),"",ROUND(MAX(0,MOD(D33-C33,1)*24-N(E33)/60),2)) | H33: =IF(A33="","",INDEX($C$8:$I$8,WEEKDAY(A33,2))) | I33: =IF(OR(A33="",AND(F33="",G33="")),"",N(F33)+IF(G33<>"",MAX(0,H33-N(F33)),0)-H33)
A34: =IF(OR($H$4="",$L$13=""),"",IF(24>DAY(DATE($H$4,$L$13+1,0)),"",DATE($H$4,$L$13,24))) | B34: =IF(A34="","",A34) | F34: =IF(OR(C34="",D34=""),"",ROUND(MAX(0,MOD(D34-C34,1)*24-N(E34)/60),2)) | H34: =IF(A34="","",INDEX($C$8:$I$8,WEEKDAY(A34,2))) | I34: =IF(OR(A34="",AND(F34="",G34="")),"",N(F34)+IF(G34<>"",MAX(0,H34-N(F34)),0)-H34)
A35: =IF(OR($H$4="",$L$13=""),"",IF(25>DAY(DATE($H$4,$L$13+1,0)),"",DATE($H$4,$L$13,25))) | B35: =IF(A35="","",A35) | F35: =IF(OR(C35="",D35=""),"",ROUND(MAX(0,MOD(D35-C35,1)*24-N(E35)/60),2)) | H35: =IF(A35="","",INDEX($C$8:$I$8,WEEKDAY(A35,2))) | I35: =IF(OR(A35="",AND(F35="",G35="")),"",N(F35)+IF(G35<>"",MAX(0,H35-N(F35)),0)-H35)
A36: =IF(OR($H$4="",$L$13=""),"",IF(26>DAY(DATE($H$4,$L$13+1,0)),"",DATE($H$4,$L$13,26))) | B36: =IF(A36="","",A36) | F36: =IF(OR(C36="",D36=""),"",ROUND(MAX(0,MOD(D36-C36,1)*24-N(E36)/60),2)) | H36: =IF(A36="","",INDEX($C$8:$I$8,WEEKDAY(A36,2))) | I36: =IF(OR(A36="",AND(F36="",G36="")),"",N(F36)+IF(G36<>"",MAX(0,H36-N(F36)),0)-H36)
A37: =IF(OR($H$4="",$L$13=""),"",IF(27>DAY(DATE($H$4,$L$13+1,0)),"",DATE($H$4,$L$13,27))) | B37: =IF(A37="","",A37) | F37: =IF(OR(C37="",D37=""),"",ROUND(MAX(0,MOD(D37-C37,1)*24-N(E37)/60),2)) | H37: =IF(A37="","",INDEX($C$8:$I$8,WEEKDAY(A37,2))) | I37: =IF(OR(A37="",AND(F37="",G37="")),"",N(F37)+IF(G37<>"",MAX(0,H37-N(F37)),0)-H37)
A38: =IF(OR($H$4="",$L$13=""),"",IF(28>DAY(DATE($H$4,$L$13+1,0)),"",DATE($H$4,$L$13,28))) | B38: =IF(A38="","",A38) | F38: =IF(OR(C38="",D38=""),"",ROUND(MAX(0,MOD(D38-C38,1)*24-N(E38)/60),2)) | H38: =IF(A38="","",INDEX($C$8:$I$8,WEEKDAY(A38,2))) | I38: =IF(OR(A38="",AND(F38="",G38="")),"",N(F38)+IF(G38<>"",MAX(0,H38-N(F38)),0)-H38)
A39: =IF(OR($H$4="",$L$13=""),"",IF(29>DAY(DATE($H$4,$L$13+1,0)),"",DATE($H$4,$L$13,29))) | B39: =IF(A39="","",A39) | F39: =IF(OR(C39="",D39=""),"",ROUND(MAX(0,MOD(D39-C39,1)*24-N(E39)/60),2)) | H39: =IF(A39="","",INDEX($C$8:$I$8,WEEKDAY(A39,2))) | I39: =IF(OR(A39="",AND(F39="",G39="")),"",N(F39)+IF(G39<>"",MAX(0,H39-N(F39)),0)-H39)
A40: =IF(OR($H$4="",$L$13=""),"",IF(30>DAY(DATE($H$4,$L$13+1,0)),"",DATE($H$4,$L$13,30))) | B40: =IF(A40="","",A40) | F40: =IF(OR(C40="",D40=""),"",ROUND(MAX(0,MOD(D40-C40,1)*24-N(E40)/60),2)) | H40: =IF(A40="","",INDEX($C$8:$I$8,WEEKDAY(A40,2))) | I40: =IF(OR(A40="",AND(F40="",G40="")),"",N(F40)+IF(G40<>"",MAX(0,H40-N(F40)),0)-H40)
A41: =IF(OR($H$4="",$L$13=""),"",IF(31>DAY(DATE($H$4,$L$13+1,0)),"",DATE($H$4,$L$13,31))) | B41: =IF(A41="","",A41) | F41: =IF(OR(C41="",D41=""),"",ROUND(MAX(0,MOD(D41-C41,1)*24-N(E41)/60),2)) | H41: =IF(A41="","",INDEX($C$8:$I$8,WEEKDAY(A41,2))) | I41: =IF(OR(A41="",AND(F41="",G41="")),"",N(F41)+IF(G41<>"",MAX(0,H41-N(F41)),0)-H41)
A43: Stundas kopā | F43: =SUM(F11:F41) | H43: =SUMPRODUCT(--ISNUMBER(I11:I41),H11:H41) | I43: =SUM(I11:I41)
A44: Mēneša kopsavilkums | G44: Prombūtnes dienas
A45: Nostrādātās stundas | F45: =F43 | G45: Atvaļinājums | H45: =COUNTIF($G$11:$G$41,G45)
A46: Ieskaitītās prombūtnes stundas | F46: =I43-F43+SUMPRODUCT(--ISNUMBER(I11:I41),H11:H41) | G46: Slimība | H46: =COUNTIF($G$11:$G$41,G46)
A47: Normas stundas | F47: =SUMPRODUCT(--ISNUMBER(I11:I41),H11:H41) | G47: Svētku diena | H47: =COUNTIF($G$11:$G$41,G47)
A48: Mēneša atlikums | F48: =I43 | G48: Cita apmaksāta prombūtne | H48: =COUNTIF($G$11:$G$41,G48)
A49: Pārnestais atlikums (h) | F49: =N(H5) | G49: Bezalgas atvaļinājums | H49: =COUNTIF($G$11:$G$41,G49)
A50: Nostrādātās dienas | F50: =COUNT(F11:F41)
A51: Pārnesamais atlikums | F51: =I43+N(H5)
A54: Darbinieka paraksts un datums | G54: Vadītāja paraksts un datums
A56: Bezmaksas veidne no EasyHours · easyhours.lv — reģistrējiet darba laiku telefonā vai kopīgā planšetē, nevis uz papīra.

Sheet Sept
A1: Mēneša darba laika tabele | H1: =IF(OR($H$4="",$L$13=""),"",DATE($H$4,$L$13,1)) | L1: Janvāris
L2: Februāris
L3: Marts
A4: Darbinieks | C4: =IF('Kopsavilkums'!$B$4="","",'Kopsavilkums'!$B$4) | G4: Gads | H4: ='Kopsavilkums'!$H$4 | I4: Mēnesis | J4: Septembris | L4: Aprīlis
A5: Vadītājs | C5: =IF('Kopsavilkums'!$B$5="","",'Kopsavilkums'!$B$5) | G5: Pārnestais atlikums (h) | H5: ='Aug'!$F$51 | L5: Maijs
A6: Uzņēmums / objekts | C6: =IF('Kopsavilkums'!$B$6="","",'Kopsavilkums'!$B$6) | L6: Jūnijs
C7: 45292 | D7: 45293 | E7: 45294 | F7: 45295 | G7: 45296 | H7: 45297 | I7: 45298 | L7: Jūlijs
A8: Normālās stundas dienā | C8: ='Kopsavilkums'!$B$9 | D8: ='Kopsavilkums'!$C$9 | E8: ='Kopsavilkums'!$D$9 | F8: ='Kopsavilkums'!$E$9 | G8: ='Kopsavilkums'!$F$9 | H8: ='Kopsavilkums'!$G$9 | I8: ='Kopsavilkums'!$H$9 | J8: =SUM(C8:I8) | L8: Augusts
L9: Septembris
A10: Datums | B10: Diena | C10: Sākums | D10: Beigas | E10: Pārtraukums (min) | F10: Nostrādāts | G10: Prombūtne | H10: Norma | I10: +/− | J10: Piezīmes | L10: Oktobris
A11: =IF(OR($H$4="",$L$13=""),"",IF(1>DAY(DATE($H$4,$L$13+1,0)),"",DATE($H$4,$L$13,1))) | B11: =IF(A11="","",A11) | F11: =IF(OR(C11="",D11=""),"",ROUND(MAX(0,MOD(D11-C11,1)*24-N(E11)/60),2)) | H11: =IF(A11="","",INDEX($C$8:$I$8,WEEKDAY(A11,2))) | I11: =IF(OR(A11="",AND(F11="",G11="")),"",N(F11)+IF(G11<>"",MAX(0,H11-N(F11)),0)-H11) | L11: Novembris
A12: =IF(OR($H$4="",$L$13=""),"",IF(2>DAY(DATE($H$4,$L$13+1,0)),"",DATE($H$4,$L$13,2))) | B12: =IF(A12="","",A12) | F12: =IF(OR(C12="",D12=""),"",ROUND(MAX(0,MOD(D12-C12,1)*24-N(E12)/60),2)) | H12: =IF(A12="","",INDEX($C$8:$I$8,WEEKDAY(A12,2))) | I12: =IF(OR(A12="",AND(F12="",G12="")),"",N(F12)+IF(G12<>"",MAX(0,H12-N(F12)),0)-H12) | L12: Decembris
A13: =IF(OR($H$4="",$L$13=""),"",IF(3>DAY(DATE($H$4,$L$13+1,0)),"",DATE($H$4,$L$13,3))) | B13: =IF(A13="","",A13) | F13: =IF(OR(C13="",D13=""),"",ROUND(MAX(0,MOD(D13-C13,1)*24-N(E13)/60),2)) | H13: =IF(A13="","",INDEX($C$8:$I$8,WEEKDAY(A13,2))) | I13: =IF(OR(A13="",AND(F13="",G13="")),"",N(F13)+IF(G13<>"",MAX(0,H13-N(F13)),0)-H13) | L13: =IF(ISNUMBER(J4),J4,IFERROR(MATCH(J4,$L$1:$L$12,0),""))
A14: =IF(OR($H$4="",$L$13=""),"",IF(4>DAY(DATE($H$4,$L$13+1,0)),"",DATE($H$4,$L$13,4))) | B14: =IF(A14="","",A14) | F14: =IF(OR(C14="",D14=""),"",ROUND(MAX(0,MOD(D14-C14,1)*24-N(E14)/60),2)) | H14: =IF(A14="","",INDEX($C$8:$I$8,WEEKDAY(A14,2))) | I14: =IF(OR(A14="",AND(F14="",G14="")),"",N(F14)+IF(G14<>"",MAX(0,H14-N(F14)),0)-H14)
A15: =IF(OR($H$4="",$L$13=""),"",IF(5>DAY(DATE($H$4,$L$13+1,0)),"",DATE($H$4,$L$13,5))) | B15: =IF(A15="","",A15) | F15: =IF(OR(C15="",D15=""),"",ROUND(MAX(0,MOD(D15-C15,1)*24-N(E15)/60),2)) | H15: =IF(A15="","",INDEX($C$8:$I$8,WEEKDAY(A15,2))) | I15: =IF(OR(A15="",AND(F15="",G15="")),"",N(F15)+IF(G15<>"",MAX(0,H15-N(F15)),0)-H15)
A16: =IF(OR($H$4="",$L$13=""),"",IF(6>DAY(DATE($H$4,$L$13+1,0)),"",DATE($H$4,$L$13,6))) | B16: =IF(A16="","",A16) | F16: =IF(OR(C16="",D16=""),"",ROUND(MAX(0,MOD(D16-C16,1)*24-N(E16)/60),2)) | H16: =IF(A16="","",INDEX($C$8:$I$8,WEEKDAY(A16,2))) | I16: =IF(OR(A16="",AND(F16="",G16="")),"",N(F16)+IF(G16<>"",MAX(0,H16-N(F16)),0)-H16)
A17: =IF(OR($H$4="",$L$13=""),"",IF(7>DAY(DATE($H$4,$L$13+1,0)),"",DATE($H$4,$L$13,7))) | B17: =IF(A17="","",A17) | F17: =IF(OR(C17="",D17=""),"",ROUND(MAX(0,MOD(D17-C17,1)*24-N(E17)/60),2)) | H17: =IF(A17="","",INDEX($C$8:$I$8,WEEKDAY(A17,2))) | I17: =IF(OR(A17="",AND(F17="",G17="")),"",N(F17)+IF(G17<>"",MAX(0,H17-N(F17)),0)-H17)
A18: =IF(OR($H$4="",$L$13=""),"",IF(8>DAY(DATE($H$4,$L$13+1,0)),"",DATE($H$4,$L$13,8))) | B18: =IF(A18="","",A18) | F18: =IF(OR(C18="",D18=""),"",ROUND(MAX(0,MOD(D18-C18,1)*24-N(E18)/60),2)) | H18: =IF(A18="","",INDEX($C$8:$I$8,WEEKDAY(A18,2))) | I18: =IF(OR(A18="",AND(F18="",G18="")),"",N(F18)+IF(G18<>"",MAX(0,H18-N(F18)),0)-H18)
A19: =IF(OR($H$4="",$L$13=""),"",IF(9>DAY(DATE($H$4,$L$13+1,0)),"",DATE($H$4,$L$13,9))) | B19: =IF(A19="","",A19) | F19: =IF(OR(C19="",D19=""),"",ROUND(MAX(0,MOD(D19-C19,1)*24-N(E19)/60),2)) | H19: =IF(A19="","",INDEX($C$8:$I$8,WEEKDAY(A19,2))) | I19: =IF(OR(A19="",AND(F19="",G19="")),"",N(F19)+IF(G19<>"",MAX(0,H19-N(F19)),0)-H19)
A20: =IF(OR($H$4="",$L$13=""),"",IF(10>DAY(DATE($H$4,$L$13+1,0)),"",DATE($H$4,$L$13,10))) | B20: =IF(A20="","",A20) | F20: =IF(OR(C20="",D20=""),"",ROUND(MAX(0,MOD(D20-C20,1)*24-N(E20)/60),2)) | H20: =IF(A20="","",INDEX($C$8:$I$8,WEEKDAY(A20,2))) | I20: =IF(OR(A20="",AND(F20="",G20="")),"",N(F20)+IF(G20<>"",MAX(0,H20-N(F20)),0)-H20)
A21: =IF(OR($H$4="",$L$13=""),"",IF(11>DAY(DATE($H$4,$L$13+1,0)),"",DATE($H$4,$L$13,11))) | B21: =IF(A21="","",A21) | F21: =IF(OR(C21="",D21=""),"",ROUND(MAX(0,MOD(D21-C21,1)*24-N(E21)/60),2)) | H21: =IF(A21="","",INDEX($C$8:$I$8,WEEKDAY(A21,2))) | I21: =IF(OR(A21="",AND(F21="",G21="")),"",N(F21)+IF(G21<>"",MAX(0,H21-N(F21)),0)-H21)
A22: =IF(OR($H$4="",$L$13=""),"",IF(12>DAY(DATE($H$4,$L$13+1,0)),"",DATE($H$4,$L$13,12))) | B22: =IF(A22="","",A22) | F22: =IF(OR(C22="",D22=""),"",ROUND(MAX(0,MOD(D22-C22,1)*24-N(E22)/60),2)) | H22: =IF(A22="","",INDEX($C$8:$I$8,WEEKDAY(A22,2))) | I22: =IF(OR(A22="",AND(F22="",G22="")),"",N(F22)+IF(G22<>"",MAX(0,H22-N(F22)),0)-H22)
A23: =IF(OR($H$4="",$L$13=""),"",IF(13>DAY(DATE($H$4,$L$13+1,0)),"",DATE($H$4,$L$13,13))) | B23: =IF(A23="","",A23) | F23: =IF(OR(C23="",D23=""),"",ROUND(MAX(0,MOD(D23-C23,1)*24-N(E23)/60),2)) | H23: =IF(A23="","",INDEX($C$8:$I$8,WEEKDAY(A23,2))) | I23: =IF(OR(A23="",AND(F23="",G23="")),"",N(F23)+IF(G23<>"",MAX(0,H23-N(F23)),0)-H23)
A24: =IF(OR($H$4="",$L$13=""),"",IF(14>DAY(DATE($H$4,$L$13+1,0)),"",DATE($H$4,$L$13,14))) | B24: =IF(A24="","",A24) | F24: =IF(OR(C24="",D24=""),"",ROUND(MAX(0,MOD(D24-C24,1)*24-N(E24)/60),2)) | H24: =IF(A24="","",INDEX($C$8:$I$8,WEEKDAY(A24,2))) | I24: =IF(OR(A24="",AND(F24="",G24="")),"",N(F24)+IF(G24<>"",MAX(0,H24-N(F24)),0)-H24)
A25: =IF(OR($H$4="",$L$13=""),"",IF(15>DAY(DATE($H$4,$L$13+1,0)),"",DATE($H$4,$L$13,15))) | B25: =IF(A25="","",A25) | F25: =IF(OR(C25="",D25=""),"",ROUND(MAX(0,MOD(D25-C25,1)*24-N(E25)/60),2)) | H25: =IF(A25="","",INDEX($C$8:$I$8,WEEKDAY(A25,2))) | I25: =IF(OR(A25="",AND(F25="",G25="")),"",N(F25)+IF(G25<>"",MAX(0,H25-N(F25)),0)-H25)
A26: =IF(OR($H$4="",$L$13=""),"",IF(16>DAY(DATE($H$4,$L$13+1,0)),"",DATE($H$4,$L$13,16))) | B26: =IF(A26="","",A26) | F26: =IF(OR(C26="",D26=""),"",ROUND(MAX(0,MOD(D26-C26,1)*24-N(E26)/60),2)) | H26: =IF(A26="","",INDEX($C$8:$I$8,WEEKDAY(A26,2))) | I26: =IF(OR(A26="",AND(F26="",G26="")),"",N(F26)+IF(G26<>"",MAX(0,H26-N(F26)),0)-H26)
A27: =IF(OR($H$4="",$L$13=""),"",IF(17>DAY(DATE($H$4,$L$13+1,0)),"",DATE($H$4,$L$13,17))) | B27: =IF(A27="","",A27) | F27: =IF(OR(C27="",D27=""),"",ROUND(MAX(0,MOD(D27-C27,1)*24-N(E27)/60),2)) | H27: =IF(A27="","",INDEX($C$8:$I$8,WEEKDAY(A27,2))) | I27: =IF(OR(A27="",AND(F27="",G27="")),"",N(F27)+IF(G27<>"",MAX(0,H27-N(F27)),0)-H27)
A28: =IF(OR($H$4="",$L$13=""),"",IF(18>DAY(DATE($H$4,$L$13+1,0)),"",DATE($H$4,$L$13,18))) | B28: =IF(A28="","",A28) | F28: =IF(OR(C28="",D28=""),"",ROUND(MAX(0,MOD(D28-C28,1)*24-N(E28)/60),2)) | H28: =IF(A28="","",INDEX($C$8:$I$8,WEEKDAY(A28,2))) | I28: =IF(OR(A28="",AND(F28="",G28="")),"",N(F28)+IF(G28<>"",MAX(0,H28-N(F28)),0)-H28)
A29: =IF(OR($H$4="",$L$13=""),"",IF(19>DAY(DATE($H$4,$L$13+1,0)),"",DATE($H$4,$L$13,19))) | B29: =IF(A29="","",A29) | F29: =IF(OR(C29="",D29=""),"",ROUND(MAX(0,MOD(D29-C29,1)*24-N(E29)/60),2)) | H29: =IF(A29="","",INDEX($C$8:$I$8,WEEKDAY(A29,2))) | I29: =IF(OR(A29="",AND(F29="",G29="")),"",N(F29)+IF(G29<>"",MAX(0,H29-N(F29)),0)-H29)
A30: =IF(OR($H$4="",$L$13=""),"",IF(20>DAY(DATE($H$4,$L$13+1,0)),"",DATE($H$4,$L$13,20))) | B30: =IF(A30="","",A30) | F30: =IF(OR(C30="",D30=""),"",ROUND(MAX(0,MOD(D30-C30,1)*24-N(E30)/60),2)) | H30: =IF(A30="","",INDEX($C$8:$I$8,WEEKDAY(A30,2))) | I30: =IF(OR(A30="",AND(F30="",G30="")),"",N(F30)+IF(G30<>"",MAX(0,H30-N(F30)),0)-H30)
A31: =IF(OR($H$4="",$L$13=""),"",IF(21>DAY(DATE($H$4,$L$13+1,0)),"",DATE($H$4,$L$13,21))) | B31: =IF(A31="","",A31) | F31: =IF(OR(C31="",D31=""),"",ROUND(MAX(0,MOD(D31-C31,1)*24-N(E31)/60),2)) | H31: =IF(A31="","",INDEX($C$8:$I$8,WEEKDAY(A31,2))) | I31: =IF(OR(A31="",AND(F31="",G31="")),"",N(F31)+IF(G31<>"",MAX(0,H31-N(F31)),0)-H31)
A32: =IF(OR($H$4="",$L$13=""),"",IF(22>DAY(DATE($H$4,$L$13+1,0)),"",DATE($H$4,$L$13,22))) | B32: =IF(A32="","",A32) | F32: =IF(OR(C32="",D32=""),"",ROUND(MAX(0,MOD(D32-C32,1)*24-N(E32)/60),2)) | H32: =IF(A32="","",INDEX($C$8:$I$8,WEEKDAY(A32,2))) | I32: =IF(OR(A32="",AND(F32="",G32="")),"",N(F32)+IF(G32<>"",MAX(0,H32-N(F32)),0)-H32)
A33: =IF(OR($H$4="",$L$13=""),"",IF(23>DAY(DATE($H$4,$L$13+1,0)),"",DATE($H$4,$L$13,23))) | B33: =IF(A33="","",A33) | F33: =IF(OR(C33="",D33=""),"",ROUND(MAX(0,MOD(D33-C33,1)*24-N(E33)/60),2)) | H33: =IF(A33="","",INDEX($C$8:$I$8,WEEKDAY(A33,2))) | I33: =IF(OR(A33="",AND(F33="",G33="")),"",N(F33)+IF(G33<>"",MAX(0,H33-N(F33)),0)-H33)
A34: =IF(OR($H$4="",$L$13=""),"",IF(24>DAY(DATE($H$4,$L$13+1,0)),"",DATE($H$4,$L$13,24))) | B34: =IF(A34="","",A34) | F34: =IF(OR(C34="",D34=""),"",ROUND(MAX(0,MOD(D34-C34,1)*24-N(E34)/60),2)) | H34: =IF(A34="","",INDEX($C$8:$I$8,WEEKDAY(A34,2))) | I34: =IF(OR(A34="",AND(F34="",G34="")),"",N(F34)+IF(G34<>"",MAX(0,H34-N(F34)),0)-H34)
A35: =IF(OR($H$4="",$L$13=""),"",IF(25>DAY(DATE($H$4,$L$13+1,0)),"",DATE($H$4,$L$13,25))) | B35: =IF(A35="","",A35) | F35: =IF(OR(C35="",D35=""),"",ROUND(MAX(0,MOD(D35-C35,1)*24-N(E35)/60),2)) | H35: =IF(A35="","",INDEX($C$8:$I$8,WEEKDAY(A35,2))) | I35: =IF(OR(A35="",AND(F35="",G35="")),"",N(F35)+IF(G35<>"",MAX(0,H35-N(F35)),0)-H35)
A36: =IF(OR($H$4="",$L$13=""),"",IF(26>DAY(DATE($H$4,$L$13+1,0)),"",DATE($H$4,$L$13,26))) | B36: =IF(A36="","",A36) | F36: =IF(OR(C36="",D36=""),"",ROUND(MAX(0,MOD(D36-C36,1)*24-N(E36)/60),2)) | H36: =IF(A36="","",INDEX($C$8:$I$8,WEEKDAY(A36,2))) | I36: =IF(OR(A36="",AND(F36="",G36="")),"",N(F36)+IF(G36<>"",MAX(0,H36-N(F36)),0)-H36)
A37: =IF(OR($H$4="",$L$13=""),"",IF(27>DAY(DATE($H$4,$L$13+1,0)),"",DATE($H$4,$L$13,27))) | B37: =IF(A37="","",A37) | F37: =IF(OR(C37="",D37=""),"",ROUND(MAX(0,MOD(D37-C37,1)*24-N(E37)/60),2)) | H37: =IF(A37="","",INDEX($C$8:$I$8,WEEKDAY(A37,2))) | I37: =IF(OR(A37="",AND(F37="",G37="")),"",N(F37)+IF(G37<>"",MAX(0,H37-N(F37)),0)-H37)
A38: =IF(OR($H$4="",$L$13=""),"",IF(28>DAY(DATE($H$4,$L$13+1,0)),"",DATE($H$4,$L$13,28))) | B38: =IF(A38="","",A38) | F38: =IF(OR(C38="",D38=""),"",ROUND(MAX(0,MOD(D38-C38,1)*24-N(E38)/60),2)) | H38: =IF(A38="","",INDEX($C$8:$I$8,WEEKDAY(A38,2))) | I38: =IF(OR(A38="",AND(F38="",G38="")),"",N(F38)+IF(G38<>"",MAX(0,H38-N(F38)),0)-H38)
A39: =IF(OR($H$4="",$L$13=""),"",IF(29>DAY(DATE($H$4,$L$13+1,0)),"",DATE($H$4,$L$13,29))) | B39: =IF(A39="","",A39) | F39: =IF(OR(C39="",D39=""),"",ROUND(MAX(0,MOD(D39-C39,1)*24-N(E39)/60),2)) | H39: =IF(A39="","",INDEX($C$8:$I$8,WEEKDAY(A39,2))) | I39: =IF(OR(A39="",AND(F39="",G39="")),"",N(F39)+IF(G39<>"",MAX(0,H39-N(F39)),0)-H39)
A40: =IF(OR($H$4="",$L$13=""),"",IF(30>DAY(DATE($H$4,$L$13+1,0)),"",DATE($H$4,$L$13,30))) | B40: =IF(A40="","",A40) | F40: =IF(OR(C40="",D40=""),"",ROUND(MAX(0,MOD(D40-C40,1)*24-N(E40)/60),2)) | H40: =IF(A40="","",INDEX($C$8:$I$8,WEEKDAY(A40,2))) | I40: =IF(OR(A40="",AND(F40="",G40="")),"",N(F40)+IF(G40<>"",MAX(0,H40-N(F40)),0)-H40)
A41: =IF(OR($H$4="",$L$13=""),"",IF(31>DAY(DATE($H$4,$L$13+1,0)),"",DATE($H$4,$L$13,31))) | B41: =IF(A41="","",A41) | F41: =IF(OR(C41="",D41=""),"",ROUND(MAX(0,MOD(D41-C41,1)*24-N(E41)/60),2)) | H41: =IF(A41="","",INDEX($C$8:$I$8,WEEKDAY(A41,2))) | I41: =IF(OR(A41="",AND(F41="",G41="")),"",N(F41)+IF(G41<>"",MAX(0,H41-N(F41)),0)-H41)
A43: Stundas kopā | F43: =SUM(F11:F41) | H43: =SUMPRODUCT(--ISNUMBER(I11:I41),H11:H41) | I43: =SUM(I11:I41)
A44: Mēneša kopsavilkums | G44: Prombūtnes dienas
A45: Nostrādātās stundas | F45: =F43 | G45: Atvaļinājums | H45: =COUNTIF($G$11:$G$41,G45)
A46: Ieskaitītās prombūtnes stundas | F46: =I43-F43+SUMPRODUCT(--ISNUMBER(I11:I41),H11:H41) | G46: Slimība | H46: =COUNTIF($G$11:$G$41,G46)
A47: Normas stundas | F47: =SUMPRODUCT(--ISNUMBER(I11:I41),H11:H41) | G47: Svētku diena | H47: =COUNTIF($G$11:$G$41,G47)
A48: Mēneša atlikums | F48: =I43 | G48: Cita apmaksāta prombūtne | H48: =COUNTIF($G$11:$G$41,G48)
A49: Pārnestais atlikums (h) | F49: =N(H5) | G49: Bezalgas atvaļinājums | H49: =COUNTIF($G$11:$G$41,G49)
A50: Nostrādātās dienas | F50: =COUNT(F11:F41)
A51: Pārnesamais atlikums | F51: =I43+N(H5)
A54: Darbinieka paraksts un datums | G54: Vadītāja paraksts un datums
A56: Bezmaksas veidne no EasyHours · easyhours.lv — reģistrējiet darba laiku telefonā vai kopīgā planšetē, nevis uz papīra.

Sheet Okt
A1: Mēneša darba laika tabele | H1: =IF(OR($H$4="",$L$13=""),"",DATE($H$4,$L$13,1)) | L1: Janvāris
L2: Februāris
L3: Marts
A4: Darbinieks | C4: =IF('Kopsavilkums'!$B$4="","",'Kopsavilkums'!$B$4) | G4: Gads | H4: ='Kopsavilkums'!$H$4 | I4: Mēnesis | J4: Oktobris | L4: Aprīlis
A5: Vadītājs | C5: =IF('Kopsavilkums'!$B$5="","",'Kopsavilkums'!$B$5) | G5: Pārnestais atlikums (h) | H5: ='Sept'!$F$51 | L5: Maijs
A6: Uzņēmums / objekts | C6: =IF('Kopsavilkums'!$B$6="","",'Kopsavilkums'!$B$6) | L6: Jūnijs
C7: 45292 | D7: 45293 | E7: 45294 | F7: 45295 | G7: 45296 | H7: 45297 | I7: 45298 | L7: Jūlijs
A8: Normālās stundas dienā | C8: ='Kopsavilkums'!$B$9 | D8: ='Kopsavilkums'!$C$9 | E8: ='Kopsavilkums'!$D$9 | F8: ='Kopsavilkums'!$E$9 | G8: ='Kopsavilkums'!$F$9 | H8: ='Kopsavilkums'!$G$9 | I8: ='Kopsavilkums'!$H$9 | J8: =SUM(C8:I8) | L8: Augusts
L9: Septembris
A10: Datums | B10: Diena | C10: Sākums | D10: Beigas | E10: Pārtraukums (min) | F10: Nostrādāts | G10: Prombūtne | H10: Norma | I10: +/− | J10: Piezīmes | L10: Oktobris
A11: =IF(OR($H$4="",$L$13=""),"",IF(1>DAY(DATE($H$4,$L$13+1,0)),"",DATE($H$4,$L$13,1))) | B11: =IF(A11="","",A11) | F11: =IF(OR(C11="",D11=""),"",ROUND(MAX(0,MOD(D11-C11,1)*24-N(E11)/60),2)) | H11: =IF(A11="","",INDEX($C$8:$I$8,WEEKDAY(A11,2))) | I11: =IF(OR(A11="",AND(F11="",G11="")),"",N(F11)+IF(G11<>"",MAX(0,H11-N(F11)),0)-H11) | L11: Novembris
A12: =IF(OR($H$4="",$L$13=""),"",IF(2>DAY(DATE($H$4,$L$13+1,0)),"",DATE($H$4,$L$13,2))) | B12: =IF(A12="","",A12) | F12: =IF(OR(C12="",D12=""),"",ROUND(MAX(0,MOD(D12-C12,1)*24-N(E12)/60),2)) | H12: =IF(A12="","",INDEX($C$8:$I$8,WEEKDAY(A12,2))) | I12: =IF(OR(A12="",AND(F12="",G12="")),"",N(F12)+IF(G12<>"",MAX(0,H12-N(F12)),0)-H12) | L12: Decembris
A13: =IF(OR($H$4="",$L$13=""),"",IF(3>DAY(DATE($H$4,$L$13+1,0)),"",DATE($H$4,$L$13,3))) | B13: =IF(A13="","",A13) | F13: =IF(OR(C13="",D13=""),"",ROUND(MAX(0,MOD(D13-C13,1)*24-N(E13)/60),2)) | H13: =IF(A13="","",INDEX($C$8:$I$8,WEEKDAY(A13,2))) | I13: =IF(OR(A13="",AND(F13="",G13="")),"",N(F13)+IF(G13<>"",MAX(0,H13-N(F13)),0)-H13) | L13: =IF(ISNUMBER(J4),J4,IFERROR(MATCH(J4,$L$1:$L$12,0),""))
A14: =IF(OR($H$4="",$L$13=""),"",IF(4>DAY(DATE($H$4,$L$13+1,0)),"",DATE($H$4,$L$13,4))) | B14: =IF(A14="","",A14) | F14: =IF(OR(C14="",D14=""),"",ROUND(MAX(0,MOD(D14-C14,1)*24-N(E14)/60),2)) | H14: =IF(A14="","",INDEX($C$8:$I$8,WEEKDAY(A14,2))) | I14: =IF(OR(A14="",AND(F14="",G14="")),"",N(F14)+IF(G14<>"",MAX(0,H14-N(F14)),0)-H14)
A15: =IF(OR($H$4="",$L$13=""),"",IF(5>DAY(DATE($H$4,$L$13+1,0)),"",DATE($H$4,$L$13,5))) | B15: =IF(A15="","",A15) | F15: =IF(OR(C15="",D15=""),"",ROUND(MAX(0,MOD(D15-C15,1)*24-N(E15)/60),2)) | H15: =IF(A15="","",INDEX($C$8:$I$8,WEEKDAY(A15,2))) | I15: =IF(OR(A15="",AND(F15="",G15="")),"",N(F15)+IF(G15<>"",MAX(0,H15-N(F15)),0)-H15)
A16: =IF(OR($H$4="",$L$13=""),"",IF(6>DAY(DATE($H$4,$L$13+1,0)),"",DATE($H$4,$L$13,6))) | B16: =IF(A16="","",A16) | F16: =IF(OR(C16="",D16=""),"",ROUND(MAX(0,MOD(D16-C16,1)*24-N(E16)/60),2)) | H16: =IF(A16="","",INDEX($C$8:$I$8,WEEKDAY(A16,2))) | I16: =IF(OR(A16="",AND(F16="",G16="")),"",N(F16)+IF(G16<>"",MAX(0,H16-N(F16)),0)-H16)
A17: =IF(OR($H$4="",$L$13=""),"",IF(7>DAY(DATE($H$4,$L$13+1,0)),"",DATE($H$4,$L$13,7))) | B17: =IF(A17="","",A17) | F17: =IF(OR(C17="",D17=""),"",ROUND(MAX(0,MOD(D17-C17,1)*24-N(E17)/60),2)) | H17: =IF(A17="","",INDEX($C$8:$I$8,WEEKDAY(A17,2))) | I17: =IF(OR(A17="",AND(F17="",G17="")),"",N(F17)+IF(G17<>"",MAX(0,H17-N(F17)),0)-H17)
A18: =IF(OR($H$4="",$L$13=""),"",IF(8>DAY(DATE($H$4,$L$13+1,0)),"",DATE($H$4,$L$13,8))) | B18: =IF(A18="","",A18) | F18: =IF(OR(C18="",D18=""),"",ROUND(MAX(0,MOD(D18-C18,1)*24-N(E18)/60),2)) | H18: =IF(A18="","",INDEX($C$8:$I$8,WEEKDAY(A18,2))) | I18: =IF(OR(A18="",AND(F18="",G18="")),"",N(F18)+IF(G18<>"",MAX(0,H18-N(F18)),0)-H18)
A19: =IF(OR($H$4="",$L$13=""),"",IF(9>DAY(DATE($H$4,$L$13+1,0)),"",DATE($H$4,$L$13,9))) | B19: =IF(A19="","",A19) | F19: =IF(OR(C19="",D19=""),"",ROUND(MAX(0,MOD(D19-C19,1)*24-N(E19)/60),2)) | H19: =IF(A19="","",INDEX($C$8:$I$8,WEEKDAY(A19,2))) | I19: =IF(OR(A19="",AND(F19="",G19="")),"",N(F19)+IF(G19<>"",MAX(0,H19-N(F19)),0)-H19)
A20: =IF(OR($H$4="",$L$13=""),"",IF(10>DAY(DATE($H$4,$L$13+1,0)),"",DATE($H$4,$L$13,10))) | B20: =IF(A20="","",A20) | F20: =IF(OR(C20="",D20=""),"",ROUND(MAX(0,MOD(D20-C20,1)*24-N(E20)/60),2)) | H20: =IF(A20="","",INDEX($C$8:$I$8,WEEKDAY(A20,2))) | I20: =IF(OR(A20="",AND(F20="",G20="")),"",N(F20)+IF(G20<>"",MAX(0,H20-N(F20)),0)-H20)
A21: =IF(OR($H$4="",$L$13=""),"",IF(11>DAY(DATE($H$4,$L$13+1,0)),"",DATE($H$4,$L$13,11))) | B21: =IF(A21="","",A21) | F21: =IF(OR(C21="",D21=""),"",ROUND(MAX(0,MOD(D21-C21,1)*24-N(E21)/60),2)) | H21: =IF(A21="","",INDEX($C$8:$I$8,WEEKDAY(A21,2))) | I21: =IF(OR(A21="",AND(F21="",G21="")),"",N(F21)+IF(G21<>"",MAX(0,H21-N(F21)),0)-H21)
A22: =IF(OR($H$4="",$L$13=""),"",IF(12>DAY(DATE($H$4,$L$13+1,0)),"",DATE($H$4,$L$13,12))) | B22: =IF(A22="","",A22) | F22: =IF(OR(C22="",D22=""),"",ROUND(MAX(0,MOD(D22-C22,1)*24-N(E22)/60),2)) | H22: =IF(A22="","",INDEX($C$8:$I$8,WEEKDAY(A22,2))) | I22: =IF(OR(A22="",AND(F22="",G22="")),"",N(F22)+IF(G22<>"",MAX(0,H22-N(F22)),0)-H22)
A23: =IF(OR($H$4="",$L$13=""),"",IF(13>DAY(DATE($H$4,$L$13+1,0)),"",DATE($H$4,$L$13,13))) | B23: =IF(A23="","",A23) | F23: =IF(OR(C23="",D23=""),"",ROUND(MAX(0,MOD(D23-C23,1)*24-N(E23)/60),2)) | H23: =IF(A23="","",INDEX($C$8:$I$8,WEEKDAY(A23,2))) | I23: =IF(OR(A23="",AND(F23="",G23="")),"",N(F23)+IF(G23<>"",MAX(0,H23-N(F23)),0)-H23)
A24: =IF(OR($H$4="",$L$13=""),"",IF(14>DAY(DATE($H$4,$L$13+1,0)),"",DATE($H$4,$L$13,14))) | B24: =IF(A24="","",A24) | F24: =IF(OR(C24="",D24=""),"",ROUND(MAX(0,MOD(D24-C24,1)*24-N(E24)/60),2)) | H24: =IF(A24="","",INDEX($C$8:$I$8,WEEKDAY(A24,2))) | I24: =IF(OR(A24="",AND(F24="",G24="")),"",N(F24)+IF(G24<>"",MAX(0,H24-N(F24)),0)-H24)
A25: =IF(OR($H$4="",$L$13=""),"",IF(15>DAY(DATE($H$4,$L$13+1,0)),"",DATE($H$4,$L$13,15))) | B25: =IF(A25="","",A25) | F25: =IF(OR(C25="",D25=""),"",ROUND(MAX(0,MOD(D25-C25,1)*24-N(E25)/60),2)) | H25: =IF(A25="","",INDEX($C$8:$I$8,WEEKDAY(A25,2))) | I25: =IF(OR(A25="",AND(F25="",G25="")),"",N(F25)+IF(G25<>"",MAX(0,H25-N(F25)),0)-H25)
A26: =IF(OR($H$4="",$L$13=""),"",IF(16>DAY(DATE($H$4,$L$13+1,0)),"",DATE($H$4,$L$13,16))) | B26: =IF(A26="","",A26) | F26: =IF(OR(C26="",D26=""),"",ROUND(MAX(0,MOD(D26-C26,1)*24-N(E26)/60),2)) | H26: =IF(A26="","",INDEX($C$8:$I$8,WEEKDAY(A26,2))) | I26: =IF(OR(A26="",AND(F26="",G26="")),"",N(F26)+IF(G26<>"",MAX(0,H26-N(F26)),0)-H26)
A27: =IF(OR($H$4="",$L$13=""),"",IF(17>DAY(DATE($H$4,$L$13+1,0)),"",DATE($H$4,$L$13,17))) | B27: =IF(A27="","",A27) | F27: =IF(OR(C27="",D27=""),"",ROUND(MAX(0,MOD(D27-C27,1)*24-N(E27)/60),2)) | H27: =IF(A27="","",INDEX($C$8:$I$8,WEEKDAY(A27,2))) | I27: =IF(OR(A27="",AND(F27="",G27="")),"",N(F27)+IF(G27<>"",MAX(0,H27-N(F27)),0)-H27)
A28: =IF(OR($H$4="",$L$13=""),"",IF(18>DAY(DATE($H$4,$L$13+1,0)),"",DATE($H$4,$L$13,18))) | B28: =IF(A28="","",A28) | F28: =IF(OR(C28="",D28=""),"",ROUND(MAX(0,MOD(D28-C28,1)*24-N(E28)/60),2)) | H28: =IF(A28="","",INDEX($C$8:$I$8,WEEKDAY(A28,2))) | I28: =IF(OR(A28="",AND(F28="",G28="")),"",N(F28)+IF(G28<>"",MAX(0,H28-N(F28)),0)-H28)
A29: =IF(OR($H$4="",$L$13=""),"",IF(19>DAY(DATE($H$4,$L$13+1,0)),"",DATE($H$4,$L$13,19))) | B29: =IF(A29="","",A29) | F29: =IF(OR(C29="",D29=""),"",ROUND(MAX(0,MOD(D29-C29,1)*24-N(E29)/60),2)) | H29: =IF(A29="","",INDEX($C$8:$I$8,WEEKDAY(A29,2))) | I29: =IF(OR(A29="",AND(F29="",G29="")),"",N(F29)+IF(G29<>"",MAX(0,H29-N(F29)),0)-H29)
A30: =IF(OR($H$4="",$L$13=""),"",IF(20>DAY(DATE($H$4,$L$13+1,0)),"",DATE($H$4,$L$13,20))) | B30: =IF(A30="","",A30) | F30: =IF(OR(C30="",D30=""),"",ROUND(MAX(0,MOD(D30-C30,1)*24-N(E30)/60),2)) | H30: =IF(A30="","",INDEX($C$8:$I$8,WEEKDAY(A30,2))) | I30: =IF(OR(A30="",AND(F30="",G30="")),"",N(F30)+IF(G30<>"",MAX(0,H30-N(F30)),0)-H30)
A31: =IF(OR($H$4="",$L$13=""),"",IF(21>DAY(DATE($H$4,$L$13+1,0)),"",DATE($H$4,$L$13,21))) | B31: =IF(A31="","",A31) | F31: =IF(OR(C31="",D31=""),"",ROUND(MAX(0,MOD(D31-C31,1)*24-N(E31)/60),2)) | H31: =IF(A31="","",INDEX($C$8:$I$8,WEEKDAY(A31,2))) | I31: =IF(OR(A31="",AND(F31="",G31="")),"",N(F31)+IF(G31<>"",MAX(0,H31-N(F31)),0)-H31)
A32: =IF(OR($H$4="",$L$13=""),"",IF(22>DAY(DATE($H$4,$L$13+1,0)),"",DATE($H$4,$L$13,22))) | B32: =IF(A32="","",A32) | F32: =IF(OR(C32="",D32=""),"",ROUND(MAX(0,MOD(D32-C32,1)*24-N(E32)/60),2)) | H32: =IF(A32="","",INDEX($C$8:$I$8,WEEKDAY(A32,2))) | I32: =IF(OR(A32="",AND(F32="",G32="")),"",N(F32)+IF(G32<>"",MAX(0,H32-N(F32)),0)-H32)
A33: =IF(OR($H$4="",$L$13=""),"",IF(23>DAY(DATE($H$4,$L$13+1,0)),"",DATE($H$4,$L$13,23))) | B33: =IF(A33="","",A33) | F33: =IF(OR(C33="",D33=""),"",ROUND(MAX(0,MOD(D33-C33,1)*24-N(E33)/60),2)) | H33: =IF(A33="","",INDEX($C$8:$I$8,WEEKDAY(A33,2))) | I33: =IF(OR(A33="",AND(F33="",G33="")),"",N(F33)+IF(G33<>"",MAX(0,H33-N(F33)),0)-H33)
A34: =IF(OR($H$4="",$L$13=""),"",IF(24>DAY(DATE($H$4,$L$13+1,0)),"",DATE($H$4,$L$13,24))) | B34: =IF(A34="","",A34) | F34: =IF(OR(C34="",D34=""),"",ROUND(MAX(0,MOD(D34-C34,1)*24-N(E34)/60),2)) | H34: =IF(A34="","",INDEX($C$8:$I$8,WEEKDAY(A34,2))) | I34: =IF(OR(A34="",AND(F34="",G34="")),"",N(F34)+IF(G34<>"",MAX(0,H34-N(F34)),0)-H34)
A35: =IF(OR($H$4="",$L$13=""),"",IF(25>DAY(DATE($H$4,$L$13+1,0)),"",DATE($H$4,$L$13,25))) | B35: =IF(A35="","",A35) | F35: =IF(OR(C35="",D35=""),"",ROUND(MAX(0,MOD(D35-C35,1)*24-N(E35)/60),2)) | H35: =IF(A35="","",INDEX($C$8:$I$8,WEEKDAY(A35,2))) | I35: =IF(OR(A35="",AND(F35="",G35="")),"",N(F35)+IF(G35<>"",MAX(0,H35-N(F35)),0)-H35)
A36: =IF(OR($H$4="",$L$13=""),"",IF(26>DAY(DATE($H$4,$L$13+1,0)),"",DATE($H$4,$L$13,26))) | B36: =IF(A36="","",A36) | F36: =IF(OR(C36="",D36=""),"",ROUND(MAX(0,MOD(D36-C36,1)*24-N(E36)/60),2)) | H36: =IF(A36="","",INDEX($C$8:$I$8,WEEKDAY(A36,2))) | I36: =IF(OR(A36="",AND(F36="",G36="")),"",N(F36)+IF(G36<>"",MAX(0,H36-N(F36)),0)-H36)
A37: =IF(OR($H$4="",$L$13=""),"",IF(27>DAY(DATE($H$4,$L$13+1,0)),"",DATE($H$4,$L$13,27))) | B37: =IF(A37="","",A37) | F37: =IF(OR(C37="",D37=""),"",ROUND(MAX(0,MOD(D37-C37,1)*24-N(E37)/60),2)) | H37: =IF(A37="","",INDEX($C$8:$I$8,WEEKDAY(A37,2))) | I37: =IF(OR(A37="",AND(F37="",G37="")),"",N(F37)+IF(G37<>"",MAX(0,H37-N(F37)),0)-H37)
A38: =IF(OR($H$4="",$L$13=""),"",IF(28>DAY(DATE($H$4,$L$13+1,0)),"",DATE($H$4,$L$13,28))) | B38: =IF(A38="","",A38) | F38: =IF(OR(C38="",D38=""),"",ROUND(MAX(0,MOD(D38-C38,1)*24-N(E38)/60),2)) | H38: =IF(A38="","",INDEX($C$8:$I$8,WEEKDAY(A38,2))) | I38: =IF(OR(A38="",AND(F38="",G38="")),"",N(F38)+IF(G38<>"",MAX(0,H38-N(F38)),0)-H38)
A39: =IF(OR($H$4="",$L$13=""),"",IF(29>DAY(DATE($H$4,$L$13+1,0)),"",DATE($H$4,$L$13,29))) | B39: =IF(A39="","",A39) | F39: =IF(OR(C39="",D39=""),"",ROUND(MAX(0,MOD(D39-C39,1)*24-N(E39)/60),2)) | H39: =IF(A39="","",INDEX($C$8:$I$8,WEEKDAY(A39,2))) | I39: =IF(OR(A39="",AND(F39="",G39="")),"",N(F39)+IF(G39<>"",MAX(0,H39-N(F39)),0)-H39)
A40: =IF(OR($H$4="",$L$13=""),"",IF(30>DAY(DATE($H$4,$L$13+1,0)),"",DATE($H$4,$L$13,30))) | B40: =IF(A40="","",A40) | F40: =IF(OR(C40="",D40=""),"",ROUND(MAX(0,MOD(D40-C40,1)*24-N(E40)/60),2)) | H40: =IF(A40="","",INDEX($C$8:$I$8,WEEKDAY(A40,2))) | I40: =IF(OR(A40="",AND(F40="",G40="")),"",N(F40)+IF(G40<>"",MAX(0,H40-N(F40)),0)-H40)
A41: =IF(OR($H$4="",$L$13=""),"",IF(31>DAY(DATE($H$4,$L$13+1,0)),"",DATE($H$4,$L$13,31))) | B41: =IF(A41="","",A41) | F41: =IF(OR(C41="",D41=""),"",ROUND(MAX(0,MOD(D41-C41,1)*24-N(E41)/60),2)) | H41: =IF(A41="","",INDEX($C$8:$I$8,WEEKDAY(A41,2))) | I41: =IF(OR(A41="",AND(F41="",G41="")),"",N(F41)+IF(G41<>"",MAX(0,H41-N(F41)),0)-H41)
A43: Stundas kopā | F43: =SUM(F11:F41) | H43: =SUMPRODUCT(--ISNUMBER(I11:I41),H11:H41) | I43: =SUM(I11:I41)
A44: Mēneša kopsavilkums | G44: Prombūtnes dienas
A45: Nostrādātās stundas | F45: =F43 | G45: Atvaļinājums | H45: =COUNTIF($G$11:$G$41,G45)
A46: Ieskaitītās prombūtnes stundas | F46: =I43-F43+SUMPRODUCT(--ISNUMBER(I11:I41),H11:H41) | G46: Slimība | H46: =COUNTIF($G$11:$G$41,G46)
A47: Normas stundas | F47: =SUMPRODUCT(--ISNUMBER(I11:I41),H11:H41) | G47: Svētku diena | H47: =COUNTIF($G$11:$G$41,G47)
A48: Mēneša atlikums | F48: =I43 | G48: Cita apmaksāta prombūtne | H48: =COUNTIF($G$11:$G$41,G48)
A49: Pārnestais atlikums (h) | F49: =N(H5) | G49: Bezalgas atvaļinājums | H49: =COUNTIF($G$11:$G$41,G49)
A50: Nostrādātās dienas | F50: =COUNT(F11:F41)
A51: Pārnesamais atlikums | F51: =I43+N(H5)
A54: Darbinieka paraksts un datums | G54: Vadītāja paraksts un datums
A56: Bezmaksas veidne no EasyHours · easyhours.lv — reģistrējiet darba laiku telefonā vai kopīgā planšetē, nevis uz papīra.

Sheet Nov
A1: Mēneša darba laika tabele | H1: =IF(OR($H$4="",$L$13=""),"",DATE($H$4,$L$13,1)) | L1: Janvāris
L2: Februāris
L3: Marts
A4: Darbinieks | C4: =IF('Kopsavilkums'!$B$4="","",'Kopsavilkums'!$B$4) | G4: Gads | H4: ='Kopsavilkums'!$H$4 | I4: Mēnesis | J4: Novembris | L4: Aprīlis
A5: Vadītājs | C5: =IF('Kopsavilkums'!$B$5="","",'Kopsavilkums'!$B$5) | G5: Pārnestais atlikums (h) | H5: ='Okt'!$F$51 | L5: Maijs
A6: Uzņēmums / objekts | C6: =IF('Kopsavilkums'!$B$6="","",'Kopsavilkums'!$B$6) | L6: Jūnijs
C7: 45292 | D7: 45293 | E7: 45294 | F7: 45295 | G7: 45296 | H7: 45297 | I7: 45298 | L7: Jūlijs
A8: Normālās stundas dienā | C8: ='Kopsavilkums'!$B$9 | D8: ='Kopsavilkums'!$C$9 | E8: ='Kopsavilkums'!$D$9 | F8: ='Kopsavilkums'!$E$9 | G8: ='Kopsavilkums'!$F$9 | H8: ='Kopsavilkums'!$G$9 | I8: ='Kopsavilkums'!$H$9 | J8: =SUM(C8:I8) | L8: Augusts
L9: Septembris
A10: Datums | B10: Diena | C10: Sākums | D10: Beigas | E10: Pārtraukums (min) | F10: Nostrādāts | G10: Prombūtne | H10: Norma | I10: +/− | J10: Piezīmes | L10: Oktobris
A11: =IF(OR($H$4="",$L$13=""),"",IF(1>DAY(DATE($H$4,$L$13+1,0)),"",DATE($H$4,$L$13,1))) | B11: =IF(A11="","",A11) | F11: =IF(OR(C11="",D11=""),"",ROUND(MAX(0,MOD(D11-C11,1)*24-N(E11)/60),2)) | H11: =IF(A11="","",INDEX($C$8:$I$8,WEEKDAY(A11,2))) | I11: =IF(OR(A11="",AND(F11="",G11="")),"",N(F11)+IF(G11<>"",MAX(0,H11-N(F11)),0)-H11) | L11: Novembris
A12: =IF(OR($H$4="",$L$13=""),"",IF(2>DAY(DATE($H$4,$L$13+1,0)),"",DATE($H$4,$L$13,2))) | B12: =IF(A12="","",A12) | F12: =IF(OR(C12="",D12=""),"",ROUND(MAX(0,MOD(D12-C12,1)*24-N(E12)/60),2)) | H12: =IF(A12="","",INDEX($C$8:$I$8,WEEKDAY(A12,2))) | I12: =IF(OR(A12="",AND(F12="",G12="")),"",N(F12)+IF(G12<>"",MAX(0,H12-N(F12)),0)-H12) | L12: Decembris
A13: =IF(OR($H$4="",$L$13=""),"",IF(3>DAY(DATE($H$4,$L$13+1,0)),"",DATE($H$4,$L$13,3))) | B13: =IF(A13="","",A13) | F13: =IF(OR(C13="",D13=""),"",ROUND(MAX(0,MOD(D13-C13,1)*24-N(E13)/60),2)) | H13: =IF(A13="","",INDEX($C$8:$I$8,WEEKDAY(A13,2))) | I13: =IF(OR(A13="",AND(F13="",G13="")),"",N(F13)+IF(G13<>"",MAX(0,H13-N(F13)),0)-H13) | L13: =IF(ISNUMBER(J4),J4,IFERROR(MATCH(J4,$L$1:$L$12,0),""))
A14: =IF(OR($H$4="",$L$13=""),"",IF(4>DAY(DATE($H$4,$L$13+1,0)),"",DATE($H$4,$L$13,4))) | B14: =IF(A14="","",A14) | F14: =IF(OR(C14="",D14=""),"",ROUND(MAX(0,MOD(D14-C14,1)*24-N(E14)/60),2)) | H14: =IF(A14="","",INDEX($C$8:$I$8,WEEKDAY(A14,2))) | I14: =IF(OR(A14="",AND(F14="",G14="")),"",N(F14)+IF(G14<>"",MAX(0,H14-N(F14)),0)-H14)
A15: =IF(OR($H$4="",$L$13=""),"",IF(5>DAY(DATE($H$4,$L$13+1,0)),"",DATE($H$4,$L$13,5))) | B15: =IF(A15="","",A15) | F15: =IF(OR(C15="",D15=""),"",ROUND(MAX(0,MOD(D15-C15,1)*24-N(E15)/60),2)) | H15: =IF(A15="","",INDEX($C$8:$I$8,WEEKDAY(A15,2))) | I15: =IF(OR(A15="",AND(F15="",G15="")),"",N(F15)+IF(G15<>"",MAX(0,H15-N(F15)),0)-H15)
A16: =IF(OR($H$4="",$L$13=""),"",IF(6>DAY(DATE($H$4,$L$13+1,0)),"",DATE($H$4,$L$13,6))) | B16: =IF(A16="","",A16) | F16: =IF(OR(C16="",D16=""),"",ROUND(MAX(0,MOD(D16-C16,1)*24-N(E16)/60),2)) | H16: =IF(A16="","",INDEX($C$8:$I$8,WEEKDAY(A16,2))) | I16: =IF(OR(A16="",AND(F16="",G16="")),"",N(F16)+IF(G16<>"",MAX(0,H16-N(F16)),0)-H16)
A17: =IF(OR($H$4="",$L$13=""),"",IF(7>DAY(DATE($H$4,$L$13+1,0)),"",DATE($H$4,$L$13,7))) | B17: =IF(A17="","",A17) | F17: =IF(OR(C17="",D17=""),"",ROUND(MAX(0,MOD(D17-C17,1)*24-N(E17)/60),2)) | H17: =IF(A17="","",INDEX($C$8:$I$8,WEEKDAY(A17,2))) | I17: =IF(OR(A17="",AND(F17="",G17="")),"",N(F17)+IF(G17<>"",MAX(0,H17-N(F17)),0)-H17)
A18: =IF(OR($H$4="",$L$13=""),"",IF(8>DAY(DATE($H$4,$L$13+1,0)),"",DATE($H$4,$L$13,8))) | B18: =IF(A18="","",A18) | F18: =IF(OR(C18="",D18=""),"",ROUND(MAX(0,MOD(D18-C18,1)*24-N(E18)/60),2)) | H18: =IF(A18="","",INDEX($C$8:$I$8,WEEKDAY(A18,2))) | I18: =IF(OR(A18="",AND(F18="",G18="")),"",N(F18)+IF(G18<>"",MAX(0,H18-N(F18)),0)-H18)
A19: =IF(OR($H$4="",$L$13=""),"",IF(9>DAY(DATE($H$4,$L$13+1,0)),"",DATE($H$4,$L$13,9))) | B19: =IF(A19="","",A19) | F19: =IF(OR(C19="",D19=""),"",ROUND(MAX(0,MOD(D19-C19,1)*24-N(E19)/60),2)) | H19: =IF(A19="","",INDEX($C$8:$I$8,WEEKDAY(A19,2))) | I19: =IF(OR(A19="",AND(F19="",G19="")),"",N(F19)+IF(G19<>"",MAX(0,H19-N(F19)),0)-H19)
A20: =IF(OR($H$4="",$L$13=""),"",IF(10>DAY(DATE($H$4,$L$13+1,0)),"",DATE($H$4,$L$13,10))) | B20: =IF(A20="","",A20) | F20: =IF(OR(C20="",D20=""),"",ROUND(MAX(0,MOD(D20-C20,1)*24-N(E20)/60),2)) | H20: =IF(A20="","",INDEX($C$8:$I$8,WEEKDAY(A20,2))) | I20: =IF(OR(A20="",AND(F20="",G20="")),"",N(F20)+IF(G20<>"",MAX(0,H20-N(F20)),0)-H20)
A21: =IF(OR($H$4="",$L$13=""),"",IF(11>DAY(DATE($H$4,$L$13+1,0)),"",DATE($H$4,$L$13,11))) | B21: =IF(A21="","",A21) | F21: =IF(OR(C21="",D21=""),"",ROUND(MAX(0,MOD(D21-C21,1)*24-N(E21)/60),2)) | H21: =IF(A21="","",INDEX($C$8:$I$8,WEEKDAY(A21,2))) | I21: =IF(OR(A21="",AND(F21="",G21="")),"",N(F21)+IF(G21<>"",MAX(0,H21-N(F21)),0)-H21)
A22: =IF(OR($H$4="",$L$13=""),"",IF(12>DAY(DATE($H$4,$L$13+1,0)),"",DATE($H$4,$L$13,12))) | B22: =IF(A22="","",A22) | F22: =IF(OR(C22="",D22=""),"",ROUND(MAX(0,MOD(D22-C22,1)*24-N(E22)/60),2)) | H22: =IF(A22="","",INDEX($C$8:$I$8,WEEKDAY(A22,2))) | I22: =IF(OR(A22="",AND(F22="",G22="")),"",N(F22)+IF(G22<>"",MAX(0,H22-N(F22)),0)-H22)
A23: =IF(OR($H$4="",$L$13=""),"",IF(13>DAY(DATE($H$4,$L$13+1,0)),"",DATE($H$4,$L$13,13))) | B23: =IF(A23="","",A23) | F23: =IF(OR(C23="",D23=""),"",ROUND(MAX(0,MOD(D23-C23,1)*24-N(E23)/60),2)) | H23: =IF(A23="","",INDEX($C$8:$I$8,WEEKDAY(A23,2))) | I23: =IF(OR(A23="",AND(F23="",G23="")),"",N(F23)+IF(G23<>"",MAX(0,H23-N(F23)),0)-H23)
A24: =IF(OR($H$4="",$L$13=""),"",IF(14>DAY(DATE($H$4,$L$13+1,0)),"",DATE($H$4,$L$13,14))) | B24: =IF(A24="","",A24) | F24: =IF(OR(C24="",D24=""),"",ROUND(MAX(0,MOD(D24-C24,1)*24-N(E24)/60),2)) | H24: =IF(A24="","",INDEX($C$8:$I$8,WEEKDAY(A24,2))) | I24: =IF(OR(A24="",AND(F24="",G24="")),"",N(F24)+IF(G24<>"",MAX(0,H24-N(F24)),0)-H24)
A25: =IF(OR($H$4="",$L$13=""),"",IF(15>DAY(DATE($H$4,$L$13+1,0)),"",DATE($H$4,$L$13,15))) | B25: =IF(A25="","",A25) | F25: =IF(OR(C25="",D25=""),"",ROUND(MAX(0,MOD(D25-C25,1)*24-N(E25)/60),2)) | H25: =IF(A25="","",INDEX($C$8:$I$8,WEEKDAY(A25,2))) | I25: =IF(OR(A25="",AND(F25="",G25="")),"",N(F25)+IF(G25<>"",MAX(0,H25-N(F25)),0)-H25)
A26: =IF(OR($H$4="",$L$13=""),"",IF(16>DAY(DATE($H$4,$L$13+1,0)),"",DATE($H$4,$L$13,16))) | B26: =IF(A26="","",A26) | F26: =IF(OR(C26="",D26=""),"",ROUND(MAX(0,MOD(D26-C26,1)*24-N(E26)/60),2)) | H26: =IF(A26="","",INDEX($C$8:$I$8,WEEKDAY(A26,2))) | I26: =IF(OR(A26="",AND(F26="",G26="")),"",N(F26)+IF(G26<>"",MAX(0,H26-N(F26)),0)-H26)
A27: =IF(OR($H$4="",$L$13=""),"",IF(17>DAY(DATE($H$4,$L$13+1,0)),"",DATE($H$4,$L$13,17))) | B27: =IF(A27="","",A27) | F27: =IF(OR(C27="",D27=""),"",ROUND(MAX(0,MOD(D27-C27,1)*24-N(E27)/60),2)) | H27: =IF(A27="","",INDEX($C$8:$I$8,WEEKDAY(A27,2))) | I27: =IF(OR(A27="",AND(F27="",G27="")),"",N(F27)+IF(G27<>"",MAX(0,H27-N(F27)),0)-H27)
A28: =IF(OR($H$4="",$L$13=""),"",IF(18>DAY(DATE($H$4,$L$13+1,0)),"",DATE($H$4,$L$13,18))) | B28: =IF(A28="","",A28) | F28: =IF(OR(C28="",D28=""),"",ROUND(MAX(0,MOD(D28-C28,1)*24-N(E28)/60),2)) | H28: =IF(A28="","",INDEX($C$8:$I$8,WEEKDAY(A28,2))) | I28: =IF(OR(A28="",AND(F28="",G28="")),"",N(F28)+IF(G28<>"",MAX(0,H28-N(F28)),0)-H28)
A29: =IF(OR($H$4="",$L$13=""),"",IF(19>DAY(DATE($H$4,$L$13+1,0)),"",DATE($H$4,$L$13,19))) | B29: =IF(A29="","",A29) | F29: =IF(OR(C29="",D29=""),"",ROUND(MAX(0,MOD(D29-C29,1)*24-N(E29)/60),2)) | H29: =IF(A29="","",INDEX($C$8:$I$8,WEEKDAY(A29,2))) | I29: =IF(OR(A29="",AND(F29="",G29="")),"",N(F29)+IF(G29<>"",MAX(0,H29-N(F29)),0)-H29)
A30: =IF(OR($H$4="",$L$13=""),"",IF(20>DAY(DATE($H$4,$L$13+1,0)),"",DATE($H$4,$L$13,20))) | B30: =IF(A30="","",A30) | F30: =IF(OR(C30="",D30=""),"",ROUND(MAX(0,MOD(D30-C30,1)*24-N(E30)/60),2)) | H30: =IF(A30="","",INDEX($C$8:$I$8,WEEKDAY(A30,2))) | I30: =IF(OR(A30="",AND(F30="",G30="")),"",N(F30)+IF(G30<>"",MAX(0,H30-N(F30)),0)-H30)
A31: =IF(OR($H$4="",$L$13=""),"",IF(21>DAY(DATE($H$4,$L$13+1,0)),"",DATE($H$4,$L$13,21))) | B31: =IF(A31="","",A31) | F31: =IF(OR(C31="",D31=""),"",ROUND(MAX(0,MOD(D31-C31,1)*24-N(E31)/60),2)) | H31: =IF(A31="","",INDEX($C$8:$I$8,WEEKDAY(A31,2))) | I31: =IF(OR(A31="",AND(F31="",G31="")),"",N(F31)+IF(G31<>"",MAX(0,H31-N(F31)),0)-H31)
A32: =IF(OR($H$4="",$L$13=""),"",IF(22>DAY(DATE($H$4,$L$13+1,0)),"",DATE($H$4,$L$13,22))) | B32: =IF(A32="","",A32) | F32: =IF(OR(C32="",D32=""),"",ROUND(MAX(0,MOD(D32-C32,1)*24-N(E32)/60),2)) | H32: =IF(A32="","",INDEX($C$8:$I$8,WEEKDAY(A32,2))) | I32: =IF(OR(A32="",AND(F32="",G32="")),"",N(F32)+IF(G32<>"",MAX(0,H32-N(F32)),0)-H32)
A33: =IF(OR($H$4="",$L$13=""),"",IF(23>DAY(DATE($H$4,$L$13+1,0)),"",DATE($H$4,$L$13,23))) | B33: =IF(A33="","",A33) | F33: =IF(OR(C33="",D33=""),"",ROUND(MAX(0,MOD(D33-C33,1)*24-N(E33)/60),2)) | H33: =IF(A33="","",INDEX($C$8:$I$8,WEEKDAY(A33,2))) | I33: =IF(OR(A33="",AND(F33="",G33="")),"",N(F33)+IF(G33<>"",MAX(0,H33-N(F33)),0)-H33)
A34: =IF(OR($H$4="",$L$13=""),"",IF(24>DAY(DATE($H$4,$L$13+1,0)),"",DATE($H$4,$L$13,24))) | B34: =IF(A34="","",A34) | F34: =IF(OR(C34="",D34=""),"",ROUND(MAX(0,MOD(D34-C34,1)*24-N(E34)/60),2)) | H34: =IF(A34="","",INDEX($C$8:$I$8,WEEKDAY(A34,2))) | I34: =IF(OR(A34="",AND(F34="",G34="")),"",N(F34)+IF(G34<>"",MAX(0,H34-N(F34)),0)-H34)
A35: =IF(OR($H$4="",$L$13=""),"",IF(25>DAY(DATE($H$4,$L$13+1,0)),"",DATE($H$4,$L$13,25))) | B35: =IF(A35="","",A35) | F35: =IF(OR(C35="",D35=""),"",ROUND(MAX(0,MOD(D35-C35,1)*24-N(E35)/60),2)) | H35: =IF(A35="","",INDEX($C$8:$I$8,WEEKDAY(A35,2))) | I35: =IF(OR(A35="",AND(F35="",G35="")),"",N(F35)+IF(G35<>"",MAX(0,H35-N(F35)),0)-H35)
A36: =IF(OR($H$4="",$L$13=""),"",IF(26>DAY(DATE($H$4,$L$13+1,0)),"",DATE($H$4,$L$13,26))) | B36: =IF(A36="","",A36) | F36: =IF(OR(C36="",D36=""),"",ROUND(MAX(0,MOD(D36-C36,1)*24-N(E36)/60),2)) | H36: =IF(A36="","",INDEX($C$8:$I$8,WEEKDAY(A36,2))) | I36: =IF(OR(A36="",AND(F36="",G36="")),"",N(F36)+IF(G36<>"",MAX(0,H36-N(F36)),0)-H36)
A37: =IF(OR($H$4="",$L$13=""),"",IF(27>DAY(DATE($H$4,$L$13+1,0)),"",DATE($H$4,$L$13,27))) | B37: =IF(A37="","",A37) | F37: =IF(OR(C37="",D37=""),"",ROUND(MAX(0,MOD(D37-C37,1)*24-N(E37)/60),2)) | H37: =IF(A37="","",INDEX($C$8:$I$8,WEEKDAY(A37,2))) | I37: =IF(OR(A37="",AND(F37="",G37="")),"",N(F37)+IF(G37<>"",MAX(0,H37-N(F37)),0)-H37)
A38: =IF(OR($H$4="",$L$13=""),"",IF(28>DAY(DATE($H$4,$L$13+1,0)),"",DATE($H$4,$L$13,28))) | B38: =IF(A38="","",A38) | F38: =IF(OR(C38="",D38=""),"",ROUND(MAX(0,MOD(D38-C38,1)*24-N(E38)/60),2)) | H38: =IF(A38="","",INDEX($C$8:$I$8,WEEKDAY(A38,2))) | I38: =IF(OR(A38="",AND(F38="",G38="")),"",N(F38)+IF(G38<>"",MAX(0,H38-N(F38)),0)-H38)
A39: =IF(OR($H$4="",$L$13=""),"",IF(29>DAY(DATE($H$4,$L$13+1,0)),"",DATE($H$4,$L$13,29))) | B39: =IF(A39="","",A39) | F39: =IF(OR(C39="",D39=""),"",ROUND(MAX(0,MOD(D39-C39,1)*24-N(E39)/60),2)) | H39: =IF(A39="","",INDEX($C$8:$I$8,WEEKDAY(A39,2))) | I39: =IF(OR(A39="",AND(F39="",G39="")),"",N(F39)+IF(G39<>"",MAX(0,H39-N(F39)),0)-H39)
A40: =IF(OR($H$4="",$L$13=""),"",IF(30>DAY(DATE($H$4,$L$13+1,0)),"",DATE($H$4,$L$13,30))) | B40: =IF(A40="","",A40) | F40: =IF(OR(C40="",D40=""),"",ROUND(MAX(0,MOD(D40-C40,1)*24-N(E40)/60),2)) | H40: =IF(A40="","",INDEX($C$8:$I$8,WEEKDAY(A40,2))) | I40: =IF(OR(A40="",AND(F40="",G40="")),"",N(F40)+IF(G40<>"",MAX(0,H40-N(F40)),0)-H40)
A41: =IF(OR($H$4="",$L$13=""),"",IF(31>DAY(DATE($H$4,$L$13+1,0)),"",DATE($H$4,$L$13,31))) | B41: =IF(A41="","",A41) | F41: =IF(OR(C41="",D41=""),"",ROUND(MAX(0,MOD(D41-C41,1)*24-N(E41)/60),2)) | H41: =IF(A41="","",INDEX($C$8:$I$8,WEEKDAY(A41,2))) | I41: =IF(OR(A41="",AND(F41="",G41="")),"",N(F41)+IF(G41<>"",MAX(0,H41-N(F41)),0)-H41)
A43: Stundas kopā | F43: =SUM(F11:F41) | H43: =SUMPRODUCT(--ISNUMBER(I11:I41),H11:H41) | I43: =SUM(I11:I41)
A44: Mēneša kopsavilkums | G44: Prombūtnes dienas
A45: Nostrādātās stundas | F45: =F43 | G45: Atvaļinājums | H45: =COUNTIF($G$11:$G$41,G45)
A46: Ieskaitītās prombūtnes stundas | F46: =I43-F43+SUMPRODUCT(--ISNUMBER(I11:I41),H11:H41) | G46: Slimība | H46: =COUNTIF($G$11:$G$41,G46)
A47: Normas stundas | F47: =SUMPRODUCT(--ISNUMBER(I11:I41),H11:H41) | G47: Svētku diena | H47: =COUNTIF($G$11:$G$41,G47)
A48: Mēneša atlikums | F48: =I43 | G48: Cita apmaksāta prombūtne | H48: =COUNTIF($G$11:$G$41,G48)
A49: Pārnestais atlikums (h) | F49: =N(H5) | G49: Bezalgas atvaļinājums | H49: =COUNTIF($G$11:$G$41,G49)
A50: Nostrādātās dienas | F50: =COUNT(F11:F41)
A51: Pārnesamais atlikums | F51: =I43+N(H5)
A54: Darbinieka paraksts un datums | G54: Vadītāja paraksts un datums
A56: Bezmaksas veidne no EasyHours · easyhours.lv — reģistrējiet darba laiku telefonā vai kopīgā planšetē, nevis uz papīra.

Sheet Dec
A1: Mēneša darba laika tabele | H1: =IF(OR($H$4="",$L$13=""),"",DATE($H$4,$L$13,1)) | L1: Janvāris
L2: Februāris
L3: Marts
A4: Darbinieks | C4: =IF('Kopsavilkums'!$B$4="","",'Kopsavilkums'!$B$4) | G4: Gads | H4: ='Kopsavilkums'!$H$4 | I4: Mēnesis | J4: Decembris | L4: Aprīlis
A5: Vadītājs | C5: =IF('Kopsavilkums'!$B$5="","",'Kopsavilkums'!$B$5) | G5: Pārnestais atlikums (h) | H5: ='Nov'!$F$51 | L5: Maijs
A6: Uzņēmums / objekts | C6: =IF('Kopsavilkums'!$B$6="","",'Kopsavilkums'!$B$6) | L6: Jūnijs
C7: 45292 | D7: 45293 | E7: 45294 | F7: 45295 | G7: 45296 | H7: 45297 | I7: 45298 | L7: Jūlijs
A8: Normālās stundas dienā | C8: ='Kopsavilkums'!$B$9 | D8: ='Kopsavilkums'!$C$9 | E8: ='Kopsavilkums'!$D$9 | F8: ='Kopsavilkums'!$E$9 | G8: ='Kopsavilkums'!$F$9 | H8: ='Kopsavilkums'!$G$9 | I8: ='Kopsavilkums'!$H$9 | J8: =SUM(C8:I8) | L8: Augusts
L9: Septembris
A10: Datums | B10: Diena | C10: Sākums | D10: Beigas | E10: Pārtraukums (min) | F10: Nostrādāts | G10: Prombūtne | H10: Norma | I10: +/− | J10: Piezīmes | L10: Oktobris
A11: =IF(OR($H$4="",$L$13=""),"",IF(1>DAY(DATE($H$4,$L$13+1,0)),"",DATE($H$4,$L$13,1))) | B11: =IF(A11="","",A11) | F11: =IF(OR(C11="",D11=""),"",ROUND(MAX(0,MOD(D11-C11,1)*24-N(E11)/60),2)) | H11: =IF(A11="","",INDEX($C$8:$I$8,WEEKDAY(A11,2))) | I11: =IF(OR(A11="",AND(F11="",G11="")),"",N(F11)+IF(G11<>"",MAX(0,H11-N(F11)),0)-H11) | L11: Novembris
A12: =IF(OR($H$4="",$L$13=""),"",IF(2>DAY(DATE($H$4,$L$13+1,0)),"",DATE($H$4,$L$13,2))) | B12: =IF(A12="","",A12) | F12: =IF(OR(C12="",D12=""),"",ROUND(MAX(0,MOD(D12-C12,1)*24-N(E12)/60),2)) | H12: =IF(A12="","",INDEX($C$8:$I$8,WEEKDAY(A12,2))) | I12: =IF(OR(A12="",AND(F12="",G12="")),"",N(F12)+IF(G12<>"",MAX(0,H12-N(F12)),0)-H12) | L12: Decembris
A13: =IF(OR($H$4="",$L$13=""),"",IF(3>DAY(DATE($H$4,$L$13+1,0)),"",DATE($H$4,$L$13,3))) | B13: =IF(A13="","",A13) | F13: =IF(OR(C13="",D13=""),"",ROUND(MAX(0,MOD(D13-C13,1)*24-N(E13)/60),2)) | H13: =IF(A13="","",INDEX($C$8:$I$8,WEEKDAY(A13,2))) | I13: =IF(OR(A13="",AND(F13="",G13="")),"",N(F13)+IF(G13<>"",MAX(0,H13-N(F13)),0)-H13) | L13: =IF(ISNUMBER(J4),J4,IFERROR(MATCH(J4,$L$1:$L$12,0),""))
A14: =IF(OR($H$4="",$L$13=""),"",IF(4>DAY(DATE($H$4,$L$13+1,0)),"",DATE($H$4,$L$13,4))) | B14: =IF(A14="","",A14) | F14: =IF(OR(C14="",D14=""),"",ROUND(MAX(0,MOD(D14-C14,1)*24-N(E14)/60),2)) | H14: =IF(A14="","",INDEX($C$8:$I$8,WEEKDAY(A14,2))) | I14: =IF(OR(A14="",AND(F14="",G14="")),"",N(F14)+IF(G14<>"",MAX(0,H14-N(F14)),0)-H14)
A15: =IF(OR($H$4="",$L$13=""),"",IF(5>DAY(DATE($H$4,$L$13+1,0)),"",DATE($H$4,$L$13,5))) | B15: =IF(A15="","",A15) | F15: =IF(OR(C15="",D15=""),"",ROUND(MAX(0,MOD(D15-C15,1)*24-N(E15)/60),2)) | H15: =IF(A15="","",INDEX($C$8:$I$8,WEEKDAY(A15,2))) | I15: =IF(OR(A15="",AND(F15="",G15="")),"",N(F15)+IF(G15<>"",MAX(0,H15-N(F15)),0)-H15)
A16: =IF(OR($H$4="",$L$13=""),"",IF(6>DAY(DATE($H$4,$L$13+1,0)),"",DATE($H$4,$L$13,6))) | B16: =IF(A16="","",A16) | F16: =IF(OR(C16="",D16=""),"",ROUND(MAX(0,MOD(D16-C16,1)*24-N(E16)/60),2)) | H16: =IF(A16="","",INDEX($C$8:$I$8,WEEKDAY(A16,2))) | I16: =IF(OR(A16="",AND(F16="",G16="")),"",N(F16)+IF(G16<>"",MAX(0,H16-N(F16)),0)-H16)
A17: =IF(OR($H$4="",$L$13=""),"",IF(7>DAY(DATE($H$4,$L$13+1,0)),"",DATE($H$4,$L$13,7))) | B17: =IF(A17="","",A17) | F17: =IF(OR(C17="",D17=""),"",ROUND(MAX(0,MOD(D17-C17,1)*24-N(E17)/60),2)) | H17: =IF(A17="","",INDEX($C$8:$I$8,WEEKDAY(A17,2))) | I17: =IF(OR(A17="",AND(F17="",G17="")),"",N(F17)+IF(G17<>"",MAX(0,H17-N(F17)),0)-H17)
A18: =IF(OR($H$4="",$L$13=""),"",IF(8>DAY(DATE($H$4,$L$13+1,0)),"",DATE($H$4,$L$13,8))) | B18: =IF(A18="","",A18) | F18: =IF(OR(C18="",D18=""),"",ROUND(MAX(0,MOD(D18-C18,1)*24-N(E18)/60),2)) | H18: =IF(A18="","",INDEX($C$8:$I$8,WEEKDAY(A18,2))) | I18: =IF(OR(A18="",AND(F18="",G18="")),"",N(F18)+IF(G18<>"",MAX(0,H18-N(F18)),0)-H18)
A19: =IF(OR($H$4="",$L$13=""),"",IF(9>DAY(DATE($H$4,$L$13+1,0)),"",DATE($H$4,$L$13,9))) | B19: =IF(A19="","",A19) | F19: =IF(OR(C19="",D19=""),"",ROUND(MAX(0,MOD(D19-C19,1)*24-N(E19)/60),2)) | H19: =IF(A19="","",INDEX($C$8:$I$8,WEEKDAY(A19,2))) | I19: =IF(OR(A19="",AND(F19="",G19="")),"",N(F19)+IF(G19<>"",MAX(0,H19-N(F19)),0)-H19)
A20: =IF(OR($H$4="",$L$13=""),"",IF(10>DAY(DATE($H$4,$L$13+1,0)),"",DATE($H$4,$L$13,10))) | B20: =IF(A20="","",A20) | F20: =IF(OR(C20="",D20=""),"",ROUND(MAX(0,MOD(D20-C20,1)*24-N(E20)/60),2)) | H20: =IF(A20="","",INDEX($C$8:$I$8,WEEKDAY(A20,2))) | I20: =IF(OR(A20="",AND(F20="",G20="")),"",N(F20)+IF(G20<>"",MAX(0,H20-N(F20)),0)-H20)
A21: =IF(OR($H$4="",$L$13=""),"",IF(11>DAY(DATE($H$4,$L$13+1,0)),"",DATE($H$4,$L$13,11))) | B21: =IF(A21="","",A21) | F21: =IF(OR(C21="",D21=""),"",ROUND(MAX(0,MOD(D21-C21,1)*24-N(E21)/60),2)) | H21: =IF(A21="","",INDEX($C$8:$I$8,WEEKDAY(A21,2))) | I21: =IF(OR(A21="",AND(F21="",G21="")),"",N(F21)+IF(G21<>"",MAX(0,H21-N(F21)),0)-H21)
A22: =IF(OR($H$4="",$L$13=""),"",IF(12>DAY(DATE($H$4,$L$13+1,0)),"",DATE($H$4,$L$13,12))) | B22: =IF(A22="","",A22) | F22: =IF(OR(C22="",D22=""),"",ROUND(MAX(0,MOD(D22-C22,1)*24-N(E22)/60),2)) | H22: =IF(A22="","",INDEX($C$8:$I$8,WEEKDAY(A22,2))) | I22: =IF(OR(A22="",AND(F22="",G22="")),"",N(F22)+IF(G22<>"",MAX(0,H22-N(F22)),0)-H22)
A23: =IF(OR($H$4="",$L$13=""),"",IF(13>DAY(DATE($H$4,$L$13+1,0)),"",DATE($H$4,$L$13,13))) | B23: =IF(A23="","",A23) | F23: =IF(OR(C23="",D23=""),"",ROUND(MAX(0,MOD(D23-C23,1)*24-N(E23)/60),2)) | H23: =IF(A23="","",INDEX($C$8:$I$8,WEEKDAY(A23,2))) | I23: =IF(OR(A23="",AND(F23="",G23="")),"",N(F23)+IF(G23<>"",MAX(0,H23-N(F23)),0)-H23)
A24: =IF(OR($H$4="",$L$13=""),"",IF(14>DAY(DATE($H$4,$L$13+1,0)),"",DATE($H$4,$L$13,14))) | B24: =IF(A24="","",A24) | F24: =IF(OR(C24="",D24=""),"",ROUND(MAX(0,MOD(D24-C24,1)*24-N(E24)/60),2)) | H24: =IF(A24="","",INDEX($C$8:$I$8,WEEKDAY(A24,2))) | I24: =IF(OR(A24="",AND(F24="",G24="")),"",N(F24)+IF(G24<>"",MAX(0,H24-N(F24)),0)-H24)
A25: =IF(OR($H$4="",$L$13=""),"",IF(15>DAY(DATE($H$4,$L$13+1,0)),"",DATE($H$4,$L$13,15))) | B25: =IF(A25="","",A25) | F25: =IF(OR(C25="",D25=""),"",ROUND(MAX(0,MOD(D25-C25,1)*24-N(E25)/60),2)) | H25: =IF(A25="","",INDEX($C$8:$I$8,WEEKDAY(A25,2))) | I25: =IF(OR(A25="",AND(F25="",G25="")),"",N(F25)+IF(G25<>"",MAX(0,H25-N(F25)),0)-H25)
A26: =IF(OR($H$4="",$L$13=""),"",IF(16>DAY(DATE($H$4,$L$13+1,0)),"",DATE($H$4,$L$13,16))) | B26: =IF(A26="","",A26) | F26: =IF(OR(C26="",D26=""),"",ROUND(MAX(0,MOD(D26-C26,1)*24-N(E26)/60),2)) | H26: =IF(A26="","",INDEX($C$8:$I$8,WEEKDAY(A26,2))) | I26: =IF(OR(A26="",AND(F26="",G26="")),"",N(F26)+IF(G26<>"",MAX(0,H26-N(F26)),0)-H26)
A27: =IF(OR($H$4="",$L$13=""),"",IF(17>DAY(DATE($H$4,$L$13+1,0)),"",DATE($H$4,$L$13,17))) | B27: =IF(A27="","",A27) | F27: =IF(OR(C27="",D27=""),"",ROUND(MAX(0,MOD(D27-C27,1)*24-N(E27)/60),2)) | H27: =IF(A27="","",INDEX($C$8:$I$8,WEEKDAY(A27,2))) | I27: =IF(OR(A27="",AND(F27="",G27="")),"",N(F27)+IF(G27<>"",MAX(0,H27-N(F27)),0)-H27)
A28: =IF(OR($H$4="",$L$13=""),"",IF(18>DAY(DATE($H$4,$L$13+1,0)),"",DATE($H$4,$L$13,18))) | B28: =IF(A28="","",A28) | F28: =IF(OR(C28="",D28=""),"",ROUND(MAX(0,MOD(D28-C28,1)*24-N(E28)/60),2)) | H28: =IF(A28="","",INDEX($C$8:$I$8,WEEKDAY(A28,2))) | I28: =IF(OR(A28="",AND(F28="",G28="")),"",N(F28)+IF(G28<>"",MAX(0,H28-N(F28)),0)-H28)
A29: =IF(OR($H$4="",$L$13=""),"",IF(19>DAY(DATE($H$4,$L$13+1,0)),"",DATE($H$4,$L$13,19))) | B29: =IF(A29="","",A29) | F29: =IF(OR(C29="",D29=""),"",ROUND(MAX(0,MOD(D29-C29,1)*24-N(E29)/60),2)) | H29: =IF(A29="","",INDEX($C$8:$I$8,WEEKDAY(A29,2))) | I29: =IF(OR(A29="",AND(F29="",G29="")),"",N(F29)+IF(G29<>"",MAX(0,H29-N(F29)),0)-H29)
A30: =IF(OR($H$4="",$L$13=""),"",IF(20>DAY(DATE($H$4,$L$13+1,0)),"",DATE($H$4,$L$13,20))) | B30: =IF(A30="","",A30) | F30: =IF(OR(C30="",D30=""),"",ROUND(MAX(0,MOD(D30-C30,1)*24-N(E30)/60),2)) | H30: =IF(A30="","",INDEX($C$8:$I$8,WEEKDAY(A30,2))) | I30: =IF(OR(A30="",AND(F30="",G30="")),"",N(F30)+IF(G30<>"",MAX(0,H30-N(F30)),0)-H30)
A31: =IF(OR($H$4="",$L$13=""),"",IF(21>DAY(DATE($H$4,$L$13+1,0)),"",DATE($H$4,$L$13,21))) | B31: =IF(A31="","",A31) | F31: =IF(OR(C31="",D31=""),"",ROUND(MAX(0,MOD(D31-C31,1)*24-N(E31)/60),2)) | H31: =IF(A31="","",INDEX($C$8:$I$8,WEEKDAY(A31,2))) | I31: =IF(OR(A31="",AND(F31="",G31="")),"",N(F31)+IF(G31<>"",MAX(0,H31-N(F31)),0)-H31)
A32: =IF(OR($H$4="",$L$13=""),"",IF(22>DAY(DATE($H$4,$L$13+1,0)),"",DATE($H$4,$L$13,22))) | B32: =IF(A32="","",A32) | F32: =IF(OR(C32="",D32=""),"",ROUND(MAX(0,MOD(D32-C32,1)*24-N(E32)/60),2)) | H32: =IF(A32="","",INDEX($C$8:$I$8,WEEKDAY(A32,2))) | I32: =IF(OR(A32="",AND(F32="",G32="")),"",N(F32)+IF(G32<>"",MAX(0,H32-N(F32)),0)-H32)
A33: =IF(OR($H$4="",$L$13=""),"",IF(23>DAY(DATE($H$4,$L$13+1,0)),"",DATE($H$4,$L$13,23))) | B33: =IF(A33="","",A33) | F33: =IF(OR(C33="",D33=""),"",ROUND(MAX(0,MOD(D33-C33,1)*24-N(E33)/60),2)) | H33: =IF(A33="","",INDEX($C$8:$I$8,WEEKDAY(A33,2))) | I33: =IF(OR(A33="",AND(F33="",G33="")),"",N(F33)+IF(G33<>"",MAX(0,H33-N(F33)),0)-H33)
A34: =IF(OR($H$4="",$L$13=""),"",IF(24>DAY(DATE($H$4,$L$13+1,0)),"",DATE($H$4,$L$13,24))) | B34: =IF(A34="","",A34) | F34: =IF(OR(C34="",D34=""),"",ROUND(MAX(0,MOD(D34-C34,1)*24-N(E34)/60),2)) | H34: =IF(A34="","",INDEX($C$8:$I$8,WEEKDAY(A34,2))) | I34: =IF(OR(A34="",AND(F34="",G34="")),"",N(F34)+IF(G34<>"",MAX(0,H34-N(F34)),0)-H34)
A35: =IF(OR($H$4="",$L$13=""),"",IF(25>DAY(DATE($H$4,$L$13+1,0)),"",DATE($H$4,$L$13,25))) | B35: =IF(A35="","",A35) | F35: =IF(OR(C35="",D35=""),"",ROUND(MAX(0,MOD(D35-C35,1)*24-N(E35)/60),2)) | H35: =IF(A35="","",INDEX($C$8:$I$8,WEEKDAY(A35,2))) | I35: =IF(OR(A35="",AND(F35="",G35="")),"",N(F35)+IF(G35<>"",MAX(0,H35-N(F35)),0)-H35)
A36: =IF(OR($H$4="",$L$13=""),"",IF(26>DAY(DATE($H$4,$L$13+1,0)),"",DATE($H$4,$L$13,26))) | B36: =IF(A36="","",A36) | F36: =IF(OR(C36="",D36=""),"",ROUND(MAX(0,MOD(D36-C36,1)*24-N(E36)/60),2)) | H36: =IF(A36="","",INDEX($C$8:$I$8,WEEKDAY(A36,2))) | I36: =IF(OR(A36="",AND(F36="",G36="")),"",N(F36)+IF(G36<>"",MAX(0,H36-N(F36)),0)-H36)
A37: =IF(OR($H$4="",$L$13=""),"",IF(27>DAY(DATE($H$4,$L$13+1,0)),"",DATE($H$4,$L$13,27))) | B37: =IF(A37="","",A37) | F37: =IF(OR(C37="",D37=""),"",ROUND(MAX(0,MOD(D37-C37,1)*24-N(E37)/60),2)) | H37: =IF(A37="","",INDEX($C$8:$I$8,WEEKDAY(A37,2))) | I37: =IF(OR(A37="",AND(F37="",G37="")),"",N(F37)+IF(G37<>"",MAX(0,H37-N(F37)),0)-H37)
A38: =IF(OR($H$4="",$L$13=""),"",IF(28>DAY(DATE($H$4,$L$13+1,0)),"",DATE($H$4,$L$13,28))) | B38: =IF(A38="","",A38) | F38: =IF(OR(C38="",D38=""),"",ROUND(MAX(0,MOD(D38-C38,1)*24-N(E38)/60),2)) | H38: =IF(A38="","",INDEX($C$8:$I$8,WEEKDAY(A38,2))) | I38: =IF(OR(A38="",AND(F38="",G38="")),"",N(F38)+IF(G38<>"",MAX(0,H38-N(F38)),0)-H38)
A39: =IF(OR($H$4="",$L$13=""),"",IF(29>DAY(DATE($H$4,$L$13+1,0)),"",DATE($H$4,$L$13,29))) | B39: =IF(A39="","",A39) | F39: =IF(OR(C39="",D39=""),"",ROUND(MAX(0,MOD(D39-C39,1)*24-N(E39)/60),2)) | H39: =IF(A39="","",INDEX($C$8:$I$8,WEEKDAY(A39,2))) | I39: =IF(OR(A39="",AND(F39="",G39="")),"",N(F39)+IF(G39<>"",MAX(0,H39-N(F39)),0)-H39)
A40: =IF(OR($H$4="",$L$13=""),"",IF(30>DAY(DATE($H$4,$L$13+1,0)),"",DATE($H$4,$L$13,30))) | B40: =IF(A40="","",A40) | F40: =IF(OR(C40="",D40=""),"",ROUND(MAX(0,MOD(D40-C40,1)*24-N(E40)/60),2)) | H40: =IF(A40="","",INDEX($C$8:$I$8,WEEKDAY(A40,2))) | I40: =IF(OR(A40="",AND(F40="",G40="")),"",N(F40)+IF(G40<>"",MAX(0,H40-N(F40)),0)-H40)
A41: =IF(OR($H$4="",$L$13=""),"",IF(31>DAY(DATE($H$4,$L$13+1,0)),"",DATE($H$4,$L$13,31))) | B41: =IF(A41="","",A41) | F41: =IF(OR(C41="",D41=""),"",ROUND(MAX(0,MOD(D41-C41,1)*24-N(E41)/60),2)) | H41: =IF(A41="","",INDEX($C$8:$I$8,WEEKDAY(A41,2))) | I41: =IF(OR(A41="",AND(F41="",G41="")),"",N(F41)+IF(G41<>"",MAX(0,H41-N(F41)),0)-H41)
A43: Stundas kopā | F43: =SUM(F11:F41) | H43: =SUMPRODUCT(--ISNUMBER(I11:I41),H11:H41) | I43: =SUM(I11:I41)
A44: Mēneša kopsavilkums | G44: Prombūtnes dienas
A45: Nostrādātās stundas | F45: =F43 | G45: Atvaļinājums | H45: =COUNTIF($G$11:$G$41,G45)
A46: Ieskaitītās prombūtnes stundas | F46: =I43-F43+SUMPRODUCT(--ISNUMBER(I11:I41),H11:H41) | G46: Slimība | H46: =COUNTIF($G$11:$G$41,G46)
A47: Normas stundas | F47: =SUMPRODUCT(--ISNUMBER(I11:I41),H11:H41) | G47: Svētku diena | H47: =COUNTIF($G$11:$G$41,G47)
A48: Mēneša atlikums | F48: =I43 | G48: Cita apmaksāta prombūtne | H48: =COUNTIF($G$11:$G$41,G48)
A49: Pārnestais atlikums (h) | F49: =N(H5) | G49: Bezalgas atvaļinājums | H49: =COUNTIF($G$11:$G$41,G49)
A50: Nostrādātās dienas | F50: =COUNT(F11:F41)
A51: Pārnesamais atlikums | F51: =I43+N(H5)
A54: Darbinieka paraksts un datums | G54: Vadītāja paraksts un datums
A56: Bezmaksas veidne no EasyHours · easyhours.lv — reģistrējiet darba laiku telefonā vai kopīgā planšetē, nevis uz papīra.
